BEGIN:VCALENDAR
VERSION:2.0
PRODID:-//Destination Bedford - ECPv6.8.3//NONSGML v1.0//EN
CALSCALE:GREGORIAN
METHOD:PUBLISH
X-ORIGINAL-URL:https://destinationbedfordva.com
X-WR-CALDESC:Events for Destination Bedford
REFRESH-INTERVAL;VALUE=DURATION:PT1H
X-Robots-Tag:noindex
X-PUBLISHED-TTL:PT1H
BEGIN:VTIMEZONE
TZID:America/New_York
BEGIN:DAYLIGHT
TZOFFSETFROM:-0500
TZOFFSETTO:-0400
TZNAME:EDT
DTSTART:20230312T070000
END:DAYLIGHT
BEGIN:STANDARD
TZOFFSETFROM:-0400
TZOFFSETTO:-0500
TZNAME:EST
DTSTART:20231105T060000
END:STANDARD
BEGIN:DAYLIGHT
TZOFFSETFROM:-0500
TZOFFSETTO:-0400
TZNAME:EDT
DTSTART:20240310T070000
END:DAYLIGHT
BEGIN:STANDARD
TZOFFSETFROM:-0400
TZOFFSETTO:-0500
TZNAME:EST
DTSTART:20241103T060000
END:STANDARD
END:VTIMEZONE
BEGIN:VEVENT
DTSTART;TZID=America/New_York:20240813T180000
DTEND;TZID=America/New_York:20240813T194500
DTSTAMP:20260423T034446
CREATED:20240605T142400Z
LAST-MODIFIED:20240605T142831Z
UID:10055117-1723572000-1723578300@destinationbedfordva.com
SUMMARY:Survival 101 Skill Clinic
DESCRIPTION:This is a series of FREE family friendly skill clinics to learn outdoor skills! \nAll ages and skill levels are encouraged to participate!\nWhether you are a casual hiker\, weekend warrior\, or serious outdoorsmen\, live in the country or the city\, these soft and hard skills are universal to survive and thrive in any given scenario\, whether it be just daily living\, recreational camping\, or wilderness survival.\nWe will meet at Independence Park in Bedford at the main shelter. The session will start at 6:00pm\, feel free to come early and eat dinner and explore the park beforehand.\nSome of the topics they will cover:\nH2O and human health/nutrition\nsurvival situations and terrain\nWater sources\nWater filtration methods\nChemical\nCartridge filters\nSolar\nPlants\nPros and cons of each\nWater storage\n \nThese sessions are led by Lee Wittekind\, Bedford Co. Parks and Rec’s Outdoor Event and Outreach Coordinator.
URL:https://destinationbedfordva.com/event/survival-101-skill-clinic/2024-08-13/
LOCATION:Independence Park\, 1172 Venhorst Drive\, Bedford\, Va\, 24523
ATTACH;FMTTYPE=image/jpeg:https://destinationbedfordva.com/wp-content/uploads/2024/06/outdoor-adventures-2024.jpg
END:VEVENT
BEGIN:VEVENT
DTSTART;TZID=America/New_York:20240709T180000
DTEND;TZID=America/New_York:20240709T194500
DTSTAMP:20260423T034446
CREATED:20240605T142400Z
LAST-MODIFIED:20240605T142831Z
UID:10055116-1720548000-1720554300@destinationbedfordva.com
SUMMARY:Survival 101 Skill Clinic
DESCRIPTION:This is a series of FREE family friendly skill clinics to learn outdoor skills! \nAll ages and skill levels are encouraged to participate!\nWhether you are a casual hiker\, weekend warrior\, or serious outdoorsmen\, live in the country or the city\, these soft and hard skills are universal to survive and thrive in any given scenario\, whether it be just daily living\, recreational camping\, or wilderness survival.\nWe will meet at Independence Park in Bedford at the main shelter. The session will start at 6:00pm\, feel free to come early and eat dinner and explore the park beforehand.\nSome of the topics they will cover:\nH2O and human health/nutrition\nsurvival situations and terrain\nWater sources\nWater filtration methods\nChemical\nCartridge filters\nSolar\nPlants\nPros and cons of each\nWater storage\n \nThese sessions are led by Lee Wittekind\, Bedford Co. Parks and Rec’s Outdoor Event and Outreach Coordinator.
URL:https://destinationbedfordva.com/event/survival-101-skill-clinic/2024-07-09/
LOCATION:Independence Park\, 1172 Venhorst Drive\, Bedford\, Va\, 24523
ATTACH;FMTTYPE=image/jpeg:https://destinationbedfordva.com/wp-content/uploads/2024/06/outdoor-adventures-2024.jpg
END:VEVENT
BEGIN:VEVENT
DTSTART;TZID=America/New_York:20240611T180000
DTEND;TZID=America/New_York:20240611T194500
DTSTAMP:20260423T034446
CREATED:20240605T142400Z
LAST-MODIFIED:20240605T142831Z
UID:10055115-1718128800-1718135100@destinationbedfordva.com
SUMMARY:Survival 101 Skill Clinic
DESCRIPTION:This is a series of FREE family friendly skill clinics to learn outdoor skills! \nAll ages and skill levels are encouraged to participate!\nWhether you are a casual hiker\, weekend warrior\, or serious outdoorsmen\, live in the country or the city\, these soft and hard skills are universal to survive and thrive in any given scenario\, whether it be just daily living\, recreational camping\, or wilderness survival.\nWe will meet at Independence Park in Bedford at the main shelter. The session will start at 6:00pm\, feel free to come early and eat dinner and explore the park beforehand.\nSome of the topics they will cover:\nH2O and human health/nutrition\nsurvival situations and terrain\nWater sources\nWater filtration methods\nChemical\nCartridge filters\nSolar\nPlants\nPros and cons of each\nWater storage\n \nThese sessions are led by Lee Wittekind\, Bedford Co. Parks and Rec’s Outdoor Event and Outreach Coordinator.
URL:https://destinationbedfordva.com/event/survival-101-skill-clinic/2024-06-11/
LOCATION:Independence Park\, 1172 Venhorst Drive\, Bedford\, Va\, 24523
ATTACH;FMTTYPE=image/jpeg:https://destinationbedfordva.com/wp-content/uploads/2024/06/outdoor-adventures-2024.jpg
END:VEVENT
BEGIN:VEVENT
DTSTART;TZID=America/New_York:20230817T180000
DTEND;TZID=America/New_York:20230817T200000
DTSTAMP:20260423T034446
CREATED:20230724T145911Z
LAST-MODIFIED:20230724T145911Z
UID:10053174-1692295200-1692302400@destinationbedfordva.com
SUMMARY:Adventure Skill Clinic
DESCRIPTION:Survival skills\, equipment choice\, grit\, and a will to live can be the difference it takes to make it through a survival scenario. Whether you are a novice or serious prepper\, live alone or with a family\, in the country or the city\, these soft and hard skills are mandatory and universal for all survival scenarios from getting lost in the wilderness to the zombie apocalypse.\nThis session is led by Lee Wittekind\, Bedford Co. Parks and Rec’s Outdoor Event and Outreach Coordinator.\nWe will meet in the shelter by the ponds and have a potluck style dinner starting at 6pm (bring a main or side dish to share and plates\, cups\, and silverware for yourselves).\nplease bring any gear you would like to share or swap with others! 
URL:https://destinationbedfordva.com/event/adventure-skill-clinic-2/
LOCATION:Independence Park\, 1172 Venhorst Drive\, Bedford\, Va\, 24523
ATTACH;FMTTYPE=image/jpeg:https://destinationbedfordva.com/wp-content/uploads/2023/07/TRIBE.jpg
END:VEVENT
BEGIN:VEVENT
DTSTART;TZID=America/New_York:20230520T080000
DTEND;TZID=America/New_York:20230520T150000
DTSTAMP:20260423T034446
CREATED:20230511T182157Z
LAST-MODIFIED:20230511T182157Z
UID:10052046-1684569600-1684594800@destinationbedfordva.com
SUMMARY:Armed Forces Appreciation Day Fishing
DESCRIPTION:*This event is for service members only!  \nCome fishing (fly or regular) with Project Healing Waters and Taletellers Fly Shop at Independence Park! Fishing will start at 8am with the option to also play disc golf or go hiking as well. There is handicap assessible fishing available and two ponds to choose from with bass\, Blue gill\, and carp. There will be a catered lunch and door prizes for some sweet outdoor gear! This is a free event designed to give service members a great day outdoors together. Register using the link below. https://www.runreg.com/armed-forces-appreciation-day
URL:https://destinationbedfordva.com/event/armed-forces-appreciation-day-fishing/
LOCATION:Independence Park\, 1172 Venhorst Drive\, Bedford\, Va\, 24523
ATTACH;FMTTYPE=image/png:https://destinationbedfordva.com/wp-content/uploads/2023/05/May-20th-event.png
END:VEVENT
BEGIN:VEVENT
DTSTART;TZID=America/New_York:20230225T130000
DTEND;TZID=America/New_York:20230225T150000
DTSTAMP:20260423T034446
CREATED:20221208T164310Z
LAST-MODIFIED:20221208T164310Z
UID:10050467-1677330000-1677337200@destinationbedfordva.com
SUMMARY:Winter Trail Running Series
DESCRIPTION:This Winter Tail Running Series is hosted by Bedford County Parks and Recreation.\nGrab your running shoes and check out all the information below! \nClick here to register and to learn more. \n \n\n\nTRX #1- January 1st\, Sunday\, New London Tech Trails\, 1:01pm Start – DAY 1 RUN https://www.runreg.com/trail-cross-trx\n\n\nTRX #2- January 21st\, Saturday\, Falling Creek Park\, 1:01pm Start\nhttps://www.runreg.com/trail-cross-trx-2023\n\n\nTRX #3- February 3rd\, Friday\, Falling Creek Park\, 8:08pm Start – FRIDAY NIGHT LIGHTS *Headlamps required\, it is recommended to bring multiple headlights and/or hand lights as back up.\nhttps://www.runreg.com/trail-cross-trx-3\n\n\nTRX #4- February 25th\, Saturday\, Independence Park\, 1:01pm Start\nCHAMPIONSHIP RACE https://www.runreg.com/trail-cross-trx-3-2023\n\n\n$20 per race (Finisher Medal + T-SHIRT first come first serve)\,\n\n\n$60 for Entire Series click below (1 FREE RACE + T-SHIRT + Finisher Medal)\n\n\nhttps://www.runreg.com/trail-cross-trx-2023-jan-1
URL:https://destinationbedfordva.com/event/winter-trail-running-series-4/
LOCATION:Independence Park\, 1172 Venhorst Drive\, Bedford\, Va\, 24523
ATTACH;FMTTYPE=image/jpeg:https://destinationbedfordva.com/wp-content/uploads/2022/12/TRX.jpg
END:VEVENT
END:VCALENDAR