BEGIN:VCALENDAR
VERSION:2.0
PRODID:-//Destination Bedford - ECPv6.8.3//NONSGML v1.0//EN
CALSCALE:GREGORIAN
METHOD:PUBLISH
X-WR-CALNAME:Destination Bedford
X-ORIGINAL-URL:https://destinationbedfordva.com
X-WR-CALDESC:Events for Destination Bedford
REFRESH-INTERVAL;VALUE=DURATION:PT1H
X-Robots-Tag:noindex
X-PUBLISHED-TTL:PT1H
BEGIN:VTIMEZONE
TZID:America/New_York
BEGIN:DAYLIGHT
TZOFFSETFROM:-0500
TZOFFSETTO:-0400
TZNAME:EDT
DTSTART:20180311T070000
END:DAYLIGHT
BEGIN:STANDARD
TZOFFSETFROM:-0400
TZOFFSETTO:-0500
TZNAME:EST
DTSTART:20181104T060000
END:STANDARD
BEGIN:DAYLIGHT
TZOFFSETFROM:-0500
TZOFFSETTO:-0400
TZNAME:EDT
DTSTART:20190310T070000
END:DAYLIGHT
BEGIN:STANDARD
TZOFFSETFROM:-0400
TZOFFSETTO:-0500
TZNAME:EST
DTSTART:20191103T060000
END:STANDARD
BEGIN:DAYLIGHT
TZOFFSETFROM:-0500
TZOFFSETTO:-0400
TZNAME:EDT
DTSTART:20200308T070000
END:DAYLIGHT
BEGIN:STANDARD
TZOFFSETFROM:-0400
TZOFFSETTO:-0500
TZNAME:EST
DTSTART:20201101T060000
END:STANDARD
BEGIN:DAYLIGHT
TZOFFSETFROM:-0500
TZOFFSETTO:-0400
TZNAME:EDT
DTSTART:20210314T070000
END:DAYLIGHT
BEGIN:STANDARD
TZOFFSETFROM:-0400
TZOFFSETTO:-0500
TZNAME:EST
DTSTART:20211107T060000
END:STANDARD
BEGIN:DAYLIGHT
TZOFFSETFROM:-0500
TZOFFSETTO:-0400
TZNAME:EDT
DTSTART:20220313T070000
END:DAYLIGHT
BEGIN:STANDARD
TZOFFSETFROM:-0400
TZOFFSETTO:-0500
TZNAME:EST
DTSTART:20221106T060000
END:STANDARD
BEGIN:DAYLIGHT
TZOFFSETFROM:-0500
TZOFFSETTO:-0400
TZNAME:EDT
DTSTART:20230312T070000
END:DAYLIGHT
BEGIN:STANDARD
TZOFFSETFROM:-0400
TZOFFSETTO:-0500
TZNAME:EST
DTSTART:20231105T060000
END:STANDARD
END:VTIMEZONE
BEGIN:VEVENT
DTSTART;TZID=America/New_York:20230715T120000
DTEND;TZID=America/New_York:20230715T140000
DTSTAMP:20260420T155523
CREATED:20230713T195358Z
LAST-MODIFIED:20230713T195358Z
UID:10053126-1689422400-1689429600@destinationbedfordva.com
SUMMARY:SML Pirate Days
DESCRIPTION: Several restaurants and businesses at Smith Mountain Lake will be having events for SML Pirate Days including Jake’s Place! Below is the list of events for each day!  \n\n \nThursday pirate trivia 7pm (bar area 18yrs & up)\nFriday pirate costume contest 6pm to 9pm (bar area 18yrs & up)\n\n\nSaturday 12pm Battle in the cove!
URL:https://destinationbedfordva.com/event/sml-pirate-days/2023-07-15/
LOCATION:Jake’s Place\, 1041 Harbour Inn Lane\, Moneta\, VA\, 24121\, United States
ATTACH;FMTTYPE=image/jpeg:https://destinationbedfordva.com/wp-content/uploads/2023/07/jakes-place-2.jpg
END:VEVENT
BEGIN:VEVENT
DTSTART;TZID=America/New_York:20230714T180000
DTEND;TZID=America/New_York:20230714T210000
DTSTAMP:20260420T155523
CREATED:20230713T195358Z
LAST-MODIFIED:20230713T195358Z
UID:10053125-1689357600-1689368400@destinationbedfordva.com
SUMMARY:SML Pirate Days
DESCRIPTION: Several restaurants and businesses at Smith Mountain Lake will be having events for SML Pirate Days including Jake’s Place! Below is the list of events for each day!  \n\n \nThursday pirate trivia 7pm (bar area 18yrs & up)\nFriday pirate costume contest 6pm to 9pm (bar area 18yrs & up)\n\n\nSaturday 12pm Battle in the cove!
URL:https://destinationbedfordva.com/event/sml-pirate-days/2023-07-14/
LOCATION:Jake’s Place\, 1041 Harbour Inn Lane\, Moneta\, VA\, 24121\, United States
ATTACH;FMTTYPE=image/jpeg:https://destinationbedfordva.com/wp-content/uploads/2023/07/jakes-place-2.jpg
END:VEVENT
BEGIN:VEVENT
DTSTART;TZID=America/New_York:20230713T190000
DTEND;TZID=America/New_York:20230713T210000
DTSTAMP:20260420T155523
CREATED:20230713T195358Z
LAST-MODIFIED:20230713T195358Z
UID:10053124-1689274800-1689282000@destinationbedfordva.com
SUMMARY:SML Pirate Days
DESCRIPTION: Several restaurants and businesses at Smith Mountain Lake will be having events for SML Pirate Days including Jake’s Place! Below is the list of events for each day!  \n\n \nThursday pirate trivia 7pm (bar area 18yrs & up)\nFriday pirate costume contest 6pm to 9pm (bar area 18yrs & up)\n\n\nSaturday 12pm Battle in the cove!
URL:https://destinationbedfordva.com/event/sml-pirate-days/2023-07-13/
LOCATION:Jake’s Place\, 1041 Harbour Inn Lane\, Moneta\, VA\, 24121\, United States
ATTACH;FMTTYPE=image/jpeg:https://destinationbedfordva.com/wp-content/uploads/2023/07/jakes-place-2.jpg
END:VEVENT
BEGIN:VEVENT
DTSTART;TZID=America/New_York:20200715T000000
DTEND;TZID=America/New_York:20200719T000000
DTSTAMP:20260420T155523
CREATED:20200708T135414Z
LAST-MODIFIED:20200715T134938Z
UID:10048007-1594771200-1595116800@destinationbedfordva.com
SUMMARY:Pirate Week at Jake's Place
DESCRIPTION:Come out and enjoy Smith Mountain Lake Pirate Week at Jake’s Place!   \nJake’s Place will be open:\nWednesday – 12 to 9pm\nThursday – 12 to 9pm ~ Pirate Trivia in the bar (18 and older)\nFriday –  12 to 10pm ~ Pirate Costume Contest\nSaturday – 11am to 10pm ~ (reservations accepted at 11am) Anyone wanting a reservation for Saturday must contact Jakes via private message or email.\nSunday – 12 to 4pm  \n*Please keep in mind that we must adhere to social distancing & other CDC guidelines.
URL:https://destinationbedfordva.com/event/pirate-weekend-at-jakes-place/
LOCATION:Jake’s Place\, 1041 Harbour Inn Lane\, Moneta\, VA\, 24121\, United States
ATTACH;FMTTYPE=image/jpeg:https://destinationbedfordva.com/wp-content/uploads/2020/07/Jakes-Place-Pirate-Weekend.jpg
END:VEVENT
BEGIN:VEVENT
DTSTART;TZID=America/New_York:20191214T180000
DTEND;TZID=America/New_York:20191214T210000
DTSTAMP:20260420T155523
CREATED:20191127T161714Z
LAST-MODIFIED:20191127T161714Z
UID:10047677-1576346400-1576357200@destinationbedfordva.com
SUMMARY:2nd Annual Ugly Christmas Sweater Party!
DESCRIPTION:Let’s get our UGLY on!! The uglier sweater the better\, prizes for best sweater!! Food & drink specials!!
URL:https://destinationbedfordva.com/event/2nd-annual-ugly-christmas-sweater-party/
LOCATION:Jake’s Place\, 1041 Harbour Inn Lane\, Moneta\, VA\, 24121\, United States
END:VEVENT
BEGIN:VEVENT
DTSTART;TZID=America/New_York:20181106T180000
DTEND;TZID=America/New_York:20181106T210000
DTSTAMP:20260420T155523
CREATED:20181010T142827Z
LAST-MODIFIED:20181010T142827Z
UID:10046732-1541527200-1541538000@destinationbedfordva.com
SUMMARY:Trapezium Beer Dinner at Jake's Place
DESCRIPTION:4 courses and 4 beers paired together!!\nReservations required.
URL:https://destinationbedfordva.com/event/trapezium-beer-dinner-at-jakes-place-2/
LOCATION:Jake’s Place\, 1041 Harbour Inn Lane\, Moneta\, VA\, 24121\, United States
END:VEVENT
END:VCALENDAR