BEGIN:VCALENDAR
VERSION:2.0
PRODID:-//Destination Bedford - ECPv6.8.3//NONSGML v1.0//EN
CALSCALE:GREGORIAN
METHOD:PUBLISH
X-WR-CALNAME:Destination Bedford
X-ORIGINAL-URL:https://destinationbedfordva.com
X-WR-CALDESC:Events for Destination Bedford
REFRESH-INTERVAL;VALUE=DURATION:PT1H
X-Robots-Tag:noindex
X-PUBLISHED-TTL:PT1H
BEGIN:VTIMEZONE
TZID:America/New_York
BEGIN:DAYLIGHT
TZOFFSETFROM:-0500
TZOFFSETTO:-0400
TZNAME:EDT
DTSTART:20200308T070000
END:DAYLIGHT
BEGIN:STANDARD
TZOFFSETFROM:-0400
TZOFFSETTO:-0500
TZNAME:EST
DTSTART:20201101T060000
END:STANDARD
BEGIN:DAYLIGHT
TZOFFSETFROM:-0500
TZOFFSETTO:-0400
TZNAME:EDT
DTSTART:20210314T070000
END:DAYLIGHT
BEGIN:STANDARD
TZOFFSETFROM:-0400
TZOFFSETTO:-0500
TZNAME:EST
DTSTART:20211107T060000
END:STANDARD
BEGIN:DAYLIGHT
TZOFFSETFROM:-0500
TZOFFSETTO:-0400
TZNAME:EDT
DTSTART:20220313T070000
END:DAYLIGHT
BEGIN:STANDARD
TZOFFSETFROM:-0400
TZOFFSETTO:-0500
TZNAME:EST
DTSTART:20221106T060000
END:STANDARD
BEGIN:DAYLIGHT
TZOFFSETFROM:-0500
TZOFFSETTO:-0400
TZNAME:EDT
DTSTART:20230312T070000
END:DAYLIGHT
BEGIN:STANDARD
TZOFFSETFROM:-0400
TZOFFSETTO:-0500
TZNAME:EST
DTSTART:20231105T060000
END:STANDARD
BEGIN:DAYLIGHT
TZOFFSETFROM:-0500
TZOFFSETTO:-0400
TZNAME:EDT
DTSTART:20240310T070000
END:DAYLIGHT
BEGIN:STANDARD
TZOFFSETFROM:-0400
TZOFFSETTO:-0500
TZNAME:EST
DTSTART:20241103T060000
END:STANDARD
BEGIN:DAYLIGHT
TZOFFSETFROM:-0500
TZOFFSETTO:-0400
TZNAME:EDT
DTSTART:20250309T070000
END:DAYLIGHT
BEGIN:STANDARD
TZOFFSETFROM:-0400
TZOFFSETTO:-0500
TZNAME:EST
DTSTART:20251102T060000
END:STANDARD
END:VTIMEZONE
BEGIN:VEVENT
DTSTART;TZID=America/New_York:20250510T193000
DTEND;TZID=America/New_York:20250510T213000
DTSTAMP:20260421T014301
CREATED:20250508T183923Z
LAST-MODIFIED:20250508T183923Z
UID:10059637-1746905400-1746912600@destinationbedfordva.com
SUMMARY:BCO Spring Concert
DESCRIPTION:Enjoy the sounds of a live orchestral concert with the Bedford Community Orchestra!\nSuggested Donation $15/adults | $10/students\nwww.BedfordCommOrch.org
URL:https://destinationbedfordva.com/event/bco-spring-concert/
LOCATION:Liberty High School\, 100 Liberty Minuteman Drive\, Bedford \, VA\, 24523\, United States
ATTACH;FMTTYPE=image/jpeg:https://destinationbedfordva.com/wp-content/uploads/2025/05/BCO-Spring-Concert.jpg
GEO:37.3722255;-79.4961976
X-APPLE-STRUCTURED-LOCATION;VALUE=URI;X-ADDRESS=Liberty High School 100 Liberty Minuteman Drive Bedford  VA 24523 United States;X-APPLE-RADIUS=500;X-TITLE=100 Liberty Minuteman Drive:geo:-79.4961976,37.3722255
END:VEVENT
BEGIN:VEVENT
DTSTART;TZID=America/New_York:20250504T150000
DTEND;TZID=America/New_York:20250504T170000
DTSTAMP:20260421T014301
CREATED:20250319T141420Z
LAST-MODIFIED:20250319T141420Z
UID:10059380-1746370800-1746378000@destinationbedfordva.com
SUMMARY:Seussical the Musical
DESCRIPTION:Come see Seussical the Musical\, based on the works of Dr. Seuss\, presented by Liberty High School Performing Arts!  \nClick here for tickets and more information. 
URL:https://destinationbedfordva.com/event/seussical-the-musical/2025-05-04/
LOCATION:Liberty High School\, 100 Liberty Minuteman Drive\, Bedford \, VA\, 24523\, United States
ATTACH;FMTTYPE=image/jpeg:https://destinationbedfordva.com/wp-content/uploads/2025/03/Seussical.jpg
GEO:37.3722255;-79.4961976
X-APPLE-STRUCTURED-LOCATION;VALUE=URI;X-ADDRESS=Liberty High School 100 Liberty Minuteman Drive Bedford  VA 24523 United States;X-APPLE-RADIUS=500;X-TITLE=100 Liberty Minuteman Drive:geo:-79.4961976,37.3722255
END:VEVENT
BEGIN:VEVENT
DTSTART;TZID=America/New_York:20250503T190000
DTEND;TZID=America/New_York:20250503T210000
DTSTAMP:20260421T014301
CREATED:20250319T141420Z
LAST-MODIFIED:20250319T141420Z
UID:10059379-1746298800-1746306000@destinationbedfordva.com
SUMMARY:Seussical the Musical
DESCRIPTION:Come see Seussical the Musical\, based on the works of Dr. Seuss\, presented by Liberty High School Performing Arts!  \nClick here for tickets and more information. 
URL:https://destinationbedfordva.com/event/seussical-the-musical/2025-05-03/
LOCATION:Liberty High School\, 100 Liberty Minuteman Drive\, Bedford \, VA\, 24523\, United States
ATTACH;FMTTYPE=image/jpeg:https://destinationbedfordva.com/wp-content/uploads/2025/03/Seussical.jpg
GEO:37.3722255;-79.4961976
X-APPLE-STRUCTURED-LOCATION;VALUE=URI;X-ADDRESS=Liberty High School 100 Liberty Minuteman Drive Bedford  VA 24523 United States;X-APPLE-RADIUS=500;X-TITLE=100 Liberty Minuteman Drive:geo:-79.4961976,37.3722255
END:VEVENT
BEGIN:VEVENT
DTSTART;TZID=America/New_York:20250502T190000
DTEND;TZID=America/New_York:20250502T210000
DTSTAMP:20260421T014301
CREATED:20250319T141420Z
LAST-MODIFIED:20250319T141420Z
UID:10059378-1746212400-1746219600@destinationbedfordva.com
SUMMARY:Seussical the Musical
DESCRIPTION:Come see Seussical the Musical\, based on the works of Dr. Seuss\, presented by Liberty High School Performing Arts!  \nClick here for tickets and more information. 
URL:https://destinationbedfordva.com/event/seussical-the-musical/2025-05-02/
LOCATION:Liberty High School\, 100 Liberty Minuteman Drive\, Bedford \, VA\, 24523\, United States
ATTACH;FMTTYPE=image/jpeg:https://destinationbedfordva.com/wp-content/uploads/2025/03/Seussical.jpg
GEO:37.3722255;-79.4961976
X-APPLE-STRUCTURED-LOCATION;VALUE=URI;X-ADDRESS=Liberty High School 100 Liberty Minuteman Drive Bedford  VA 24523 United States;X-APPLE-RADIUS=500;X-TITLE=100 Liberty Minuteman Drive:geo:-79.4961976,37.3722255
END:VEVENT
BEGIN:VEVENT
DTSTART;TZID=America/New_York:20241214T190000
DTEND;TZID=America/New_York:20241214T200000
DTSTAMP:20260421T014301
CREATED:20241213T200142Z
LAST-MODIFIED:20241213T200142Z
UID:10056081-1734202800-1734206400@destinationbedfordva.com
SUMMARY:Liberty High School Performing Arts
DESCRIPTION:LHS Performing Arts presents Rudolph the Red Nose\nReindeer Jr.\, the musical! Tickets: $12 at the door.
URL:https://destinationbedfordva.com/event/liberty-high-school-performing-arts-2/
LOCATION:Liberty High School\, 100 Liberty Minuteman Drive\, Bedford \, VA\, 24523\, United States
GEO:37.3722255;-79.4961976
X-APPLE-STRUCTURED-LOCATION;VALUE=URI;X-ADDRESS=Liberty High School 100 Liberty Minuteman Drive Bedford  VA 24523 United States;X-APPLE-RADIUS=500;X-TITLE=100 Liberty Minuteman Drive:geo:-79.4961976,37.3722255
END:VEVENT
BEGIN:VEVENT
DTSTART;TZID=America/New_York:20241213T190000
DTEND;TZID=America/New_York:20241213T200000
DTSTAMP:20260421T014301
CREATED:20241213T194940Z
LAST-MODIFIED:20241213T194940Z
UID:10056068-1734116400-1734120000@destinationbedfordva.com
SUMMARY:Liberty High School Performing Arts
DESCRIPTION:LHS Performing Arts presents Rudolph the Red Nose\nReindeer Jr.\, the musical! Tickets: $12 at the door.
URL:https://destinationbedfordva.com/event/liberty-high-school-performing-arts/
LOCATION:Liberty High School\, 100 Liberty Minuteman Drive\, Bedford \, VA\, 24523\, United States
GEO:37.3722255;-79.4961976
X-APPLE-STRUCTURED-LOCATION;VALUE=URI;X-ADDRESS=Liberty High School 100 Liberty Minuteman Drive Bedford  VA 24523 United States;X-APPLE-RADIUS=500;X-TITLE=100 Liberty Minuteman Drive:geo:-79.4961976,37.3722255
END:VEVENT
BEGIN:VEVENT
DTSTART;TZID=America/New_York:20241123T193000
DTEND;TZID=America/New_York:20241123T213000
DTSTAMP:20260421T014301
CREATED:20241030T203100Z
LAST-MODIFIED:20241030T203303Z
UID:10056048-1732390200-1732397400@destinationbedfordva.com
SUMMARY:Bedford Community Orchestra Fall Concert
DESCRIPTION:Come out for an evening of exciting live music with the BCO! Suggested donation $15/person\, $10/under 10. More info to come!!!
URL:https://destinationbedfordva.com/event/bedford-community-orchestra-fall-concert-4/
LOCATION:Liberty High School\, 100 Liberty Minuteman Drive\, Bedford \, VA\, 24523\, United States
ATTACH;FMTTYPE=image/jpeg:https://destinationbedfordva.com/wp-content/uploads/2024/10/fall-concert-2024.jpg
GEO:37.3722255;-79.4961976
X-APPLE-STRUCTURED-LOCATION;VALUE=URI;X-ADDRESS=Liberty High School 100 Liberty Minuteman Drive Bedford  VA 24523 United States;X-APPLE-RADIUS=500;X-TITLE=100 Liberty Minuteman Drive:geo:-79.4961976,37.3722255
END:VEVENT
BEGIN:VEVENT
DTSTART;TZID=America/New_York:20240511T193000
DTEND;TZID=America/New_York:20240511T210000
DTSTAMP:20260421T014301
CREATED:20240327T203013Z
LAST-MODIFIED:20240327T203013Z
UID:10054368-1715455800-1715461200@destinationbedfordva.com
SUMMARY:Bedford Community Orchestra Spring Concert
DESCRIPTION:Enjoy the sounds of a live orchestra concert with the Bedford Community Orchestra’s “View from Space” featuring music from Star Trek\, Star Wars\, Clair de Lune\, Moon River\, Glenn Miller’s Moonlight Serenade\, music from Apollo 13 and more!!!\nSuggested Donation $15/person\n 
URL:https://destinationbedfordva.com/event/bedford-community-orchestra-spring-concert-3/
LOCATION:Liberty High School\, 100 Liberty Minuteman Drive\, Bedford \, VA\, 24523\, United States
ATTACH;FMTTYPE=image/jpeg:https://destinationbedfordva.com/wp-content/uploads/2024/03/BCO.jpg
GEO:37.3722255;-79.4961976
X-APPLE-STRUCTURED-LOCATION;VALUE=URI;X-ADDRESS=Liberty High School 100 Liberty Minuteman Drive Bedford  VA 24523 United States;X-APPLE-RADIUS=500;X-TITLE=100 Liberty Minuteman Drive:geo:-79.4961976,37.3722255
END:VEVENT
BEGIN:VEVENT
DTSTART;TZID=America/New_York:20231210T150000
DTEND;TZID=America/New_York:20231210T163000
DTSTAMP:20260421T014301
CREATED:20231121T180448Z
LAST-MODIFIED:20231121T180448Z
UID:10054002-1702220400-1702225800@destinationbedfordva.com
SUMMARY:Frozen Jr. Performance
DESCRIPTION:“FROZEN JR.”\nMusic and Lyrics by Kristen Anderson-Lopez and Robert Lopez Book by Jennifer Lee Based on the Disney film written by Jennifer Lee and directed by Chris Buck and Jennifer Lee The enchanting modern classic from Disney based on the 2018 Broadway musical\, and brings Elsa\, Anna\, and the magical land of Arendelle to life\, onstage. A story of true love and acceptance between sisters\, Frozen JR. expands upon the emotional relationship and journey between Princesses Anna and Elsa. When faced with danger\, the two discover their hidden potential and the powerful bond of sisterhood. With a cast of beloved characters and loaded with magic\, adventure\, and plenty of humor\, Frozen JR. is sure to thaw even the coldest heart!\n**Performances\nDecember 8\, 2023 AT 7:00 PM\nDecember 9\, 2023 AT 7:00 PM\nDecember 10\, 2023 AT 3:00 PM\nLiberty High School Auditorium\n**Tickets\nGeneral Admission $12\nhttps://www.showtix4u.com/event-details/75809
URL:https://destinationbedfordva.com/event/frozen-jr-performance/2023-12-10/
LOCATION:Liberty High School\, 100 Liberty Minuteman Drive\, Bedford \, VA\, 24523\, United States
ATTACH;FMTTYPE=image/jpeg:https://destinationbedfordva.com/wp-content/uploads/2023/11/Frozen-jr.jpg
GEO:37.3722255;-79.4961976
X-APPLE-STRUCTURED-LOCATION;VALUE=URI;X-ADDRESS=Liberty High School 100 Liberty Minuteman Drive Bedford  VA 24523 United States;X-APPLE-RADIUS=500;X-TITLE=100 Liberty Minuteman Drive:geo:-79.4961976,37.3722255
END:VEVENT
BEGIN:VEVENT
DTSTART;TZID=America/New_York:20231209T190000
DTEND;TZID=America/New_York:20231209T203000
DTSTAMP:20260421T014301
CREATED:20231121T180448Z
LAST-MODIFIED:20231121T180448Z
UID:10054001-1702148400-1702153800@destinationbedfordva.com
SUMMARY:Frozen Jr. Performance
DESCRIPTION:“FROZEN JR.”\nMusic and Lyrics by Kristen Anderson-Lopez and Robert Lopez Book by Jennifer Lee Based on the Disney film written by Jennifer Lee and directed by Chris Buck and Jennifer Lee The enchanting modern classic from Disney based on the 2018 Broadway musical\, and brings Elsa\, Anna\, and the magical land of Arendelle to life\, onstage. A story of true love and acceptance between sisters\, Frozen JR. expands upon the emotional relationship and journey between Princesses Anna and Elsa. When faced with danger\, the two discover their hidden potential and the powerful bond of sisterhood. With a cast of beloved characters and loaded with magic\, adventure\, and plenty of humor\, Frozen JR. is sure to thaw even the coldest heart!\n**Performances\nDecember 8\, 2023 AT 7:00 PM\nDecember 9\, 2023 AT 7:00 PM\nDecember 10\, 2023 AT 3:00 PM\nLiberty High School Auditorium\n**Tickets\nGeneral Admission $12\nhttps://www.showtix4u.com/event-details/75809
URL:https://destinationbedfordva.com/event/frozen-jr-performance/2023-12-09/
LOCATION:Liberty High School\, 100 Liberty Minuteman Drive\, Bedford \, VA\, 24523\, United States
ATTACH;FMTTYPE=image/jpeg:https://destinationbedfordva.com/wp-content/uploads/2023/11/Frozen-jr.jpg
GEO:37.3722255;-79.4961976
X-APPLE-STRUCTURED-LOCATION;VALUE=URI;X-ADDRESS=Liberty High School 100 Liberty Minuteman Drive Bedford  VA 24523 United States;X-APPLE-RADIUS=500;X-TITLE=100 Liberty Minuteman Drive:geo:-79.4961976,37.3722255
END:VEVENT
BEGIN:VEVENT
DTSTART;TZID=America/New_York:20231208T190000
DTEND;TZID=America/New_York:20231208T203000
DTSTAMP:20260421T014301
CREATED:20231121T180448Z
LAST-MODIFIED:20231121T180448Z
UID:10054000-1702062000-1702067400@destinationbedfordva.com
SUMMARY:Frozen Jr. Performance
DESCRIPTION:“FROZEN JR.”\nMusic and Lyrics by Kristen Anderson-Lopez and Robert Lopez Book by Jennifer Lee Based on the Disney film written by Jennifer Lee and directed by Chris Buck and Jennifer Lee The enchanting modern classic from Disney based on the 2018 Broadway musical\, and brings Elsa\, Anna\, and the magical land of Arendelle to life\, onstage. A story of true love and acceptance between sisters\, Frozen JR. expands upon the emotional relationship and journey between Princesses Anna and Elsa. When faced with danger\, the two discover their hidden potential and the powerful bond of sisterhood. With a cast of beloved characters and loaded with magic\, adventure\, and plenty of humor\, Frozen JR. is sure to thaw even the coldest heart!\n**Performances\nDecember 8\, 2023 AT 7:00 PM\nDecember 9\, 2023 AT 7:00 PM\nDecember 10\, 2023 AT 3:00 PM\nLiberty High School Auditorium\n**Tickets\nGeneral Admission $12\nhttps://www.showtix4u.com/event-details/75809
URL:https://destinationbedfordva.com/event/frozen-jr-performance/2023-12-08/
LOCATION:Liberty High School\, 100 Liberty Minuteman Drive\, Bedford \, VA\, 24523\, United States
ATTACH;FMTTYPE=image/jpeg:https://destinationbedfordva.com/wp-content/uploads/2023/11/Frozen-jr.jpg
GEO:37.3722255;-79.4961976
X-APPLE-STRUCTURED-LOCATION;VALUE=URI;X-ADDRESS=Liberty High School 100 Liberty Minuteman Drive Bedford  VA 24523 United States;X-APPLE-RADIUS=500;X-TITLE=100 Liberty Minuteman Drive:geo:-79.4961976,37.3722255
END:VEVENT
BEGIN:VEVENT
DTSTART;TZID=America/New_York:20231105T170000
DTEND;TZID=America/New_York:20231105T190000
DTSTAMP:20260421T014301
CREATED:20230929T173712Z
LAST-MODIFIED:20230929T173712Z
UID:10053860-1699203600-1699210800@destinationbedfordva.com
SUMMARY:Bedford Community Orchestra Concert
DESCRIPTION:Come out for a “not-so-scary” night of Halloween favorites with the Bedford Community Orchestra! Suggested Donation $15/Adults; $10/Under 12
URL:https://destinationbedfordva.com/event/bedford-community-orchestra-concert-2/
LOCATION:Liberty High School\, 100 Liberty Minuteman Drive\, Bedford \, VA\, 24523\, United States
ATTACH;FMTTYPE=image/jpeg:https://destinationbedfordva.com/wp-content/uploads/2023/09/BCOC.jpg
GEO:37.3722255;-79.4961976
X-APPLE-STRUCTURED-LOCATION;VALUE=URI;X-ADDRESS=Liberty High School 100 Liberty Minuteman Drive Bedford  VA 24523 United States;X-APPLE-RADIUS=500;X-TITLE=100 Liberty Minuteman Drive:geo:-79.4961976,37.3722255
END:VEVENT
BEGIN:VEVENT
DTSTART;TZID=America/New_York:20230624T193000
DTEND;TZID=America/New_York:20230624T213000
DTSTAMP:20260421T014301
CREATED:20230613T145736Z
LAST-MODIFIED:20230613T145736Z
UID:10052210-1687635000-1687642200@destinationbedfordva.com
SUMMARY:Bedford Community Orchestra Concert
DESCRIPTION:Get ready for this awesome Summer concert with the BCO presenting “An American Portrait” at  Liberty High School Auditorium. Suggested Donation: $15/adult\, $10/student.
URL:https://destinationbedfordva.com/event/bedford-community-orchestra-concert/
LOCATION:Liberty High School\, 100 Liberty Minuteman Drive\, Bedford \, VA\, 24523\, United States
ATTACH;FMTTYPE=image/jpeg:https://destinationbedfordva.com/wp-content/uploads/2023/06/Bedford-Community-Orchestra.jpg
GEO:37.3722255;-79.4961976
X-APPLE-STRUCTURED-LOCATION;VALUE=URI;X-ADDRESS=Liberty High School 100 Liberty Minuteman Drive Bedford  VA 24523 United States;X-APPLE-RADIUS=500;X-TITLE=100 Liberty Minuteman Drive:geo:-79.4961976,37.3722255
END:VEVENT
BEGIN:VEVENT
DTSTART;TZID=America/New_York:20230610T100000
DTEND;TZID=America/New_York:20230610T140000
DTSTAMP:20260421T014301
CREATED:20230607T205748Z
LAST-MODIFIED:20230607T205748Z
UID:10052208-1686391200-1686405600@destinationbedfordva.com
SUMMARY:Car Show
DESCRIPTION:Come enjoy this Bedford County Sheriff’s Office – Project Lifesaver Car Show! Proceeds from this event go towards supporting training\, equipment\, and material costs for the Project Lifesaver program here in Bedford County. Project Lifesaver is an international organization that helps to provide families of individuals who have a tendency to wander from home due to a variety of medical conditions\, equipment that can assist first responders in triangulating their location through high frequency transmissions. 
URL:https://destinationbedfordva.com/event/car-show/
LOCATION:Liberty High School\, 100 Liberty Minuteman Drive\, Bedford \, VA\, 24523\, United States
ATTACH;FMTTYPE=image/jpeg:https://destinationbedfordva.com/wp-content/uploads/2023/06/Car-Show-2023.jpg
GEO:37.3722255;-79.4961976
X-APPLE-STRUCTURED-LOCATION;VALUE=URI;X-ADDRESS=Liberty High School 100 Liberty Minuteman Drive Bedford  VA 24523 United States;X-APPLE-RADIUS=500;X-TITLE=100 Liberty Minuteman Drive:geo:-79.4961976,37.3722255
END:VEVENT
BEGIN:VEVENT
DTSTART;TZID=America/New_York:20221218T150000
DTEND;TZID=America/New_York:20221218T170000
DTSTAMP:20260421T014301
CREATED:20221129T213312Z
LAST-MODIFIED:20221130T175240Z
UID:10050457-1671375600-1671382800@destinationbedfordva.com
SUMMARY:A Christmas Carol The Musical
DESCRIPTION:Liberty High School presents “A Christmas Carol the Musical.” A Christmas Carol is a stage musical adaptation of Charles Dickens’ most well-know story\, Ebenezer Scrooge. Performances will be at Liberty School Auditorium. General Admission $12.00. Tickets available online and at the Door!
URL:https://destinationbedfordva.com/event/a-christmas-carol-the-musical/2022-12-18/
LOCATION:Liberty High School\, 100 Liberty Minuteman Drive\, Bedford \, VA\, 24523\, United States
ATTACH;FMTTYPE=image/jpeg:https://destinationbedfordva.com/wp-content/uploads/2022/11/LHS-2.jpg
GEO:37.3722255;-79.4961976
X-APPLE-STRUCTURED-LOCATION;VALUE=URI;X-ADDRESS=Liberty High School 100 Liberty Minuteman Drive Bedford  VA 24523 United States;X-APPLE-RADIUS=500;X-TITLE=100 Liberty Minuteman Drive:geo:-79.4961976,37.3722255
END:VEVENT
BEGIN:VEVENT
DTSTART;TZID=America/New_York:20221217T190000
DTEND;TZID=America/New_York:20221217T210000
DTSTAMP:20260421T014301
CREATED:20221129T213312Z
LAST-MODIFIED:20221130T175240Z
UID:10050456-1671303600-1671310800@destinationbedfordva.com
SUMMARY:A Christmas Carol The Musical
DESCRIPTION:Liberty High School presents “A Christmas Carol the Musical.” A Christmas Carol is a stage musical adaptation of Charles Dickens’ most well-know story\, Ebenezer Scrooge. Performances will be at Liberty School Auditorium. General Admission $12.00. Tickets available online and at the Door!
URL:https://destinationbedfordva.com/event/a-christmas-carol-the-musical/2022-12-17/
LOCATION:Liberty High School\, 100 Liberty Minuteman Drive\, Bedford \, VA\, 24523\, United States
ATTACH;FMTTYPE=image/jpeg:https://destinationbedfordva.com/wp-content/uploads/2022/11/LHS-2.jpg
GEO:37.3722255;-79.4961976
X-APPLE-STRUCTURED-LOCATION;VALUE=URI;X-ADDRESS=Liberty High School 100 Liberty Minuteman Drive Bedford  VA 24523 United States;X-APPLE-RADIUS=500;X-TITLE=100 Liberty Minuteman Drive:geo:-79.4961976,37.3722255
END:VEVENT
BEGIN:VEVENT
DTSTART;TZID=America/New_York:20201121T183000
DTEND;TZID=America/New_York:20201121T193000
DTSTAMP:20260421T014301
CREATED:20201103T144114Z
LAST-MODIFIED:20201119T165647Z
UID:10048387-1605983400-1605987000@destinationbedfordva.com
SUMMARY:The Tempest- Play at Liberty High School
DESCRIPTION:By William Shakespeare\nUnder a sea of stars in the LHS Courtyard\, the year is 1850\, twelve years since Prospero\, the former Duchess of Milan and steampunk inventor extraordinaire\, was exiled to a far-off island by her treacherous sister. Now the fates have aligned\, bringing Prospero’s enemies within the reach of her magic\, and the time is now to conjure up a tempest\, summon old foes\, and settle old scores.\n**$8 General Admission**\n \nWHAT YOU NEED TO KNOW\n**The LHS courtyard is in the middle of campus\, arriving as if you would enter the lobby of the auditorium.\n**Running time is approximately 45 min.\n**Parking will be in the lot adjacent to the auditorium.\n**Handicap seating is available.\n**Seating is on the grass in 8X8 boxes. Please remember to bring your blanket or lawn chairs with you.\n \n** Masks are required upon entry\, exit\, and any time moving about the premises.\n**All tickets are available online at https://bcps.schoolcashonline.com. Limited tickets will be sold at the door.\n 
URL:https://destinationbedfordva.com/event/the-tempest-play-at-liberty-high-school/2020-11-21/
LOCATION:Liberty High School\, 100 Liberty Minuteman Drive\, Bedford \, VA\, 24523\, United States
ATTACH;FMTTYPE=image/jpeg:https://destinationbedfordva.com/wp-content/uploads/2020/11/The-Tempest.jpg
GEO:37.3722255;-79.4961976
X-APPLE-STRUCTURED-LOCATION;VALUE=URI;X-ADDRESS=Liberty High School 100 Liberty Minuteman Drive Bedford  VA 24523 United States;X-APPLE-RADIUS=500;X-TITLE=100 Liberty Minuteman Drive:geo:-79.4961976,37.3722255
END:VEVENT
BEGIN:VEVENT
DTSTART;TZID=America/New_York:20201120T183000
DTEND;TZID=America/New_York:20201120T193000
DTSTAMP:20260421T014301
CREATED:20201103T144114Z
LAST-MODIFIED:20201119T165647Z
UID:10048386-1605897000-1605900600@destinationbedfordva.com
SUMMARY:The Tempest- Play at Liberty High School
DESCRIPTION:By William Shakespeare\nUnder a sea of stars in the LHS Courtyard\, the year is 1850\, twelve years since Prospero\, the former Duchess of Milan and steampunk inventor extraordinaire\, was exiled to a far-off island by her treacherous sister. Now the fates have aligned\, bringing Prospero’s enemies within the reach of her magic\, and the time is now to conjure up a tempest\, summon old foes\, and settle old scores.\n**$8 General Admission**\n \nWHAT YOU NEED TO KNOW\n**The LHS courtyard is in the middle of campus\, arriving as if you would enter the lobby of the auditorium.\n**Running time is approximately 45 min.\n**Parking will be in the lot adjacent to the auditorium.\n**Handicap seating is available.\n**Seating is on the grass in 8X8 boxes. Please remember to bring your blanket or lawn chairs with you.\n \n** Masks are required upon entry\, exit\, and any time moving about the premises.\n**All tickets are available online at https://bcps.schoolcashonline.com. Limited tickets will be sold at the door.\n 
URL:https://destinationbedfordva.com/event/the-tempest-play-at-liberty-high-school/2020-11-20/
LOCATION:Liberty High School\, 100 Liberty Minuteman Drive\, Bedford \, VA\, 24523\, United States
ATTACH;FMTTYPE=image/jpeg:https://destinationbedfordva.com/wp-content/uploads/2020/11/The-Tempest.jpg
GEO:37.3722255;-79.4961976
X-APPLE-STRUCTURED-LOCATION;VALUE=URI;X-ADDRESS=Liberty High School 100 Liberty Minuteman Drive Bedford  VA 24523 United States;X-APPLE-RADIUS=500;X-TITLE=100 Liberty Minuteman Drive:geo:-79.4961976,37.3722255
END:VEVENT
END:VCALENDAR