BEGIN:VCALENDAR
VERSION:2.0
PRODID:-//Destination Bedford - ECPv6.8.3//NONSGML v1.0//EN
CALSCALE:GREGORIAN
METHOD:PUBLISH
X-ORIGINAL-URL:https://destinationbedfordva.com
X-WR-CALDESC:Events for Destination Bedford
REFRESH-INTERVAL;VALUE=DURATION:PT1H
X-Robots-Tag:noindex
X-PUBLISHED-TTL:PT1H
BEGIN:VTIMEZONE
TZID:America/New_York
BEGIN:DAYLIGHT
TZOFFSETFROM:-0500
TZOFFSETTO:-0400
TZNAME:EDT
DTSTART:20190310T070000
END:DAYLIGHT
BEGIN:STANDARD
TZOFFSETFROM:-0400
TZOFFSETTO:-0500
TZNAME:EST
DTSTART:20191103T060000
END:STANDARD
BEGIN:DAYLIGHT
TZOFFSETFROM:-0500
TZOFFSETTO:-0400
TZNAME:EDT
DTSTART:20200308T070000
END:DAYLIGHT
BEGIN:STANDARD
TZOFFSETFROM:-0400
TZOFFSETTO:-0500
TZNAME:EST
DTSTART:20201101T060000
END:STANDARD
BEGIN:DAYLIGHT
TZOFFSETFROM:-0500
TZOFFSETTO:-0400
TZNAME:EDT
DTSTART:20210314T070000
END:DAYLIGHT
BEGIN:STANDARD
TZOFFSETFROM:-0400
TZOFFSETTO:-0500
TZNAME:EST
DTSTART:20211107T060000
END:STANDARD
BEGIN:DAYLIGHT
TZOFFSETFROM:-0500
TZOFFSETTO:-0400
TZNAME:EDT
DTSTART:20220313T070000
END:DAYLIGHT
BEGIN:STANDARD
TZOFFSETFROM:-0400
TZOFFSETTO:-0500
TZNAME:EST
DTSTART:20221106T060000
END:STANDARD
BEGIN:DAYLIGHT
TZOFFSETFROM:-0500
TZOFFSETTO:-0400
TZNAME:EDT
DTSTART:20230312T070000
END:DAYLIGHT
BEGIN:STANDARD
TZOFFSETFROM:-0400
TZOFFSETTO:-0500
TZNAME:EST
DTSTART:20231105T060000
END:STANDARD
BEGIN:DAYLIGHT
TZOFFSETFROM:-0500
TZOFFSETTO:-0400
TZNAME:EDT
DTSTART:20240310T070000
END:DAYLIGHT
BEGIN:STANDARD
TZOFFSETFROM:-0400
TZOFFSETTO:-0500
TZNAME:EST
DTSTART:20241103T060000
END:STANDARD
BEGIN:DAYLIGHT
TZOFFSETFROM:-0500
TZOFFSETTO:-0400
TZNAME:EDT
DTSTART:20250309T070000
END:DAYLIGHT
BEGIN:STANDARD
TZOFFSETFROM:-0400
TZOFFSETTO:-0500
TZNAME:EST
DTSTART:20251102T060000
END:STANDARD
END:VTIMEZONE
BEGIN:VEVENT
DTSTART;TZID=America/New_York:20251115T090000
DTEND;TZID=America/New_York:20251115T150000
DTSTAMP:20260421T154903
CREATED:20180510T154529Z
LAST-MODIFIED:20250924T142234Z
UID:10046596-1763197200-1763218800@destinationbedfordva.com
SUMMARY:GFWC Bedford Woman's Club Holiday Mart
DESCRIPTION:50th Annual Hand Made Holiday Mart!  \nDo some holiday shopping and bring the kids for a scavenger hunt! \nAdmission is $4 per person. $2 for ages 6-12 and free for under 6.  \n  \n 
URL:https://destinationbedfordva.com/event/gfwc-bedford-womans-club-holiday-mart/
LOCATION:Liberty Middle School\, 1237 Lacey Putney Way\, Bedford\, VA\, 24523\, United States
ATTACH;FMTTYPE=image/jpeg:https://destinationbedfordva.com/wp-content/uploads/2018/05/Holiday-Mart-e1758723711538.jpg
END:VEVENT
BEGIN:VEVENT
DTSTART;TZID=America/New_York:20231118T090000
DTEND;TZID=America/New_York:20231118T160000
DTSTAMP:20260421T154903
CREATED:20230313T203956Z
LAST-MODIFIED:20230313T203956Z
UID:10051663-1700298000-1700323200@destinationbedfordva.com
SUMMARY:BWC 48th Annual Craft Fair
DESCRIPTION:The Bedford Womens Club will host its 48th Annual Craft Fair/Holiday Mart! Click here for more information! 
URL:https://destinationbedfordva.com/event/bwc-48th-annual-craft-fair/
LOCATION:Liberty Middle School\, 1237 Lacey Putney Way\, Bedford\, VA\, 24523\, United States
ATTACH;FMTTYPE=application/pdf:https://destinationbedfordva.com/wp-content/uploads/2023/03/BWC-flyer-2023.pdf
END:VEVENT
BEGIN:VEVENT
DTSTART;TZID=America/New_York:20221119T090000
DTEND;TZID=America/New_York:20221119T160000
DTSTAMP:20260421T154903
CREATED:20221017T194514Z
LAST-MODIFIED:20221017T194514Z
UID:10050126-1668848400-1668873600@destinationbedfordva.com
SUMMARY:Bedford Women's Club Art & Craft Show
DESCRIPTION:Come to Liberty Middle school for this event put on by the GFWC Bedford Women’s Club! The cafeteria\, gymnasium\, and halls of the school will come to life with more than 80 quality exhibitors. All exhibitors are screened to ensure variety\, quality\, and originality of items for sale\, and all merchandise is hand-made. This is one of the oldest established shows in south central Virginia. It has been granted the Silver People’s Choice Award by readers of the Bedford Bulletin for best Annual Event/Festival.  Admission: $3 for adults and children aged 6 and older. Proceeds from admission\, after expenses\, will support community programs and projects. Food will be available for purchase.  \n  \n 
URL:https://destinationbedfordva.com/event/bedford-womens-club-art-craft-show/
LOCATION:Liberty Middle School\, 1237 Lacey Putney Way\, Bedford\, VA\, 24523\, United States
ATTACH;FMTTYPE=image/jpeg:https://destinationbedfordva.com/wp-content/uploads/2022/10/GFWC-Craft-show.jpg
END:VEVENT
BEGIN:VEVENT
DTSTART;TZID=America/New_York:20211120T090000
DTEND;TZID=America/New_York:20211120T160000
DTSTAMP:20260421T154903
CREATED:20211022T205424Z
LAST-MODIFIED:20211025T162905Z
UID:10049225-1637398800-1637424000@destinationbedfordva.com
SUMMARY:Bedford Woman's Club Craft Fair
DESCRIPTION:This is the 46th annual Bedford Woman’s craft fair! Come shop many different vendors and buy lots of neat crafts and decorations for the holiday season!  \nPlenty of free parking at Liberty High School and Middle School’s lots.  Free shuttle bus service between the lots.  $3 admission for ages 6 and up. 
URL:https://destinationbedfordva.com/event/bedford-womans-club-craft-fair/
LOCATION:Liberty Middle School\, 1237 Lacey Putney Way\, Bedford\, VA\, 24523\, United States
ATTACH;FMTTYPE=image/jpeg:https://destinationbedfordva.com/wp-content/uploads/2021/10/craft-fair.jpg
END:VEVENT
BEGIN:VEVENT
DTSTART;TZID=America/New_York:20191116T090000
DTEND;TZID=America/New_York:20191116T160000
DTSTAMP:20260421T154903
CREATED:20191104T203040Z
LAST-MODIFIED:20191104T203040Z
UID:10047525-1573894800-1573920000@destinationbedfordva.com
SUMMARY:45th Annual Craft Fair
DESCRIPTION:GFWC Bedford Woman’s Club presents the 45th Annual Craft Fair. Come explore local craft vendors and enjoy a visit from Santa from 3pm-4pm.
URL:https://destinationbedfordva.com/event/45th-annual-craft-fair/
LOCATION:Liberty Middle School\, 1237 Lacey Putney Way\, Bedford\, VA\, 24523\, United States
END:VEVENT
END:VCALENDAR