BEGIN:VCALENDAR
VERSION:2.0
PRODID:-//Destination Bedford - ECPv6.8.3//NONSGML v1.0//EN
CALSCALE:GREGORIAN
METHOD:PUBLISH
X-ORIGINAL-URL:https://destinationbedfordva.com
X-WR-CALDESC:Events for Destination Bedford
REFRESH-INTERVAL;VALUE=DURATION:PT1H
X-Robots-Tag:noindex
X-PUBLISHED-TTL:PT1H
BEGIN:VTIMEZONE
TZID:America/New_York
BEGIN:DAYLIGHT
TZOFFSETFROM:-0500
TZOFFSETTO:-0400
TZNAME:EDT
DTSTART:20180311T070000
END:DAYLIGHT
BEGIN:STANDARD
TZOFFSETFROM:-0400
TZOFFSETTO:-0500
TZNAME:EST
DTSTART:20181104T060000
END:STANDARD
END:VTIMEZONE
BEGIN:VEVENT
DTSTART;TZID=America/New_York:20180605T184500
DTEND;TZID=America/New_York:20180605T220000
DTSTAMP:20260421T190416
CREATED:20180110T203109Z
LAST-MODIFIED:20180110T203109Z
UID:10046497-1528224300-1528236000@destinationbedfordva.com
SUMMARY:Saving Private Ryan Screening
DESCRIPTION:Following the conclusion of the WWII in Film conference\, there will be a screening and discussion of Saving Private Ryan to commemorate the 20th anniversary of its theatrical release. \nThe screening is free and open to the public\, but tickets will be required for admission. \nFor more information\, visit www.dday.org or call (540) 586-3329.
URL:https://destinationbedfordva.com/event/saving-private-ryan-screening/
LOCATION:Liberty University\, School of Music Concert Hall\, 1971 University Blvd\, Lynchburg\, VA\, United States
END:VEVENT
END:VCALENDAR