BEGIN:VCALENDAR
VERSION:2.0
PRODID:-//Destination Bedford - ECPv6.8.3//NONSGML v1.0//EN
CALSCALE:GREGORIAN
METHOD:PUBLISH
X-ORIGINAL-URL:https://destinationbedfordva.com
X-WR-CALDESC:Events for Destination Bedford
REFRESH-INTERVAL;VALUE=DURATION:PT1H
X-Robots-Tag:noindex
X-PUBLISHED-TTL:PT1H
BEGIN:VTIMEZONE
TZID:America/New_York
BEGIN:DAYLIGHT
TZOFFSETFROM:-0500
TZOFFSETTO:-0400
TZNAME:EDT
DTSTART:20180311T070000
END:DAYLIGHT
BEGIN:STANDARD
TZOFFSETFROM:-0400
TZOFFSETTO:-0500
TZNAME:EST
DTSTART:20181104T060000
END:STANDARD
BEGIN:DAYLIGHT
TZOFFSETFROM:-0500
TZOFFSETTO:-0400
TZNAME:EDT
DTSTART:20190310T070000
END:DAYLIGHT
BEGIN:STANDARD
TZOFFSETFROM:-0400
TZOFFSETTO:-0500
TZNAME:EST
DTSTART:20191103T060000
END:STANDARD
BEGIN:DAYLIGHT
TZOFFSETFROM:-0500
TZOFFSETTO:-0400
TZNAME:EDT
DTSTART:20200308T070000
END:DAYLIGHT
BEGIN:STANDARD
TZOFFSETFROM:-0400
TZOFFSETTO:-0500
TZNAME:EST
DTSTART:20201101T060000
END:STANDARD
BEGIN:DAYLIGHT
TZOFFSETFROM:-0500
TZOFFSETTO:-0400
TZNAME:EDT
DTSTART:20210314T070000
END:DAYLIGHT
BEGIN:STANDARD
TZOFFSETFROM:-0400
TZOFFSETTO:-0500
TZNAME:EST
DTSTART:20211107T060000
END:STANDARD
END:VTIMEZONE
BEGIN:VEVENT
DTSTART;TZID=America/New_York:20210604T193000
DTEND;TZID=America/New_York:20210604T210000
DTSTAMP:20260420T052254
CREATED:20210601T132743Z
LAST-MODIFIED:20210601T132743Z
UID:10048722-1622835000-1622840400@destinationbedfordva.com
SUMMARY:Little Town Players
DESCRIPTION:Celebrating 46 years of live community theater in Bedford! “The 25th Annual Putnam County Spelling Bee” debuts on Friday\, June 4\, and runs June 5\, 6\, 11\, 12\, and 13. The Friday and Saturday shows begin promptly at 7:30 p.m. and the Sunday matinees at 2:00 p.m.  This adult content musical is full of fun and laughter! \nTickets are $15. Call the box office for tickets – (540) 586-5881.
URL:https://destinationbedfordva.com/event/little-town-players-2/2021-06-04/
LOCATION:Little Town Players\, 931 Ashland Avenue\, Bedford\, VA\, 24523\, United States
ATTACH;FMTTYPE=image/jpeg:https://destinationbedfordva.com/wp-content/uploads/2021/06/LTP-Putnam-County-Spelling-Bee.jpg
GEO:37.3434782;-79.5351962
X-APPLE-STRUCTURED-LOCATION;VALUE=URI;X-ADDRESS=Little Town Players 931 Ashland Avenue Bedford VA 24523 United States;X-APPLE-RADIUS=500;X-TITLE=931 Ashland Avenue:geo:-79.5351962,37.3434782
END:VEVENT
BEGIN:VEVENT
DTSTART;TZID=America/New_York:20191117T140000
DTEND;TZID=America/New_York:20191117T160000
DTSTAMP:20260420T052254
CREATED:20191107T191644Z
LAST-MODIFIED:20191107T191644Z
UID:10047538-1573999200-1574006400@destinationbedfordva.com
SUMMARY:Little Town Players
DESCRIPTION:Nov 8\,9\,15\,16 7:30PM  Nov 10\,17 2-4PM\nLittle Town Players presents ” A Grand Night For Singing” and you don’t want to miss it! This play is a musical revue showcasing the music of Richard Rodgers and the lyrics of Oscar Hammerstein II.\nCall 540-586-5881 for tickets or click here.
URL:https://destinationbedfordva.com/event/little-town-players/2019-11-17/
LOCATION:Little Town Players\, 931 Ashland Avenue\, Bedford\, VA\, 24523\, United States
GEO:37.3434782;-79.5351962
X-APPLE-STRUCTURED-LOCATION;VALUE=URI;X-ADDRESS=Little Town Players 931 Ashland Avenue Bedford VA 24523 United States;X-APPLE-RADIUS=500;X-TITLE=931 Ashland Avenue:geo:-79.5351962,37.3434782
END:VEVENT
BEGIN:VEVENT
DTSTART;TZID=America/New_York:20191116T193000
DTEND;TZID=America/New_York:20191116T213000
DTSTAMP:20260420T052254
CREATED:20191107T191644Z
LAST-MODIFIED:20191107T191644Z
UID:10047537-1573932600-1573939800@destinationbedfordva.com
SUMMARY:Little Town Players
DESCRIPTION:Nov 8\,9\,15\,16 7:30PM  Nov 10\,17 2-4PM\nLittle Town Players presents ” A Grand Night For Singing” and you don’t want to miss it! This play is a musical revue showcasing the music of Richard Rodgers and the lyrics of Oscar Hammerstein II.\nCall 540-586-5881 for tickets or click here.
URL:https://destinationbedfordva.com/event/little-town-players/2019-11-16/
LOCATION:Little Town Players\, 931 Ashland Avenue\, Bedford\, VA\, 24523\, United States
GEO:37.3434782;-79.5351962
X-APPLE-STRUCTURED-LOCATION;VALUE=URI;X-ADDRESS=Little Town Players 931 Ashland Avenue Bedford VA 24523 United States;X-APPLE-RADIUS=500;X-TITLE=931 Ashland Avenue:geo:-79.5351962,37.3434782
END:VEVENT
BEGIN:VEVENT
DTSTART;TZID=America/New_York:20191115T193000
DTEND;TZID=America/New_York:20191115T213000
DTSTAMP:20260420T052254
CREATED:20191107T191644Z
LAST-MODIFIED:20191107T191644Z
UID:10047536-1573846200-1573853400@destinationbedfordva.com
SUMMARY:Little Town Players
DESCRIPTION:Nov 8\,9\,15\,16 7:30PM  Nov 10\,17 2-4PM\nLittle Town Players presents ” A Grand Night For Singing” and you don’t want to miss it! This play is a musical revue showcasing the music of Richard Rodgers and the lyrics of Oscar Hammerstein II.\nCall 540-586-5881 for tickets or click here.
URL:https://destinationbedfordva.com/event/little-town-players/2019-11-15/
LOCATION:Little Town Players\, 931 Ashland Avenue\, Bedford\, VA\, 24523\, United States
GEO:37.3434782;-79.5351962
X-APPLE-STRUCTURED-LOCATION;VALUE=URI;X-ADDRESS=Little Town Players 931 Ashland Avenue Bedford VA 24523 United States;X-APPLE-RADIUS=500;X-TITLE=931 Ashland Avenue:geo:-79.5351962,37.3434782
END:VEVENT
BEGIN:VEVENT
DTSTART;TZID=America/New_York:20191110T140000
DTEND;TZID=America/New_York:20191110T160000
DTSTAMP:20260420T052254
CREATED:20191107T191644Z
LAST-MODIFIED:20191107T191644Z
UID:10047535-1573394400-1573401600@destinationbedfordva.com
SUMMARY:Little Town Players
DESCRIPTION:Nov 8\,9\,15\,16 7:30PM  Nov 10\,17 2-4PM\nLittle Town Players presents ” A Grand Night For Singing” and you don’t want to miss it! This play is a musical revue showcasing the music of Richard Rodgers and the lyrics of Oscar Hammerstein II.\nCall 540-586-5881 for tickets or click here.
URL:https://destinationbedfordva.com/event/little-town-players/2019-11-10/
LOCATION:Little Town Players\, 931 Ashland Avenue\, Bedford\, VA\, 24523\, United States
GEO:37.3434782;-79.5351962
X-APPLE-STRUCTURED-LOCATION;VALUE=URI;X-ADDRESS=Little Town Players 931 Ashland Avenue Bedford VA 24523 United States;X-APPLE-RADIUS=500;X-TITLE=931 Ashland Avenue:geo:-79.5351962,37.3434782
END:VEVENT
BEGIN:VEVENT
DTSTART;TZID=America/New_York:20191109T193000
DTEND;TZID=America/New_York:20191109T213000
DTSTAMP:20260420T052254
CREATED:20191107T191644Z
LAST-MODIFIED:20191107T191644Z
UID:10047534-1573327800-1573335000@destinationbedfordva.com
SUMMARY:Little Town Players
DESCRIPTION:Nov 8\,9\,15\,16 7:30PM  Nov 10\,17 2-4PM\nLittle Town Players presents ” A Grand Night For Singing” and you don’t want to miss it! This play is a musical revue showcasing the music of Richard Rodgers and the lyrics of Oscar Hammerstein II.\nCall 540-586-5881 for tickets or click here.
URL:https://destinationbedfordva.com/event/little-town-players/2019-11-09/
LOCATION:Little Town Players\, 931 Ashland Avenue\, Bedford\, VA\, 24523\, United States
GEO:37.3434782;-79.5351962
X-APPLE-STRUCTURED-LOCATION;VALUE=URI;X-ADDRESS=Little Town Players 931 Ashland Avenue Bedford VA 24523 United States;X-APPLE-RADIUS=500;X-TITLE=931 Ashland Avenue:geo:-79.5351962,37.3434782
END:VEVENT
BEGIN:VEVENT
DTSTART;TZID=America/New_York:20191108T193000
DTEND;TZID=America/New_York:20191108T213000
DTSTAMP:20260420T052254
CREATED:20191107T191644Z
LAST-MODIFIED:20191107T191644Z
UID:10047533-1573241400-1573248600@destinationbedfordva.com
SUMMARY:Little Town Players
DESCRIPTION:Nov 8\,9\,15\,16 7:30PM  Nov 10\,17 2-4PM\nLittle Town Players presents ” A Grand Night For Singing” and you don’t want to miss it! This play is a musical revue showcasing the music of Richard Rodgers and the lyrics of Oscar Hammerstein II.\nCall 540-586-5881 for tickets or click here.
URL:https://destinationbedfordva.com/event/little-town-players/2019-11-08/
LOCATION:Little Town Players\, 931 Ashland Avenue\, Bedford\, VA\, 24523\, United States
GEO:37.3434782;-79.5351962
X-APPLE-STRUCTURED-LOCATION;VALUE=URI;X-ADDRESS=Little Town Players 931 Ashland Avenue Bedford VA 24523 United States;X-APPLE-RADIUS=500;X-TITLE=931 Ashland Avenue:geo:-79.5351962,37.3434782
END:VEVENT
BEGIN:VEVENT
DTSTART;TZID=America/New_York:20190915T140000
DTEND;TZID=America/New_York:20190915T160000
DTSTAMP:20260420T052254
CREATED:20190828T202857Z
LAST-MODIFIED:20190828T202857Z
UID:10047429-1568556000-1568563200@destinationbedfordva.com
SUMMARY:The Savannah Sipping Society
DESCRIPTION:Tickets
URL:https://destinationbedfordva.com/event/the-savannah-sipping-society/2019-09-15/
LOCATION:Little Town Players\, 931 Ashland Avenue\, Bedford\, VA\, 24523\, United States
GEO:37.3434782;-79.5351962
X-APPLE-STRUCTURED-LOCATION;VALUE=URI;X-ADDRESS=Little Town Players 931 Ashland Avenue Bedford VA 24523 United States;X-APPLE-RADIUS=500;X-TITLE=931 Ashland Avenue:geo:-79.5351962,37.3434782
END:VEVENT
BEGIN:VEVENT
DTSTART;TZID=America/New_York:20190914T193000
DTEND;TZID=America/New_York:20190914T213000
DTSTAMP:20260420T052254
CREATED:20190828T202857Z
LAST-MODIFIED:20190828T202857Z
UID:10047428-1568489400-1568496600@destinationbedfordva.com
SUMMARY:The Savannah Sipping Society
DESCRIPTION:Tickets
URL:https://destinationbedfordva.com/event/the-savannah-sipping-society/2019-09-14/
LOCATION:Little Town Players\, 931 Ashland Avenue\, Bedford\, VA\, 24523\, United States
GEO:37.3434782;-79.5351962
X-APPLE-STRUCTURED-LOCATION;VALUE=URI;X-ADDRESS=Little Town Players 931 Ashland Avenue Bedford VA 24523 United States;X-APPLE-RADIUS=500;X-TITLE=931 Ashland Avenue:geo:-79.5351962,37.3434782
END:VEVENT
BEGIN:VEVENT
DTSTART;TZID=America/New_York:20190913T193000
DTEND;TZID=America/New_York:20190913T213000
DTSTAMP:20260420T052254
CREATED:20190828T202857Z
LAST-MODIFIED:20190828T202857Z
UID:10047427-1568403000-1568410200@destinationbedfordva.com
SUMMARY:The Savannah Sipping Society
DESCRIPTION:Tickets
URL:https://destinationbedfordva.com/event/the-savannah-sipping-society/2019-09-13/
LOCATION:Little Town Players\, 931 Ashland Avenue\, Bedford\, VA\, 24523\, United States
GEO:37.3434782;-79.5351962
X-APPLE-STRUCTURED-LOCATION;VALUE=URI;X-ADDRESS=Little Town Players 931 Ashland Avenue Bedford VA 24523 United States;X-APPLE-RADIUS=500;X-TITLE=931 Ashland Avenue:geo:-79.5351962,37.3434782
END:VEVENT
BEGIN:VEVENT
DTSTART;TZID=America/New_York:20190908T140000
DTEND;TZID=America/New_York:20190908T160000
DTSTAMP:20260420T052254
CREATED:20190828T202857Z
LAST-MODIFIED:20190828T202857Z
UID:10047426-1567951200-1567958400@destinationbedfordva.com
SUMMARY:The Savannah Sipping Society
DESCRIPTION:Tickets
URL:https://destinationbedfordva.com/event/the-savannah-sipping-society/2019-09-08/
LOCATION:Little Town Players\, 931 Ashland Avenue\, Bedford\, VA\, 24523\, United States
GEO:37.3434782;-79.5351962
X-APPLE-STRUCTURED-LOCATION;VALUE=URI;X-ADDRESS=Little Town Players 931 Ashland Avenue Bedford VA 24523 United States;X-APPLE-RADIUS=500;X-TITLE=931 Ashland Avenue:geo:-79.5351962,37.3434782
END:VEVENT
BEGIN:VEVENT
DTSTART;TZID=America/New_York:20190907T193000
DTEND;TZID=America/New_York:20190907T213000
DTSTAMP:20260420T052254
CREATED:20190828T202857Z
LAST-MODIFIED:20190828T202857Z
UID:10047425-1567884600-1567891800@destinationbedfordva.com
SUMMARY:The Savannah Sipping Society
DESCRIPTION:Tickets
URL:https://destinationbedfordva.com/event/the-savannah-sipping-society/2019-09-07/
LOCATION:Little Town Players\, 931 Ashland Avenue\, Bedford\, VA\, 24523\, United States
GEO:37.3434782;-79.5351962
X-APPLE-STRUCTURED-LOCATION;VALUE=URI;X-ADDRESS=Little Town Players 931 Ashland Avenue Bedford VA 24523 United States;X-APPLE-RADIUS=500;X-TITLE=931 Ashland Avenue:geo:-79.5351962,37.3434782
END:VEVENT
BEGIN:VEVENT
DTSTART;TZID=America/New_York:20190906T193000
DTEND;TZID=America/New_York:20190906T213000
DTSTAMP:20260420T052254
CREATED:20190828T202857Z
LAST-MODIFIED:20190828T202857Z
UID:10047424-1567798200-1567805400@destinationbedfordva.com
SUMMARY:The Savannah Sipping Society
DESCRIPTION:Tickets
URL:https://destinationbedfordva.com/event/the-savannah-sipping-society/2019-09-06/
LOCATION:Little Town Players\, 931 Ashland Avenue\, Bedford\, VA\, 24523\, United States
GEO:37.3434782;-79.5351962
X-APPLE-STRUCTURED-LOCATION;VALUE=URI;X-ADDRESS=Little Town Players 931 Ashland Avenue Bedford VA 24523 United States;X-APPLE-RADIUS=500;X-TITLE=931 Ashland Avenue:geo:-79.5351962,37.3434782
END:VEVENT
BEGIN:VEVENT
DTSTART;VALUE=DATE:20180914
DTEND;VALUE=DATE:20180924
DTSTAMP:20260420T052254
CREATED:20180912T170027Z
LAST-MODIFIED:20180912T170027Z
UID:10046668-1536883200-1537747199@destinationbedfordva.com
SUMMARY:Little Town Players:  The Dixie Swim Club
DESCRIPTION:Check out Little Town Players first show of the 43rd season! \nTHE DIXIE SWIM CLUB is the hilarious story of five unforgettable\, colorful women whose friendship began many years ago on their college swim team and who have a reunion every August to renew friendships and catch up on their lives. \nDirected by Kathe Everitt. \nShow dates are September 14\, 15\, 16\, 21\, 22\, 23 \nTicket Information \n 
URL:https://destinationbedfordva.com/event/5637/
LOCATION:Little Town Players\, 931 Ashland Avenue\, Bedford\, VA\, 24523\, United States
GEO:37.3434782;-79.5351962
X-APPLE-STRUCTURED-LOCATION;VALUE=URI;X-ADDRESS=Little Town Players 931 Ashland Avenue Bedford VA 24523 United States;X-APPLE-RADIUS=500;X-TITLE=931 Ashland Avenue:geo:-79.5351962,37.3434782
END:VEVENT
END:VCALENDAR