BEGIN:VCALENDAR
VERSION:2.0
PRODID:-//Destination Bedford - ECPv6.8.3//NONSGML v1.0//EN
CALSCALE:GREGORIAN
METHOD:PUBLISH
X-ORIGINAL-URL:https://destinationbedfordva.com
X-WR-CALDESC:Events for Destination Bedford
REFRESH-INTERVAL;VALUE=DURATION:PT1H
X-Robots-Tag:noindex
X-PUBLISHED-TTL:PT1H
BEGIN:VTIMEZONE
TZID:America/New_York
BEGIN:DAYLIGHT
TZOFFSETFROM:-0500
TZOFFSETTO:-0400
TZNAME:EDT
DTSTART:20200308T070000
END:DAYLIGHT
BEGIN:STANDARD
TZOFFSETFROM:-0400
TZOFFSETTO:-0500
TZNAME:EST
DTSTART:20201101T060000
END:STANDARD
BEGIN:DAYLIGHT
TZOFFSETFROM:-0500
TZOFFSETTO:-0400
TZNAME:EDT
DTSTART:20210314T070000
END:DAYLIGHT
BEGIN:STANDARD
TZOFFSETFROM:-0400
TZOFFSETTO:-0500
TZNAME:EST
DTSTART:20211107T060000
END:STANDARD
END:VTIMEZONE
BEGIN:VEVENT
DTSTART;TZID=America/New_York:20210625T120000
DTEND;TZID=America/New_York:20210625T230000
DTSTAMP:20260424T122927
CREATED:20210621T133945Z
LAST-MODIFIED:20210621T133945Z
UID:10048798-1624622400-1624662000@destinationbedfordva.com
SUMMARY:Lyrics on the Lake 2021
DESCRIPTION: Some of your favorites will be returning for this annual songwriters festival\, like Bridgette Tatum\, Robinson Treacher\, and Sarah Beth Terry (and of course\, many more!!) Enjoy the beautiful Smith Mountain Lake\, good food and awesome music!  \nFor more information on who is playing and when\, click here. 
URL:https://destinationbedfordva.com/event/lyrics-on-the-lake-2021/2021-06-25/
LOCATION:Mango’s Bar & Grill\, 16430 Booker T Washington Hwy\, Moneta\, VA\, 24121\, United States
ATTACH;FMTTYPE=image/png:https://destinationbedfordva.com/wp-content/uploads/2021/06/lyrics-on-the-lake-2021.png
END:VEVENT
BEGIN:VEVENT
DTSTART;TZID=America/New_York:20210623T183000
DTEND;TZID=America/New_York:20210623T220000
DTSTAMP:20260424T122927
CREATED:20210621T133945Z
LAST-MODIFIED:20210621T133945Z
UID:10048797-1624473000-1624485600@destinationbedfordva.com
SUMMARY:Lyrics on the Lake 2021
DESCRIPTION: Some of your favorites will be returning for this annual songwriters festival\, like Bridgette Tatum\, Robinson Treacher\, and Sarah Beth Terry (and of course\, many more!!) Enjoy the beautiful Smith Mountain Lake\, good food and awesome music!  \nFor more information on who is playing and when\, click here. 
URL:https://destinationbedfordva.com/event/lyrics-on-the-lake-2021/2021-06-23/
LOCATION:Mango’s Bar & Grill\, 16430 Booker T Washington Hwy\, Moneta\, VA\, 24121\, United States
ATTACH;FMTTYPE=image/png:https://destinationbedfordva.com/wp-content/uploads/2021/06/lyrics-on-the-lake-2021.png
END:VEVENT
BEGIN:VEVENT
DTSTART;TZID=America/New_York:20200712T160000
DTEND;TZID=America/New_York:20200712T190000
DTSTAMP:20260424T122927
CREATED:20200414T170440Z
LAST-MODIFIED:20200414T170440Z
UID:10047864-1594569600-1594580400@destinationbedfordva.com
SUMMARY:The Banjo Mites at Mango's!
DESCRIPTION:The Mites are hitting Mango’s this year! Come out for a good time\, good drinks\, and good music!
URL:https://destinationbedfordva.com/event/the-banjo-mites-at-mangos/
LOCATION:Mango’s Bar & Grill\, 16430 Booker T Washington Hwy\, Moneta\, VA\, 24121\, United States
ATTACH;FMTTYPE=image/jpeg:https://destinationbedfordva.com/wp-content/uploads/2020/04/Banjo-Mites-at-Mangos.jpg
ORGANIZER;CN="Ricky & The Banjo Mites":MAILTO:rickysbluegrassconnection@yahoo.com
END:VEVENT
END:VCALENDAR