BEGIN:VCALENDAR
VERSION:2.0
PRODID:-//Destination Bedford - ECPv6.8.3//NONSGML v1.0//EN
CALSCALE:GREGORIAN
METHOD:PUBLISH
X-ORIGINAL-URL:https://destinationbedfordva.com
X-WR-CALDESC:Events for Destination Bedford
REFRESH-INTERVAL;VALUE=DURATION:PT1H
X-Robots-Tag:noindex
X-PUBLISHED-TTL:PT1H
BEGIN:VTIMEZONE
TZID:America/New_York
BEGIN:DAYLIGHT
TZOFFSETFROM:-0500
TZOFFSETTO:-0400
TZNAME:EDT
DTSTART:20190310T070000
END:DAYLIGHT
BEGIN:STANDARD
TZOFFSETFROM:-0400
TZOFFSETTO:-0500
TZNAME:EST
DTSTART:20191103T060000
END:STANDARD
END:VTIMEZONE
BEGIN:VEVENT
DTSTART;VALUE=DATE:20190929
DTEND;VALUE=DATE:20190930
DTSTAMP:20260422T164724
CREATED:20190828T200156Z
LAST-MODIFIED:20190828T200156Z
UID:10047422-1569715200-1569801599@destinationbedfordva.com
SUMMARY:Mountain Run Jam
DESCRIPTION:Mountain Run Jam is an event held annually at Mountain Run Farm in Sedalia\, Virginia. With a mission to connect people to land and each other\, we gather to share music\, food\, skills of self-reliant living and more. Visit our website www.mountainrunjam.com for more information and come on out! We’d love to have you and guarantee a weekend that will inspire creativity and connection in your life.
URL:https://destinationbedfordva.com/event/mountain-run-jam/2019-09-29/
LOCATION:Mountain Run Farm\, 1228 Charlemont Rd\, Big Island\, VA\, 24526\, United States
END:VEVENT
BEGIN:VEVENT
DTSTART;VALUE=DATE:20190928
DTEND;VALUE=DATE:20190929
DTSTAMP:20260422T164724
CREATED:20190828T200156Z
LAST-MODIFIED:20190828T200156Z
UID:10047421-1569628800-1569715199@destinationbedfordva.com
SUMMARY:Mountain Run Jam
DESCRIPTION:Mountain Run Jam is an event held annually at Mountain Run Farm in Sedalia\, Virginia. With a mission to connect people to land and each other\, we gather to share music\, food\, skills of self-reliant living and more. Visit our website www.mountainrunjam.com for more information and come on out! We’d love to have you and guarantee a weekend that will inspire creativity and connection in your life.
URL:https://destinationbedfordva.com/event/mountain-run-jam/2019-09-28/
LOCATION:Mountain Run Farm\, 1228 Charlemont Rd\, Big Island\, VA\, 24526\, United States
END:VEVENT
BEGIN:VEVENT
DTSTART;VALUE=DATE:20190927
DTEND;VALUE=DATE:20190928
DTSTAMP:20260422T164724
CREATED:20190828T200156Z
LAST-MODIFIED:20190828T200156Z
UID:10047420-1569542400-1569628799@destinationbedfordva.com
SUMMARY:Mountain Run Jam
DESCRIPTION:Mountain Run Jam is an event held annually at Mountain Run Farm in Sedalia\, Virginia. With a mission to connect people to land and each other\, we gather to share music\, food\, skills of self-reliant living and more. Visit our website www.mountainrunjam.com for more information and come on out! We’d love to have you and guarantee a weekend that will inspire creativity and connection in your life.
URL:https://destinationbedfordva.com/event/mountain-run-jam/2019-09-27/
LOCATION:Mountain Run Farm\, 1228 Charlemont Rd\, Big Island\, VA\, 24526\, United States
END:VEVENT
END:VCALENDAR