BEGIN:VCALENDAR
VERSION:2.0
PRODID:-//Destination Bedford - ECPv6.8.3//NONSGML v1.0//EN
CALSCALE:GREGORIAN
METHOD:PUBLISH
X-ORIGINAL-URL:https://destinationbedfordva.com
X-WR-CALDESC:Events for Destination Bedford
REFRESH-INTERVAL;VALUE=DURATION:PT1H
X-Robots-Tag:noindex
X-PUBLISHED-TTL:PT1H
BEGIN:VTIMEZONE
TZID:America/New_York
BEGIN:DAYLIGHT
TZOFFSETFROM:-0500
TZOFFSETTO:-0400
TZNAME:EDT
DTSTART:20230312T070000
END:DAYLIGHT
BEGIN:STANDARD
TZOFFSETFROM:-0400
TZOFFSETTO:-0500
TZNAME:EST
DTSTART:20231105T060000
END:STANDARD
END:VTIMEZONE
BEGIN:VEVENT
DTSTART;TZID=America/New_York:20231209T090000
DTEND;TZID=America/New_York:20231209T120000
DTSTAMP:20260420T215957
CREATED:20231130T211606Z
LAST-MODIFIED:20231130T211606Z
UID:10054057-1702112400-1702123200@destinationbedfordva.com
SUMMARY:Breakfast with Santa at New London Academy
DESCRIPTION:Come enjoy breakfast with Santa\, crafts\, artisan market\, games and holiday fun! Click here for tickets and more information. 
URL:https://destinationbedfordva.com/event/breakfast-with-santa-at-new-london-academy/
LOCATION:New London Acadamy\, 12400 E Salem Turnpike\, Forest\, VA\, 24551\, United States
ATTACH;FMTTYPE=image/jpeg:https://destinationbedfordva.com/wp-content/uploads/2023/11/breakfast-with-santa-3.jpg
END:VEVENT
END:VCALENDAR