BEGIN:VCALENDAR
VERSION:2.0
PRODID:-//Destination Bedford - ECPv6.8.3//NONSGML v1.0//EN
CALSCALE:GREGORIAN
METHOD:PUBLISH
X-ORIGINAL-URL:https://destinationbedfordva.com
X-WR-CALDESC:Events for Destination Bedford
REFRESH-INTERVAL;VALUE=DURATION:PT1H
X-Robots-Tag:noindex
X-PUBLISHED-TTL:PT1H
BEGIN:VTIMEZONE
TZID:America/New_York
BEGIN:DAYLIGHT
TZOFFSETFROM:-0500
TZOFFSETTO:-0400
TZNAME:EDT
DTSTART:20220313T070000
END:DAYLIGHT
BEGIN:STANDARD
TZOFFSETFROM:-0400
TZOFFSETTO:-0500
TZNAME:EST
DTSTART:20221106T060000
END:STANDARD
END:VTIMEZONE
BEGIN:VEVENT
DTSTART;TZID=America/New_York:20221030T090000
DTEND;TZID=America/New_York:20221030T130000
DTSTAMP:20260421T191949
CREATED:20220613T145828Z
LAST-MODIFIED:20220613T145828Z
UID:10049797-1667120400-1667134800@destinationbedfordva.com
SUMMARY:New London Horse Show
DESCRIPTION:This horse show has been happening in our community since 1956! Saturdays will be ranch style classes and Sundays will be open show! Click here for more information.
URL:https://destinationbedfordva.com/event/new-london-horse-show/2022-10-30/
LOCATION:New London Horse Show\, 2673 Timber Ridge Rd.\, Bedford\, VA\, United States
ATTACH;FMTTYPE=image/png:https://destinationbedfordva.com/wp-content/uploads/2022/06/New-London-horse-show.png
END:VEVENT
BEGIN:VEVENT
DTSTART;TZID=America/New_York:20221029T090000
DTEND;TZID=America/New_York:20221029T130000
DTSTAMP:20260421T191949
CREATED:20220613T145828Z
LAST-MODIFIED:20220613T145828Z
UID:10049796-1667034000-1667048400@destinationbedfordva.com
SUMMARY:New London Horse Show
DESCRIPTION:This horse show has been happening in our community since 1956! Saturdays will be ranch style classes and Sundays will be open show! Click here for more information.
URL:https://destinationbedfordva.com/event/new-london-horse-show/2022-10-29/
LOCATION:New London Horse Show\, 2673 Timber Ridge Rd.\, Bedford\, VA\, United States
ATTACH;FMTTYPE=image/png:https://destinationbedfordva.com/wp-content/uploads/2022/06/New-London-horse-show.png
END:VEVENT
BEGIN:VEVENT
DTSTART;TZID=America/New_York:20220814T090000
DTEND;TZID=America/New_York:20220814T130000
DTSTAMP:20260421T191949
CREATED:20220613T145828Z
LAST-MODIFIED:20220613T145828Z
UID:10049795-1660467600-1660482000@destinationbedfordva.com
SUMMARY:New London Horse Show
DESCRIPTION:This horse show has been happening in our community since 1956! Saturdays will be ranch style classes and Sundays will be open show! Click here for more information.
URL:https://destinationbedfordva.com/event/new-london-horse-show/2022-08-14/
LOCATION:New London Horse Show\, 2673 Timber Ridge Rd.\, Bedford\, VA\, United States
ATTACH;FMTTYPE=image/png:https://destinationbedfordva.com/wp-content/uploads/2022/06/New-London-horse-show.png
END:VEVENT
BEGIN:VEVENT
DTSTART;TZID=America/New_York:20220813T090000
DTEND;TZID=America/New_York:20220813T130000
DTSTAMP:20260421T191949
CREATED:20220613T145828Z
LAST-MODIFIED:20220613T145828Z
UID:10049794-1660381200-1660395600@destinationbedfordva.com
SUMMARY:New London Horse Show
DESCRIPTION:This horse show has been happening in our community since 1956! Saturdays will be ranch style classes and Sundays will be open show! Click here for more information.
URL:https://destinationbedfordva.com/event/new-london-horse-show/2022-08-13/
LOCATION:New London Horse Show\, 2673 Timber Ridge Rd.\, Bedford\, VA\, United States
ATTACH;FMTTYPE=image/png:https://destinationbedfordva.com/wp-content/uploads/2022/06/New-London-horse-show.png
END:VEVENT
BEGIN:VEVENT
DTSTART;TZID=America/New_York:20220626T090000
DTEND;TZID=America/New_York:20220626T130000
DTSTAMP:20260421T191949
CREATED:20220613T145828Z
LAST-MODIFIED:20220613T145828Z
UID:10049793-1656234000-1656248400@destinationbedfordva.com
SUMMARY:New London Horse Show
DESCRIPTION:This horse show has been happening in our community since 1956! Saturdays will be ranch style classes and Sundays will be open show! Click here for more information.
URL:https://destinationbedfordva.com/event/new-london-horse-show/2022-06-26/
LOCATION:New London Horse Show\, 2673 Timber Ridge Rd.\, Bedford\, VA\, United States
ATTACH;FMTTYPE=image/png:https://destinationbedfordva.com/wp-content/uploads/2022/06/New-London-horse-show.png
END:VEVENT
BEGIN:VEVENT
DTSTART;TZID=America/New_York:20220625T090000
DTEND;TZID=America/New_York:20220625T130000
DTSTAMP:20260421T191949
CREATED:20220613T145828Z
LAST-MODIFIED:20220613T145828Z
UID:10049792-1656147600-1656162000@destinationbedfordva.com
SUMMARY:New London Horse Show
DESCRIPTION:This horse show has been happening in our community since 1956! Saturdays will be ranch style classes and Sundays will be open show! Click here for more information.
URL:https://destinationbedfordva.com/event/new-london-horse-show/2022-06-25/
LOCATION:New London Horse Show\, 2673 Timber Ridge Rd.\, Bedford\, VA\, United States
ATTACH;FMTTYPE=image/png:https://destinationbedfordva.com/wp-content/uploads/2022/06/New-London-horse-show.png
END:VEVENT
END:VCALENDAR