BEGIN:VCALENDAR
VERSION:2.0
PRODID:-//Destination Bedford - ECPv6.8.3//NONSGML v1.0//EN
CALSCALE:GREGORIAN
METHOD:PUBLISH
X-ORIGINAL-URL:https://destinationbedfordva.com
X-WR-CALDESC:Events for Destination Bedford
REFRESH-INTERVAL;VALUE=DURATION:PT1H
X-Robots-Tag:noindex
X-PUBLISHED-TTL:PT1H
BEGIN:VTIMEZONE
TZID:America/New_York
BEGIN:DAYLIGHT
TZOFFSETFROM:-0500
TZOFFSETTO:-0400
TZNAME:EDT
DTSTART:20210314T070000
END:DAYLIGHT
BEGIN:STANDARD
TZOFFSETFROM:-0400
TZOFFSETTO:-0500
TZNAME:EST
DTSTART:20211107T060000
END:STANDARD
BEGIN:DAYLIGHT
TZOFFSETFROM:-0500
TZOFFSETTO:-0400
TZNAME:EDT
DTSTART:20220313T070000
END:DAYLIGHT
BEGIN:STANDARD
TZOFFSETFROM:-0400
TZOFFSETTO:-0500
TZNAME:EST
DTSTART:20221106T060000
END:STANDARD
BEGIN:DAYLIGHT
TZOFFSETFROM:-0500
TZOFFSETTO:-0400
TZNAME:EDT
DTSTART:20230312T070000
END:DAYLIGHT
BEGIN:STANDARD
TZOFFSETFROM:-0400
TZOFFSETTO:-0500
TZNAME:EST
DTSTART:20231105T060000
END:STANDARD
BEGIN:DAYLIGHT
TZOFFSETFROM:-0500
TZOFFSETTO:-0400
TZNAME:EDT
DTSTART:20240310T070000
END:DAYLIGHT
BEGIN:STANDARD
TZOFFSETFROM:-0400
TZOFFSETTO:-0500
TZNAME:EST
DTSTART:20241103T060000
END:STANDARD
BEGIN:DAYLIGHT
TZOFFSETFROM:-0500
TZOFFSETTO:-0400
TZNAME:EDT
DTSTART:20250309T070000
END:DAYLIGHT
BEGIN:STANDARD
TZOFFSETFROM:-0400
TZOFFSETTO:-0500
TZNAME:EST
DTSTART:20251102T060000
END:STANDARD
BEGIN:DAYLIGHT
TZOFFSETFROM:-0500
TZOFFSETTO:-0400
TZNAME:EDT
DTSTART:20260308T070000
END:DAYLIGHT
BEGIN:STANDARD
TZOFFSETFROM:-0400
TZOFFSETTO:-0500
TZNAME:EST
DTSTART:20261101T060000
END:STANDARD
END:VTIMEZONE
BEGIN:VEVENT
DTSTART;TZID=America/New_York:20260215T133000
DTEND;TZID=America/New_York:20260215T170000
DTSTAMP:20260422T020017
CREATED:20260116T165816Z
LAST-MODIFIED:20260116T165816Z
UID:10062340-1771162200-1771174800@destinationbedfordva.com
SUMMARY:Bedford Cycle & Give
DESCRIPTION:Welcome to Race Three of the Bedford Cycle & Give — the final round of our three-race series celebrating community\, cycling\, and giving back to the places that make riding awesome.\nThe finale\, the Bedford Trailbuilder Bash\, takes place Sunday\, February 15\, 2026 at 1:30 PM at New London Tech Trails.\nReg Link: https://www.bikereg.com/bedford-cycle–give-bedford…\nThis race supports something every rider benefits from: trail maintenance and the construction of a new bridge at Falling Creek Park. These are the trails we all ride\, love\, and rely on — so chip in what you can.\nRace Format:\nThe Trailbuilder Bash uses the same handicap-style 1-hour challenge as the first two races:\nComplete as many laps as possible in 60 minutes\nFinish a lap before the 60-minute mark? You may go out for another\nTies are settled by whichever rider finishes their final lap first\nExpect a spirited finale to the series and a chance to give back to the trails that make it all possible\nEntry Requirement: Give What You Can\nThere is no set registration fee for this event.\nInstead\, riders are encouraged to donate whatever amount they can spare toward:\nOngoing trail maintenance\nMaterials and labor for a new bridge\nSupporting the volunteers who keep Falling Creek Park ride-ready\nEvery dollar stays local and goes directly back into improving the trails we love! 
URL:https://destinationbedfordva.com/event/bedford-cycle-give/
LOCATION:New London Tech Trails\, 1257 Meade Rd.\, Forest\, VA\, 24551
ATTACH;FMTTYPE=image/jpeg:https://destinationbedfordva.com/wp-content/uploads/2026/01/park-benifit.jpg
END:VEVENT
BEGIN:VEVENT
DTSTART;VALUE=DATE:20241026
DTEND;VALUE=DATE:20241028
DTSTAMP:20260422T020017
CREATED:20240919T183845Z
LAST-MODIFIED:20240919T183845Z
UID:10055789-1729900800-1730073599@destinationbedfordva.com
SUMMARY:Battle for Bedford Disc Golf Tournament
DESCRIPTION:The Battle for Bedford is back for the 6th time but with a new name!! The Kenny Palmer Memorial Battle for Bedford aims to honor the courses that Kenny Palmer worked so hard to bring to this area. All but one of the courses in this years tournament have been designed by/worked on by the man himself. \nThis will be a two day tournament over the weekend of October 26/27th. Foundation Disc Golf will be vending throughout the weekend and will be handling AM payouts. \nClick here to register. 
URL:https://destinationbedfordva.com/event/battle-for-bedford-disc-golf-tournament/
LOCATION:New London Tech Trails\, 1257 Meade Rd.\, Forest\, VA\, 24551
ATTACH;FMTTYPE=image/jpeg:https://destinationbedfordva.com/wp-content/uploads/2024/07/FallingCreekDiscGolf090222-6.jpg
END:VEVENT
BEGIN:VEVENT
DTSTART;TZID=America/New_York:20240127T120000
DTEND;TZID=America/New_York:20240127T180000
DTSTAMP:20260422T020017
CREATED:20231208T204517Z
LAST-MODIFIED:20231208T204517Z
UID:10054075-1706356800-1706378400@destinationbedfordva.com
SUMMARY:Mountain Cross Series
DESCRIPTION:Mountain Cross is back for 2024!\nJanuary 13th – Falling Creek\nJanuary 27th – New London\nFebruary 10th – Falling Creek\nClick here to register and for more information. 
URL:https://destinationbedfordva.com/event/mountain-cross-series/
LOCATION:New London Tech Trails\, 1257 Meade Rd.\, Forest\, VA\, 24551
ATTACH;FMTTYPE=image/jpeg:https://destinationbedfordva.com/wp-content/uploads/2023/12/mountain-cross-series-2.jpg
END:VEVENT
BEGIN:VEVENT
DTSTART;TZID=America/New_York:20230128T130000
DTEND;TZID=America/New_York:20230128T170000
DTSTAMP:20260422T020017
CREATED:20230123T161643Z
LAST-MODIFIED:20230123T161954Z
UID:10050689-1674910800-1674925200@destinationbedfordva.com
SUMMARY:Bedford Trails MTX Race Series
DESCRIPTION:Mountain Cross\, or MTX!….what is it? The “mountain” part refers to many of the same aspects that you might encounter in a mountain bike race.  There will be single track with rocks\, roots and stumps but it will only make up roughly 50% of the course. The other 50% of the course will consist of mixed surfaces such as grass paths\, gravel or pavement\, and double track dirt roads. The “cross” parts refers to the multiple styles of racing and mixed terrain the race combines being a combination of mountain biking and cyclocross. There are mandatory barriers that must be dismounted for\, a staggered start\, and the equalizer format. When combined these different riding styles and elements make what we call Mountain Cross. The races are short\, intense\, and loads of fun! These are great training races if you have your eye on some other races coming in the Spring/Summer . This is also a great if you have a new years resolution\, want to stay active during the cold months\, or just want bragging rights! This race embodies the Norwegian proverb that says\, “There is no bad weather\, only poor clothing choice.” WE RACE ANY WEATHER! \nClick here to register and for more details.  \nMTX #1- January 14th\, Saturday\, Falling Creek Park\, 1:01pm Start –  \nMTX #2- January 28th\, Saturday\, New London Tech Trails\, 1:01pm Start \nMTX #3- February 10th\, Friday\, Falling Creek Park\, 8:08pm Start – FRIDAY NIGHT BIKE LIGHTS *Headlamps and bike lights required\, it is recommended to bring multiple lights to have as back up. \nMTX #4- March 4th\, Saturday\, Falling Creek Park \, 1:01pm Start\nCHAMPIONSHIP RACE  \n$15-20 per race (Finisher Award + T-shirt first come first serve)\, $45-60 for entire series.
URL:https://destinationbedfordva.com/event/bedford-trails-mtx-race-series/
LOCATION:New London Tech Trails\, 1257 Meade Rd.\, Forest\, VA\, 24551
ATTACH;FMTTYPE=image/jpeg:https://destinationbedfordva.com/wp-content/uploads/2023/01/MTX.jpg
END:VEVENT
BEGIN:VEVENT
DTSTART;TZID=America/New_York:20221119T080000
DTEND;TZID=America/New_York:20221119T160000
DTSTAMP:20260422T020017
CREATED:20221110T180719Z
LAST-MODIFIED:20221110T180719Z
UID:10050266-1668844800-1668873600@destinationbedfordva.com
SUMMARY:Disc Golf Tournament
DESCRIPTION:Come play this extremely tough course at New London Tech Trails!  One round at the toughest course in the area: New London. In the past a +3 here would net you a 1000 rated round. Do your best to survive! Every division will be playing the Long layout\, with the exception of FA and Junior divisions. To take the sting away from the impending doom that is headed your way\, they will have tons of raffle prizes. Trophies will be awarded to 1st and 2nd for most divisions and extend through 3rd for larger divisions. \nClick here for more information and to register. 
URL:https://destinationbedfordva.com/event/disc-golf-tournament-2/
LOCATION:New London Tech Trails\, 1257 Meade Rd.\, Forest\, VA\, 24551
ATTACH;FMTTYPE=image/jpeg:https://destinationbedfordva.com/wp-content/uploads/2022/11/New-London-Disc-Golf-.jpg
END:VEVENT
BEGIN:VEVENT
DTSTART;TZID=America/New_York:20210221T133000
DTEND;TZID=America/New_York:20210221T170000
DTSTAMP:20260422T020017
CREATED:20210111T144829Z
LAST-MODIFIED:20210219T163644Z
UID:10048466-1613914200-1613926800@destinationbedfordva.com
SUMMARY:Mountain Cross Race Series #3
DESCRIPTION:Keep your legs spinning again this year with the Winter Mountain Cross Race Series. Come on out and join in on the racing\, fun\, food\, prizes and friends! \nEnjoy good times with the Bedford Trails Winter Mountain Cross Race Series! Limited spots are available and there is a high chance of this filling up! Sign up today!\nhttps://bedfordtrails.wordpress.com/bedfordmountaincross/
URL:https://destinationbedfordva.com/event/mountain-cross-race-series/
LOCATION:New London Tech Trails\, 1257 Meade Rd.\, Forest\, VA\, 24551
ATTACH;FMTTYPE=image/jpeg:https://destinationbedfordva.com/wp-content/uploads/2021/01/mountain-bike-1-1.jpg
END:VEVENT
END:VCALENDAR