BEGIN:VCALENDAR
VERSION:2.0
PRODID:-//Destination Bedford - ECPv6.8.3//NONSGML v1.0//EN
CALSCALE:GREGORIAN
METHOD:PUBLISH
X-WR-CALNAME:Destination Bedford
X-ORIGINAL-URL:https://destinationbedfordva.com
X-WR-CALDESC:Events for Destination Bedford
REFRESH-INTERVAL;VALUE=DURATION:PT1H
X-Robots-Tag:noindex
X-PUBLISHED-TTL:PT1H
BEGIN:VTIMEZONE
TZID:America/New_York
BEGIN:DAYLIGHT
TZOFFSETFROM:-0500
TZOFFSETTO:-0400
TZNAME:EDT
DTSTART:20180311T070000
END:DAYLIGHT
BEGIN:STANDARD
TZOFFSETFROM:-0400
TZOFFSETTO:-0500
TZNAME:EST
DTSTART:20181104T060000
END:STANDARD
END:VTIMEZONE
BEGIN:VEVENT
DTSTART;TZID=America/New_York:20181201T083000
DTEND;TZID=America/New_York:20181201T110000
DTSTAMP:20260424T213343
CREATED:20181108T211506Z
LAST-MODIFIED:20181108T211506Z
UID:10046816-1543653000-1543662000@destinationbedfordva.com
SUMMARY:Peaks of Otter Christmas Classic 5K
DESCRIPTION:5K Run/Walk (Chip Timing by Riverside Runners) $20 until Nov.1st\n•Corporate Cup Teams\n•Peaks Junior 1 mile run (Timed / includes t-shirt) $12 until Nov.25th\n•¼ Mile Kids FUN run (NOT timed & no T-shirt) $2 until Nov. 25th*\n*Gift Card\, mug and medal awarded to TOP 4 M/F runners and special mug and medal Awards to* *TOP 3 in age groups. *\n*$50 “Top of the Hill” awarded to 1st M/F to reach*\n*1st Boy & Girl of 1 mile run get SPECIAL prize. *\n*EVERY KID WILL RECEIVE A MEDAL*\n*Post Race Cinnamon Rolls! and door prizes!*\nIn memory of Sabrina Bugay-Willis. *
URL:https://destinationbedfordva.com/event/peaks-of-otter-christmas-classic-5k-2/
LOCATION:Old Bedford Middle School\, 119 US-221\, Bedford\, VA\, 24523\, United States
END:VEVENT
BEGIN:VEVENT
DTSTART;TZID=America/New_York:20181031T180000
DTEND;TZID=America/New_York:20181031T210000
DTSTAMP:20260424T213343
CREATED:20181022T185442Z
LAST-MODIFIED:20181022T185442Z
UID:10046789-1541008800-1541019600@destinationbedfordva.com
SUMMARY:DJ Showtime Presents Trunk n Treat/Haunted Path
DESCRIPTION:Fun Filled Night Lined With Cars Doing The Trunk Or Treat Along With Music\, Bouncy Houses & The New Haunted Path!
URL:https://destinationbedfordva.com/event/dj-showtime-presents-trunk-n-treat-haunted-path/
LOCATION:Old Bedford Middle School\, 119 US-221\, Bedford\, VA\, 24523\, United States
END:VEVENT
END:VCALENDAR