BEGIN:VCALENDAR
VERSION:2.0
PRODID:-//Destination Bedford - ECPv6.8.3//NONSGML v1.0//EN
CALSCALE:GREGORIAN
METHOD:PUBLISH
X-WR-CALNAME:Destination Bedford
X-ORIGINAL-URL:https://destinationbedfordva.com
X-WR-CALDESC:Events for Destination Bedford
REFRESH-INTERVAL;VALUE=DURATION:PT1H
X-Robots-Tag:noindex
X-PUBLISHED-TTL:PT1H
BEGIN:VTIMEZONE
TZID:America/New_York
BEGIN:DAYLIGHT
TZOFFSETFROM:-0500
TZOFFSETTO:-0400
TZNAME:EDT
DTSTART:20230312T070000
END:DAYLIGHT
BEGIN:STANDARD
TZOFFSETFROM:-0400
TZOFFSETTO:-0500
TZNAME:EST
DTSTART:20231105T060000
END:STANDARD
BEGIN:DAYLIGHT
TZOFFSETFROM:-0500
TZOFFSETTO:-0400
TZNAME:EDT
DTSTART:20240310T070000
END:DAYLIGHT
BEGIN:STANDARD
TZOFFSETFROM:-0400
TZOFFSETTO:-0500
TZNAME:EST
DTSTART:20241103T060000
END:STANDARD
END:VTIMEZONE
BEGIN:VEVENT
DTSTART;TZID=America/New_York:20240824T170000
DTEND;TZID=America/New_York:20240824T190000
DTSTAMP:20260422T081332
CREATED:20240528T131704Z
LAST-MODIFIED:20240528T131741Z
UID:10054969-1724518800-1724526000@destinationbedfordva.com
SUMMARY:Live Music @ Portside
DESCRIPTION:Come enjoy live music and yummy food at this waterfront\, outdoor dock pub\, located in the Virginia Dare marina. Click here to see who is playing this week!
URL:https://destinationbedfordva.com/event/live-music-portside-3/2024-08-24/
LOCATION:Portside Grill and Bar\, 3619 Airport Rd.\, Moneta\, VA\, 24121\, United States
ATTACH;FMTTYPE=image/jpeg:https://destinationbedfordva.com/wp-content/uploads/2021/05/portside.jpg
END:VEVENT
BEGIN:VEVENT
DTSTART;TZID=America/New_York:20240818T140000
DTEND;TZID=America/New_York:20240818T160000
DTSTAMP:20260422T081332
CREATED:20240205T163911Z
LAST-MODIFIED:20240528T131256Z
UID:10054952-1723989600-1723996800@destinationbedfordva.com
SUMMARY:Live Music @ Portside
DESCRIPTION:Come enjoy live music and yummy food at this waterfront\, outdoor dock pub\, located in the Virginia Dare marina. Click here to see who is playing this week!
URL:https://destinationbedfordva.com/event/live-music-portside-2-2/2024-08-18/
LOCATION:Portside Grill and Bar\, 3619 Airport Rd.\, Moneta\, VA\, 24121\, United States
ATTACH;FMTTYPE=image/jpeg:https://destinationbedfordva.com/wp-content/uploads/2021/05/portside.jpg
END:VEVENT
BEGIN:VEVENT
DTSTART;TZID=America/New_York:20240817T170000
DTEND;TZID=America/New_York:20240817T190000
DTSTAMP:20260422T081332
CREATED:20240528T131704Z
LAST-MODIFIED:20240528T131741Z
UID:10054968-1723914000-1723921200@destinationbedfordva.com
SUMMARY:Live Music @ Portside
DESCRIPTION:Come enjoy live music and yummy food at this waterfront\, outdoor dock pub\, located in the Virginia Dare marina. Click here to see who is playing this week!
URL:https://destinationbedfordva.com/event/live-music-portside-3/2024-08-17/
LOCATION:Portside Grill and Bar\, 3619 Airport Rd.\, Moneta\, VA\, 24121\, United States
ATTACH;FMTTYPE=image/jpeg:https://destinationbedfordva.com/wp-content/uploads/2021/05/portside.jpg
END:VEVENT
BEGIN:VEVENT
DTSTART;TZID=America/New_York:20240811T140000
DTEND;TZID=America/New_York:20240811T160000
DTSTAMP:20260422T081332
CREATED:20240205T163911Z
LAST-MODIFIED:20240528T131256Z
UID:10054951-1723384800-1723392000@destinationbedfordva.com
SUMMARY:Live Music @ Portside
DESCRIPTION:Come enjoy live music and yummy food at this waterfront\, outdoor dock pub\, located in the Virginia Dare marina. Click here to see who is playing this week!
URL:https://destinationbedfordva.com/event/live-music-portside-2-2/2024-08-11/
LOCATION:Portside Grill and Bar\, 3619 Airport Rd.\, Moneta\, VA\, 24121\, United States
ATTACH;FMTTYPE=image/jpeg:https://destinationbedfordva.com/wp-content/uploads/2021/05/portside.jpg
END:VEVENT
BEGIN:VEVENT
DTSTART;TZID=America/New_York:20240810T170000
DTEND;TZID=America/New_York:20240810T190000
DTSTAMP:20260422T081332
CREATED:20240528T131704Z
LAST-MODIFIED:20240528T131741Z
UID:10054967-1723309200-1723316400@destinationbedfordva.com
SUMMARY:Live Music @ Portside
DESCRIPTION:Come enjoy live music and yummy food at this waterfront\, outdoor dock pub\, located in the Virginia Dare marina. Click here to see who is playing this week!
URL:https://destinationbedfordva.com/event/live-music-portside-3/2024-08-10/
LOCATION:Portside Grill and Bar\, 3619 Airport Rd.\, Moneta\, VA\, 24121\, United States
ATTACH;FMTTYPE=image/jpeg:https://destinationbedfordva.com/wp-content/uploads/2021/05/portside.jpg
END:VEVENT
BEGIN:VEVENT
DTSTART;TZID=America/New_York:20240804T140000
DTEND;TZID=America/New_York:20240804T160000
DTSTAMP:20260422T081332
CREATED:20240205T163911Z
LAST-MODIFIED:20240528T131256Z
UID:10054950-1722780000-1722787200@destinationbedfordva.com
SUMMARY:Live Music @ Portside
DESCRIPTION:Come enjoy live music and yummy food at this waterfront\, outdoor dock pub\, located in the Virginia Dare marina. Click here to see who is playing this week!
URL:https://destinationbedfordva.com/event/live-music-portside-2-2/2024-08-04/
LOCATION:Portside Grill and Bar\, 3619 Airport Rd.\, Moneta\, VA\, 24121\, United States
ATTACH;FMTTYPE=image/jpeg:https://destinationbedfordva.com/wp-content/uploads/2021/05/portside.jpg
END:VEVENT
BEGIN:VEVENT
DTSTART;TZID=America/New_York:20240803T170000
DTEND;TZID=America/New_York:20240803T190000
DTSTAMP:20260422T081332
CREATED:20240528T131704Z
LAST-MODIFIED:20240528T131741Z
UID:10054966-1722704400-1722711600@destinationbedfordva.com
SUMMARY:Live Music @ Portside
DESCRIPTION:Come enjoy live music and yummy food at this waterfront\, outdoor dock pub\, located in the Virginia Dare marina. Click here to see who is playing this week!
URL:https://destinationbedfordva.com/event/live-music-portside-3/2024-08-03/
LOCATION:Portside Grill and Bar\, 3619 Airport Rd.\, Moneta\, VA\, 24121\, United States
ATTACH;FMTTYPE=image/jpeg:https://destinationbedfordva.com/wp-content/uploads/2021/05/portside.jpg
END:VEVENT
BEGIN:VEVENT
DTSTART;TZID=America/New_York:20240728T140000
DTEND;TZID=America/New_York:20240728T160000
DTSTAMP:20260422T081332
CREATED:20240205T163911Z
LAST-MODIFIED:20240528T131256Z
UID:10054949-1722175200-1722182400@destinationbedfordva.com
SUMMARY:Live Music @ Portside
DESCRIPTION:Come enjoy live music and yummy food at this waterfront\, outdoor dock pub\, located in the Virginia Dare marina. Click here to see who is playing this week!
URL:https://destinationbedfordva.com/event/live-music-portside-2-2/2024-07-28/
LOCATION:Portside Grill and Bar\, 3619 Airport Rd.\, Moneta\, VA\, 24121\, United States
ATTACH;FMTTYPE=image/jpeg:https://destinationbedfordva.com/wp-content/uploads/2021/05/portside.jpg
END:VEVENT
BEGIN:VEVENT
DTSTART;TZID=America/New_York:20240727T170000
DTEND;TZID=America/New_York:20240727T190000
DTSTAMP:20260422T081332
CREATED:20240528T131704Z
LAST-MODIFIED:20240528T131741Z
UID:10054965-1722099600-1722106800@destinationbedfordva.com
SUMMARY:Live Music @ Portside
DESCRIPTION:Come enjoy live music and yummy food at this waterfront\, outdoor dock pub\, located in the Virginia Dare marina. Click here to see who is playing this week!
URL:https://destinationbedfordva.com/event/live-music-portside-3/2024-07-27/
LOCATION:Portside Grill and Bar\, 3619 Airport Rd.\, Moneta\, VA\, 24121\, United States
ATTACH;FMTTYPE=image/jpeg:https://destinationbedfordva.com/wp-content/uploads/2021/05/portside.jpg
END:VEVENT
BEGIN:VEVENT
DTSTART;TZID=America/New_York:20240721T140000
DTEND;TZID=America/New_York:20240721T160000
DTSTAMP:20260422T081332
CREATED:20240205T163911Z
LAST-MODIFIED:20240528T131256Z
UID:10054948-1721570400-1721577600@destinationbedfordva.com
SUMMARY:Live Music @ Portside
DESCRIPTION:Come enjoy live music and yummy food at this waterfront\, outdoor dock pub\, located in the Virginia Dare marina. Click here to see who is playing this week!
URL:https://destinationbedfordva.com/event/live-music-portside-2-2/2024-07-21/
LOCATION:Portside Grill and Bar\, 3619 Airport Rd.\, Moneta\, VA\, 24121\, United States
ATTACH;FMTTYPE=image/jpeg:https://destinationbedfordva.com/wp-content/uploads/2021/05/portside.jpg
END:VEVENT
BEGIN:VEVENT
DTSTART;TZID=America/New_York:20240720T170000
DTEND;TZID=America/New_York:20240720T190000
DTSTAMP:20260422T081332
CREATED:20240528T131704Z
LAST-MODIFIED:20240528T131741Z
UID:10054964-1721494800-1721502000@destinationbedfordva.com
SUMMARY:Live Music @ Portside
DESCRIPTION:Come enjoy live music and yummy food at this waterfront\, outdoor dock pub\, located in the Virginia Dare marina. Click here to see who is playing this week!
URL:https://destinationbedfordva.com/event/live-music-portside-3/2024-07-20/
LOCATION:Portside Grill and Bar\, 3619 Airport Rd.\, Moneta\, VA\, 24121\, United States
ATTACH;FMTTYPE=image/jpeg:https://destinationbedfordva.com/wp-content/uploads/2021/05/portside.jpg
END:VEVENT
BEGIN:VEVENT
DTSTART;TZID=America/New_York:20240714T140000
DTEND;TZID=America/New_York:20240714T160000
DTSTAMP:20260422T081332
CREATED:20240205T163911Z
LAST-MODIFIED:20240528T131256Z
UID:10054947-1720965600-1720972800@destinationbedfordva.com
SUMMARY:Live Music @ Portside
DESCRIPTION:Come enjoy live music and yummy food at this waterfront\, outdoor dock pub\, located in the Virginia Dare marina. Click here to see who is playing this week!
URL:https://destinationbedfordva.com/event/live-music-portside-2-2/2024-07-14/
LOCATION:Portside Grill and Bar\, 3619 Airport Rd.\, Moneta\, VA\, 24121\, United States
ATTACH;FMTTYPE=image/jpeg:https://destinationbedfordva.com/wp-content/uploads/2021/05/portside.jpg
END:VEVENT
BEGIN:VEVENT
DTSTART;TZID=America/New_York:20240713T170000
DTEND;TZID=America/New_York:20240713T190000
DTSTAMP:20260422T081332
CREATED:20240528T131704Z
LAST-MODIFIED:20240528T131741Z
UID:10054963-1720890000-1720897200@destinationbedfordva.com
SUMMARY:Live Music @ Portside
DESCRIPTION:Come enjoy live music and yummy food at this waterfront\, outdoor dock pub\, located in the Virginia Dare marina. Click here to see who is playing this week!
URL:https://destinationbedfordva.com/event/live-music-portside-3/2024-07-13/
LOCATION:Portside Grill and Bar\, 3619 Airport Rd.\, Moneta\, VA\, 24121\, United States
ATTACH;FMTTYPE=image/jpeg:https://destinationbedfordva.com/wp-content/uploads/2021/05/portside.jpg
END:VEVENT
BEGIN:VEVENT
DTSTART;TZID=America/New_York:20240707T140000
DTEND;TZID=America/New_York:20240707T160000
DTSTAMP:20260422T081332
CREATED:20240205T163911Z
LAST-MODIFIED:20240528T131256Z
UID:10054946-1720360800-1720368000@destinationbedfordva.com
SUMMARY:Live Music @ Portside
DESCRIPTION:Come enjoy live music and yummy food at this waterfront\, outdoor dock pub\, located in the Virginia Dare marina. Click here to see who is playing this week!
URL:https://destinationbedfordva.com/event/live-music-portside-2-2/2024-07-07/
LOCATION:Portside Grill and Bar\, 3619 Airport Rd.\, Moneta\, VA\, 24121\, United States
ATTACH;FMTTYPE=image/jpeg:https://destinationbedfordva.com/wp-content/uploads/2021/05/portside.jpg
END:VEVENT
BEGIN:VEVENT
DTSTART;TZID=America/New_York:20240706T170000
DTEND;TZID=America/New_York:20240706T190000
DTSTAMP:20260422T081332
CREATED:20240528T131704Z
LAST-MODIFIED:20240528T131741Z
UID:10054962-1720285200-1720292400@destinationbedfordva.com
SUMMARY:Live Music @ Portside
DESCRIPTION:Come enjoy live music and yummy food at this waterfront\, outdoor dock pub\, located in the Virginia Dare marina. Click here to see who is playing this week!
URL:https://destinationbedfordva.com/event/live-music-portside-3/2024-07-06/
LOCATION:Portside Grill and Bar\, 3619 Airport Rd.\, Moneta\, VA\, 24121\, United States
ATTACH;FMTTYPE=image/jpeg:https://destinationbedfordva.com/wp-content/uploads/2021/05/portside.jpg
END:VEVENT
BEGIN:VEVENT
DTSTART;TZID=America/New_York:20240630T140000
DTEND;TZID=America/New_York:20240630T160000
DTSTAMP:20260422T081332
CREATED:20240205T163911Z
LAST-MODIFIED:20240528T131256Z
UID:10054945-1719756000-1719763200@destinationbedfordva.com
SUMMARY:Live Music @ Portside
DESCRIPTION:Come enjoy live music and yummy food at this waterfront\, outdoor dock pub\, located in the Virginia Dare marina. Click here to see who is playing this week!
URL:https://destinationbedfordva.com/event/live-music-portside-2-2/2024-06-30/
LOCATION:Portside Grill and Bar\, 3619 Airport Rd.\, Moneta\, VA\, 24121\, United States
ATTACH;FMTTYPE=image/jpeg:https://destinationbedfordva.com/wp-content/uploads/2021/05/portside.jpg
END:VEVENT
BEGIN:VEVENT
DTSTART;TZID=America/New_York:20240629T170000
DTEND;TZID=America/New_York:20240629T190000
DTSTAMP:20260422T081332
CREATED:20240528T131704Z
LAST-MODIFIED:20240528T131741Z
UID:10054961-1719680400-1719687600@destinationbedfordva.com
SUMMARY:Live Music @ Portside
DESCRIPTION:Come enjoy live music and yummy food at this waterfront\, outdoor dock pub\, located in the Virginia Dare marina. Click here to see who is playing this week!
URL:https://destinationbedfordva.com/event/live-music-portside-3/2024-06-29/
LOCATION:Portside Grill and Bar\, 3619 Airport Rd.\, Moneta\, VA\, 24121\, United States
ATTACH;FMTTYPE=image/jpeg:https://destinationbedfordva.com/wp-content/uploads/2021/05/portside.jpg
END:VEVENT
BEGIN:VEVENT
DTSTART;TZID=America/New_York:20240623T140000
DTEND;TZID=America/New_York:20240623T160000
DTSTAMP:20260422T081332
CREATED:20240205T163911Z
LAST-MODIFIED:20240528T131256Z
UID:10054944-1719151200-1719158400@destinationbedfordva.com
SUMMARY:Live Music @ Portside
DESCRIPTION:Come enjoy live music and yummy food at this waterfront\, outdoor dock pub\, located in the Virginia Dare marina. Click here to see who is playing this week!
URL:https://destinationbedfordva.com/event/live-music-portside-2-2/2024-06-23/
LOCATION:Portside Grill and Bar\, 3619 Airport Rd.\, Moneta\, VA\, 24121\, United States
ATTACH;FMTTYPE=image/jpeg:https://destinationbedfordva.com/wp-content/uploads/2021/05/portside.jpg
END:VEVENT
BEGIN:VEVENT
DTSTART;TZID=America/New_York:20240622T170000
DTEND;TZID=America/New_York:20240622T190000
DTSTAMP:20260422T081332
CREATED:20240528T131704Z
LAST-MODIFIED:20240528T131741Z
UID:10054960-1719075600-1719082800@destinationbedfordva.com
SUMMARY:Live Music @ Portside
DESCRIPTION:Come enjoy live music and yummy food at this waterfront\, outdoor dock pub\, located in the Virginia Dare marina. Click here to see who is playing this week!
URL:https://destinationbedfordva.com/event/live-music-portside-3/2024-06-22/
LOCATION:Portside Grill and Bar\, 3619 Airport Rd.\, Moneta\, VA\, 24121\, United States
ATTACH;FMTTYPE=image/jpeg:https://destinationbedfordva.com/wp-content/uploads/2021/05/portside.jpg
END:VEVENT
BEGIN:VEVENT
DTSTART;TZID=America/New_York:20240616T140000
DTEND;TZID=America/New_York:20240616T160000
DTSTAMP:20260422T081332
CREATED:20240205T163911Z
LAST-MODIFIED:20240528T131256Z
UID:10054943-1718546400-1718553600@destinationbedfordva.com
SUMMARY:Live Music @ Portside
DESCRIPTION:Come enjoy live music and yummy food at this waterfront\, outdoor dock pub\, located in the Virginia Dare marina. Click here to see who is playing this week!
URL:https://destinationbedfordva.com/event/live-music-portside-2-2/2024-06-16/
LOCATION:Portside Grill and Bar\, 3619 Airport Rd.\, Moneta\, VA\, 24121\, United States
ATTACH;FMTTYPE=image/jpeg:https://destinationbedfordva.com/wp-content/uploads/2021/05/portside.jpg
END:VEVENT
BEGIN:VEVENT
DTSTART;TZID=America/New_York:20240615T170000
DTEND;TZID=America/New_York:20240615T190000
DTSTAMP:20260422T081332
CREATED:20240528T131704Z
LAST-MODIFIED:20240528T131741Z
UID:10054959-1718470800-1718478000@destinationbedfordva.com
SUMMARY:Live Music @ Portside
DESCRIPTION:Come enjoy live music and yummy food at this waterfront\, outdoor dock pub\, located in the Virginia Dare marina. Click here to see who is playing this week!
URL:https://destinationbedfordva.com/event/live-music-portside-3/2024-06-15/
LOCATION:Portside Grill and Bar\, 3619 Airport Rd.\, Moneta\, VA\, 24121\, United States
ATTACH;FMTTYPE=image/jpeg:https://destinationbedfordva.com/wp-content/uploads/2021/05/portside.jpg
END:VEVENT
BEGIN:VEVENT
DTSTART;TZID=America/New_York:20240609T140000
DTEND;TZID=America/New_York:20240609T160000
DTSTAMP:20260422T081332
CREATED:20240205T163911Z
LAST-MODIFIED:20240528T131256Z
UID:10054942-1717941600-1717948800@destinationbedfordva.com
SUMMARY:Live Music @ Portside
DESCRIPTION:Come enjoy live music and yummy food at this waterfront\, outdoor dock pub\, located in the Virginia Dare marina. Click here to see who is playing this week!
URL:https://destinationbedfordva.com/event/live-music-portside-2-2/2024-06-09/
LOCATION:Portside Grill and Bar\, 3619 Airport Rd.\, Moneta\, VA\, 24121\, United States
ATTACH;FMTTYPE=image/jpeg:https://destinationbedfordva.com/wp-content/uploads/2021/05/portside.jpg
END:VEVENT
BEGIN:VEVENT
DTSTART;TZID=America/New_York:20240608T170000
DTEND;TZID=America/New_York:20240608T190000
DTSTAMP:20260422T081332
CREATED:20240528T131704Z
LAST-MODIFIED:20240528T131741Z
UID:10054958-1717866000-1717873200@destinationbedfordva.com
SUMMARY:Live Music @ Portside
DESCRIPTION:Come enjoy live music and yummy food at this waterfront\, outdoor dock pub\, located in the Virginia Dare marina. Click here to see who is playing this week!
URL:https://destinationbedfordva.com/event/live-music-portside-3/2024-06-08/
LOCATION:Portside Grill and Bar\, 3619 Airport Rd.\, Moneta\, VA\, 24121\, United States
ATTACH;FMTTYPE=image/jpeg:https://destinationbedfordva.com/wp-content/uploads/2021/05/portside.jpg
END:VEVENT
BEGIN:VEVENT
DTSTART;TZID=America/New_York:20240602T140000
DTEND;TZID=America/New_York:20240602T160000
DTSTAMP:20260422T081332
CREATED:20240205T163911Z
LAST-MODIFIED:20240528T131256Z
UID:10054857-1717336800-1717344000@destinationbedfordva.com
SUMMARY:Live Music @ Portside
DESCRIPTION:Come enjoy live music and yummy food at this waterfront\, outdoor dock pub\, located in the Virginia Dare marina. Click here to see who is playing this week!
URL:https://destinationbedfordva.com/event/live-music-portside-2-2/2024-06-02/
LOCATION:Portside Grill and Bar\, 3619 Airport Rd.\, Moneta\, VA\, 24121\, United States
ATTACH;FMTTYPE=image/jpeg:https://destinationbedfordva.com/wp-content/uploads/2021/05/portside.jpg
END:VEVENT
BEGIN:VEVENT
DTSTART;TZID=America/New_York:20240601T170000
DTEND;TZID=America/New_York:20240601T190000
DTSTAMP:20260422T081332
CREATED:20240528T131704Z
LAST-MODIFIED:20240528T131741Z
UID:10054957-1717261200-1717268400@destinationbedfordva.com
SUMMARY:Live Music @ Portside
DESCRIPTION:Come enjoy live music and yummy food at this waterfront\, outdoor dock pub\, located in the Virginia Dare marina. Click here to see who is playing this week!
URL:https://destinationbedfordva.com/event/live-music-portside-3/2024-06-01/
LOCATION:Portside Grill and Bar\, 3619 Airport Rd.\, Moneta\, VA\, 24121\, United States
ATTACH;FMTTYPE=image/jpeg:https://destinationbedfordva.com/wp-content/uploads/2021/05/portside.jpg
END:VEVENT
BEGIN:VEVENT
DTSTART;TZID=America/New_York:20240504T170000
DTEND;TZID=America/New_York:20240504T190000
DTSTAMP:20260422T081332
CREATED:20240424T184424Z
LAST-MODIFIED:20240424T184424Z
UID:10054398-1714842000-1714849200@destinationbedfordva.com
SUMMARY:Christian Q. SOLO at Portside Grill & Bar
DESCRIPTION:May the 4th be with you!\nThe force is strong at Portside\, and Christian Q. will be bringing the tunes!
URL:https://destinationbedfordva.com/event/christian-q-solo-at-portside-grill-bar/
LOCATION:Portside Grill and Bar\, 3619 Airport Rd.\, Moneta\, VA\, 24121\, United States
ATTACH;FMTTYPE=image/jpeg:https://destinationbedfordva.com/wp-content/uploads/2024/04/Christian-Q-Portside.jpg
END:VEVENT
BEGIN:VEVENT
DTSTART;TZID=America/New_York:20240427T120000
DTEND;TZID=America/New_York:20240427T160000
DTSTAMP:20260422T081332
CREATED:20230426T200223Z
LAST-MODIFIED:20240205T163208Z
UID:10051841-1714219200-1714233600@destinationbedfordva.com
SUMMARY:Portside BBQ Battle
DESCRIPTION:Come enjoy the 3rd Annual Portside BBQ Battle ! Both bars at Beacon Pub & Portside will be open to walk in guests!\nEnjoy live music along with numerous tasty styles of BBQ!\n \n 
URL:https://destinationbedfordva.com/event/portside-bbq-battle/
LOCATION:Portside Grill and Bar\, 3619 Airport Rd.\, Moneta\, VA\, 24121\, United States
ATTACH;FMTTYPE=image/jpeg:https://destinationbedfordva.com/wp-content/uploads/2023/04/BBQ-Battle.jpg
END:VEVENT
BEGIN:VEVENT
DTSTART;TZID=America/New_York:20230929T180000
DTEND;TZID=America/New_York:20230929T200000
DTSTAMP:20260422T081332
CREATED:20210520T190004Z
LAST-MODIFIED:20230613T193129Z
UID:10052677-1696010400-1696017600@destinationbedfordva.com
SUMMARY:Live Music @ Portside
DESCRIPTION:Come enjoy live music and yummy food at this waterfront\, outdoor dock pub\, located in the Virginia Dare marina. Click here to see who is playing this week!
URL:https://destinationbedfordva.com/event/live-music-portside-2/2023-09-29/
LOCATION:Portside Grill and Bar\, 3619 Airport Rd.\, Moneta\, VA\, 24121\, United States
ATTACH;FMTTYPE=image/jpeg:https://destinationbedfordva.com/wp-content/uploads/2021/05/portside.jpg
END:VEVENT
BEGIN:VEVENT
DTSTART;TZID=America/New_York:20230923T180000
DTEND;TZID=America/New_York:20230923T200000
DTSTAMP:20260422T081332
CREATED:20210520T190004Z
LAST-MODIFIED:20230613T193129Z
UID:10052676-1695492000-1695499200@destinationbedfordva.com
SUMMARY:Live Music @ Portside
DESCRIPTION:Come enjoy live music and yummy food at this waterfront\, outdoor dock pub\, located in the Virginia Dare marina. Click here to see who is playing this week!
URL:https://destinationbedfordva.com/event/live-music-portside-2/2023-09-23/
LOCATION:Portside Grill and Bar\, 3619 Airport Rd.\, Moneta\, VA\, 24121\, United States
ATTACH;FMTTYPE=image/jpeg:https://destinationbedfordva.com/wp-content/uploads/2021/05/portside.jpg
END:VEVENT
BEGIN:VEVENT
DTSTART;TZID=America/New_York:20230922T180000
DTEND;TZID=America/New_York:20230922T200000
DTSTAMP:20260422T081332
CREATED:20210520T190004Z
LAST-MODIFIED:20230613T193129Z
UID:10052675-1695405600-1695412800@destinationbedfordva.com
SUMMARY:Live Music @ Portside
DESCRIPTION:Come enjoy live music and yummy food at this waterfront\, outdoor dock pub\, located in the Virginia Dare marina. Click here to see who is playing this week!
URL:https://destinationbedfordva.com/event/live-music-portside-2/2023-09-22/
LOCATION:Portside Grill and Bar\, 3619 Airport Rd.\, Moneta\, VA\, 24121\, United States
ATTACH;FMTTYPE=image/jpeg:https://destinationbedfordva.com/wp-content/uploads/2021/05/portside.jpg
END:VEVENT
END:VCALENDAR