BEGIN:VCALENDAR
VERSION:2.0
PRODID:-//Destination Bedford - ECPv6.8.3//NONSGML v1.0//EN
CALSCALE:GREGORIAN
METHOD:PUBLISH
X-WR-CALNAME:Destination Bedford
X-ORIGINAL-URL:https://destinationbedfordva.com
X-WR-CALDESC:Events for Destination Bedford
REFRESH-INTERVAL;VALUE=DURATION:PT1H
X-Robots-Tag:noindex
X-PUBLISHED-TTL:PT1H
BEGIN:VTIMEZONE
TZID:America/New_York
BEGIN:DAYLIGHT
TZOFFSETFROM:-0500
TZOFFSETTO:-0400
TZNAME:EDT
DTSTART:20190310T070000
END:DAYLIGHT
BEGIN:STANDARD
TZOFFSETFROM:-0400
TZOFFSETTO:-0500
TZNAME:EST
DTSTART:20191103T060000
END:STANDARD
BEGIN:DAYLIGHT
TZOFFSETFROM:-0500
TZOFFSETTO:-0400
TZNAME:EDT
DTSTART:20200308T070000
END:DAYLIGHT
BEGIN:STANDARD
TZOFFSETFROM:-0400
TZOFFSETTO:-0500
TZNAME:EST
DTSTART:20201101T060000
END:STANDARD
BEGIN:DAYLIGHT
TZOFFSETFROM:-0500
TZOFFSETTO:-0400
TZNAME:EDT
DTSTART:20210314T070000
END:DAYLIGHT
BEGIN:STANDARD
TZOFFSETFROM:-0400
TZOFFSETTO:-0500
TZNAME:EST
DTSTART:20211107T060000
END:STANDARD
BEGIN:DAYLIGHT
TZOFFSETFROM:-0500
TZOFFSETTO:-0400
TZNAME:EDT
DTSTART:20220313T070000
END:DAYLIGHT
BEGIN:STANDARD
TZOFFSETFROM:-0400
TZOFFSETTO:-0500
TZNAME:EST
DTSTART:20221106T060000
END:STANDARD
BEGIN:DAYLIGHT
TZOFFSETFROM:-0500
TZOFFSETTO:-0400
TZNAME:EDT
DTSTART:20230312T070000
END:DAYLIGHT
BEGIN:STANDARD
TZOFFSETFROM:-0400
TZOFFSETTO:-0500
TZNAME:EST
DTSTART:20231105T060000
END:STANDARD
END:VTIMEZONE
BEGIN:VEVENT
DTSTART;TZID=America/New_York:20230901T180000
DTEND;TZID=America/New_York:20230901T200000
DTSTAMP:20260423T065100
CREATED:20210520T190004Z
LAST-MODIFIED:20230613T193129Z
UID:10052669-1693591200-1693598400@destinationbedfordva.com
SUMMARY:Live Music @ Portside
DESCRIPTION:Come enjoy live music and yummy food at this waterfront\, outdoor dock pub\, located in the Virginia Dare marina. Click here to see who is playing this week!
URL:https://destinationbedfordva.com/event/live-music-portside-2/2023-09-01/
LOCATION:Portside Grill and Bar\, 3619 Airport Rd.\, Moneta\, VA\, 24121\, United States
ATTACH;FMTTYPE=image/jpeg:https://destinationbedfordva.com/wp-content/uploads/2021/05/portside.jpg
END:VEVENT
BEGIN:VEVENT
DTSTART;TZID=America/New_York:20230826T180000
DTEND;TZID=America/New_York:20230826T200000
DTSTAMP:20260423T065101
CREATED:20210520T190004Z
LAST-MODIFIED:20230613T193129Z
UID:10052668-1693072800-1693080000@destinationbedfordva.com
SUMMARY:Live Music @ Portside
DESCRIPTION:Come enjoy live music and yummy food at this waterfront\, outdoor dock pub\, located in the Virginia Dare marina. Click here to see who is playing this week!
URL:https://destinationbedfordva.com/event/live-music-portside-2/2023-08-26/
LOCATION:Portside Grill and Bar\, 3619 Airport Rd.\, Moneta\, VA\, 24121\, United States
ATTACH;FMTTYPE=image/jpeg:https://destinationbedfordva.com/wp-content/uploads/2021/05/portside.jpg
END:VEVENT
BEGIN:VEVENT
DTSTART;TZID=America/New_York:20230825T180000
DTEND;TZID=America/New_York:20230825T200000
DTSTAMP:20260423T065101
CREATED:20210520T190004Z
LAST-MODIFIED:20230613T193129Z
UID:10052667-1692986400-1692993600@destinationbedfordva.com
SUMMARY:Live Music @ Portside
DESCRIPTION:Come enjoy live music and yummy food at this waterfront\, outdoor dock pub\, located in the Virginia Dare marina. Click here to see who is playing this week!
URL:https://destinationbedfordva.com/event/live-music-portside-2/2023-08-25/
LOCATION:Portside Grill and Bar\, 3619 Airport Rd.\, Moneta\, VA\, 24121\, United States
ATTACH;FMTTYPE=image/jpeg:https://destinationbedfordva.com/wp-content/uploads/2021/05/portside.jpg
END:VEVENT
BEGIN:VEVENT
DTSTART;TZID=America/New_York:20230819T180000
DTEND;TZID=America/New_York:20230819T200000
DTSTAMP:20260423T065101
CREATED:20210520T190004Z
LAST-MODIFIED:20230613T193129Z
UID:10052666-1692468000-1692475200@destinationbedfordva.com
SUMMARY:Live Music @ Portside
DESCRIPTION:Come enjoy live music and yummy food at this waterfront\, outdoor dock pub\, located in the Virginia Dare marina. Click here to see who is playing this week!
URL:https://destinationbedfordva.com/event/live-music-portside-2/2023-08-19/
LOCATION:Portside Grill and Bar\, 3619 Airport Rd.\, Moneta\, VA\, 24121\, United States
ATTACH;FMTTYPE=image/jpeg:https://destinationbedfordva.com/wp-content/uploads/2021/05/portside.jpg
END:VEVENT
BEGIN:VEVENT
DTSTART;TZID=America/New_York:20230818T180000
DTEND;TZID=America/New_York:20230818T200000
DTSTAMP:20260423T065101
CREATED:20210520T190004Z
LAST-MODIFIED:20230613T193129Z
UID:10052665-1692381600-1692388800@destinationbedfordva.com
SUMMARY:Live Music @ Portside
DESCRIPTION:Come enjoy live music and yummy food at this waterfront\, outdoor dock pub\, located in the Virginia Dare marina. Click here to see who is playing this week!
URL:https://destinationbedfordva.com/event/live-music-portside-2/2023-08-18/
LOCATION:Portside Grill and Bar\, 3619 Airport Rd.\, Moneta\, VA\, 24121\, United States
ATTACH;FMTTYPE=image/jpeg:https://destinationbedfordva.com/wp-content/uploads/2021/05/portside.jpg
END:VEVENT
BEGIN:VEVENT
DTSTART;TZID=America/New_York:20230812T180000
DTEND;TZID=America/New_York:20230812T200000
DTSTAMP:20260423T065101
CREATED:20210520T190004Z
LAST-MODIFIED:20230613T193129Z
UID:10052664-1691863200-1691870400@destinationbedfordva.com
SUMMARY:Live Music @ Portside
DESCRIPTION:Come enjoy live music and yummy food at this waterfront\, outdoor dock pub\, located in the Virginia Dare marina. Click here to see who is playing this week!
URL:https://destinationbedfordva.com/event/live-music-portside-2/2023-08-12/
LOCATION:Portside Grill and Bar\, 3619 Airport Rd.\, Moneta\, VA\, 24121\, United States
ATTACH;FMTTYPE=image/jpeg:https://destinationbedfordva.com/wp-content/uploads/2021/05/portside.jpg
END:VEVENT
BEGIN:VEVENT
DTSTART;TZID=America/New_York:20230811T180000
DTEND;TZID=America/New_York:20230811T200000
DTSTAMP:20260423T065101
CREATED:20210520T190004Z
LAST-MODIFIED:20230613T193129Z
UID:10052663-1691776800-1691784000@destinationbedfordva.com
SUMMARY:Live Music @ Portside
DESCRIPTION:Come enjoy live music and yummy food at this waterfront\, outdoor dock pub\, located in the Virginia Dare marina. Click here to see who is playing this week!
URL:https://destinationbedfordva.com/event/live-music-portside-2/2023-08-11/
LOCATION:Portside Grill and Bar\, 3619 Airport Rd.\, Moneta\, VA\, 24121\, United States
ATTACH;FMTTYPE=image/jpeg:https://destinationbedfordva.com/wp-content/uploads/2021/05/portside.jpg
END:VEVENT
BEGIN:VEVENT
DTSTART;TZID=America/New_York:20230805T180000
DTEND;TZID=America/New_York:20230805T200000
DTSTAMP:20260423T065101
CREATED:20210520T190004Z
LAST-MODIFIED:20230613T193129Z
UID:10052662-1691258400-1691265600@destinationbedfordva.com
SUMMARY:Live Music @ Portside
DESCRIPTION:Come enjoy live music and yummy food at this waterfront\, outdoor dock pub\, located in the Virginia Dare marina. Click here to see who is playing this week!
URL:https://destinationbedfordva.com/event/live-music-portside-2/2023-08-05/
LOCATION:Portside Grill and Bar\, 3619 Airport Rd.\, Moneta\, VA\, 24121\, United States
ATTACH;FMTTYPE=image/jpeg:https://destinationbedfordva.com/wp-content/uploads/2021/05/portside.jpg
END:VEVENT
BEGIN:VEVENT
DTSTART;TZID=America/New_York:20230804T180000
DTEND;TZID=America/New_York:20230804T200000
DTSTAMP:20260423T065101
CREATED:20210520T190004Z
LAST-MODIFIED:20230613T193129Z
UID:10052661-1691172000-1691179200@destinationbedfordva.com
SUMMARY:Live Music @ Portside
DESCRIPTION:Come enjoy live music and yummy food at this waterfront\, outdoor dock pub\, located in the Virginia Dare marina. Click here to see who is playing this week!
URL:https://destinationbedfordva.com/event/live-music-portside-2/2023-08-04/
LOCATION:Portside Grill and Bar\, 3619 Airport Rd.\, Moneta\, VA\, 24121\, United States
ATTACH;FMTTYPE=image/jpeg:https://destinationbedfordva.com/wp-content/uploads/2021/05/portside.jpg
END:VEVENT
BEGIN:VEVENT
DTSTART;TZID=America/New_York:20230729T180000
DTEND;TZID=America/New_York:20230729T200000
DTSTAMP:20260423T065101
CREATED:20210520T190004Z
LAST-MODIFIED:20230613T193129Z
UID:10052660-1690653600-1690660800@destinationbedfordva.com
SUMMARY:Live Music @ Portside
DESCRIPTION:Come enjoy live music and yummy food at this waterfront\, outdoor dock pub\, located in the Virginia Dare marina. Click here to see who is playing this week!
URL:https://destinationbedfordva.com/event/live-music-portside-2/2023-07-29/
LOCATION:Portside Grill and Bar\, 3619 Airport Rd.\, Moneta\, VA\, 24121\, United States
ATTACH;FMTTYPE=image/jpeg:https://destinationbedfordva.com/wp-content/uploads/2021/05/portside.jpg
END:VEVENT
BEGIN:VEVENT
DTSTART;TZID=America/New_York:20230728T180000
DTEND;TZID=America/New_York:20230728T200000
DTSTAMP:20260423T065101
CREATED:20210520T190004Z
LAST-MODIFIED:20230613T193129Z
UID:10052659-1690567200-1690574400@destinationbedfordva.com
SUMMARY:Live Music @ Portside
DESCRIPTION:Come enjoy live music and yummy food at this waterfront\, outdoor dock pub\, located in the Virginia Dare marina. Click here to see who is playing this week!
URL:https://destinationbedfordva.com/event/live-music-portside-2/2023-07-28/
LOCATION:Portside Grill and Bar\, 3619 Airport Rd.\, Moneta\, VA\, 24121\, United States
ATTACH;FMTTYPE=image/jpeg:https://destinationbedfordva.com/wp-content/uploads/2021/05/portside.jpg
END:VEVENT
BEGIN:VEVENT
DTSTART;TZID=America/New_York:20230722T180000
DTEND;TZID=America/New_York:20230722T200000
DTSTAMP:20260423T065101
CREATED:20210520T190004Z
LAST-MODIFIED:20230613T193129Z
UID:10052658-1690048800-1690056000@destinationbedfordva.com
SUMMARY:Live Music @ Portside
DESCRIPTION:Come enjoy live music and yummy food at this waterfront\, outdoor dock pub\, located in the Virginia Dare marina. Click here to see who is playing this week!
URL:https://destinationbedfordva.com/event/live-music-portside-2/2023-07-22/
LOCATION:Portside Grill and Bar\, 3619 Airport Rd.\, Moneta\, VA\, 24121\, United States
ATTACH;FMTTYPE=image/jpeg:https://destinationbedfordva.com/wp-content/uploads/2021/05/portside.jpg
END:VEVENT
BEGIN:VEVENT
DTSTART;TZID=America/New_York:20230721T180000
DTEND;TZID=America/New_York:20230721T200000
DTSTAMP:20260423T065101
CREATED:20210520T190004Z
LAST-MODIFIED:20230613T193129Z
UID:10052657-1689962400-1689969600@destinationbedfordva.com
SUMMARY:Live Music @ Portside
DESCRIPTION:Come enjoy live music and yummy food at this waterfront\, outdoor dock pub\, located in the Virginia Dare marina. Click here to see who is playing this week!
URL:https://destinationbedfordva.com/event/live-music-portside-2/2023-07-21/
LOCATION:Portside Grill and Bar\, 3619 Airport Rd.\, Moneta\, VA\, 24121\, United States
ATTACH;FMTTYPE=image/jpeg:https://destinationbedfordva.com/wp-content/uploads/2021/05/portside.jpg
END:VEVENT
BEGIN:VEVENT
DTSTART;TZID=America/New_York:20230715T180000
DTEND;TZID=America/New_York:20230715T200000
DTSTAMP:20260423T065101
CREATED:20210520T190004Z
LAST-MODIFIED:20230613T193129Z
UID:10052656-1689444000-1689451200@destinationbedfordva.com
SUMMARY:Live Music @ Portside
DESCRIPTION:Come enjoy live music and yummy food at this waterfront\, outdoor dock pub\, located in the Virginia Dare marina. Click here to see who is playing this week!
URL:https://destinationbedfordva.com/event/live-music-portside-2/2023-07-15/
LOCATION:Portside Grill and Bar\, 3619 Airport Rd.\, Moneta\, VA\, 24121\, United States
ATTACH;FMTTYPE=image/jpeg:https://destinationbedfordva.com/wp-content/uploads/2021/05/portside.jpg
END:VEVENT
BEGIN:VEVENT
DTSTART;TZID=America/New_York:20230714T180000
DTEND;TZID=America/New_York:20230714T200000
DTSTAMP:20260423T065101
CREATED:20210520T190004Z
LAST-MODIFIED:20230613T193129Z
UID:10052655-1689357600-1689364800@destinationbedfordva.com
SUMMARY:Live Music @ Portside
DESCRIPTION:Come enjoy live music and yummy food at this waterfront\, outdoor dock pub\, located in the Virginia Dare marina. Click here to see who is playing this week!
URL:https://destinationbedfordva.com/event/live-music-portside-2/2023-07-14/
LOCATION:Portside Grill and Bar\, 3619 Airport Rd.\, Moneta\, VA\, 24121\, United States
ATTACH;FMTTYPE=image/jpeg:https://destinationbedfordva.com/wp-content/uploads/2021/05/portside.jpg
END:VEVENT
BEGIN:VEVENT
DTSTART;TZID=America/New_York:20230708T180000
DTEND;TZID=America/New_York:20230708T200000
DTSTAMP:20260423T065101
CREATED:20210520T190004Z
LAST-MODIFIED:20230613T193129Z
UID:10052654-1688839200-1688846400@destinationbedfordva.com
SUMMARY:Live Music @ Portside
DESCRIPTION:Come enjoy live music and yummy food at this waterfront\, outdoor dock pub\, located in the Virginia Dare marina. Click here to see who is playing this week!
URL:https://destinationbedfordva.com/event/live-music-portside-2/2023-07-08/
LOCATION:Portside Grill and Bar\, 3619 Airport Rd.\, Moneta\, VA\, 24121\, United States
ATTACH;FMTTYPE=image/jpeg:https://destinationbedfordva.com/wp-content/uploads/2021/05/portside.jpg
END:VEVENT
BEGIN:VEVENT
DTSTART;TZID=America/New_York:20230707T180000
DTEND;TZID=America/New_York:20230707T200000
DTSTAMP:20260423T065101
CREATED:20210520T190004Z
LAST-MODIFIED:20230613T193129Z
UID:10052653-1688752800-1688760000@destinationbedfordva.com
SUMMARY:Live Music @ Portside
DESCRIPTION:Come enjoy live music and yummy food at this waterfront\, outdoor dock pub\, located in the Virginia Dare marina. Click here to see who is playing this week!
URL:https://destinationbedfordva.com/event/live-music-portside-2/2023-07-07/
LOCATION:Portside Grill and Bar\, 3619 Airport Rd.\, Moneta\, VA\, 24121\, United States
ATTACH;FMTTYPE=image/jpeg:https://destinationbedfordva.com/wp-content/uploads/2021/05/portside.jpg
END:VEVENT
BEGIN:VEVENT
DTSTART;TZID=America/New_York:20230701T180000
DTEND;TZID=America/New_York:20230701T200000
DTSTAMP:20260423T065101
CREATED:20210520T190004Z
LAST-MODIFIED:20230613T193129Z
UID:10052652-1688234400-1688241600@destinationbedfordva.com
SUMMARY:Live Music @ Portside
DESCRIPTION:Come enjoy live music and yummy food at this waterfront\, outdoor dock pub\, located in the Virginia Dare marina. Click here to see who is playing this week!
URL:https://destinationbedfordva.com/event/live-music-portside-2/2023-07-01/
LOCATION:Portside Grill and Bar\, 3619 Airport Rd.\, Moneta\, VA\, 24121\, United States
ATTACH;FMTTYPE=image/jpeg:https://destinationbedfordva.com/wp-content/uploads/2021/05/portside.jpg
END:VEVENT
BEGIN:VEVENT
DTSTART;TZID=America/New_York:20230630T180000
DTEND;TZID=America/New_York:20230630T200000
DTSTAMP:20260423T065101
CREATED:20210520T190004Z
LAST-MODIFIED:20230613T193129Z
UID:10052651-1688148000-1688155200@destinationbedfordva.com
SUMMARY:Live Music @ Portside
DESCRIPTION:Come enjoy live music and yummy food at this waterfront\, outdoor dock pub\, located in the Virginia Dare marina. Click here to see who is playing this week!
URL:https://destinationbedfordva.com/event/live-music-portside-2/2023-06-30/
LOCATION:Portside Grill and Bar\, 3619 Airport Rd.\, Moneta\, VA\, 24121\, United States
ATTACH;FMTTYPE=image/jpeg:https://destinationbedfordva.com/wp-content/uploads/2021/05/portside.jpg
END:VEVENT
BEGIN:VEVENT
DTSTART;TZID=America/New_York:20230624T180000
DTEND;TZID=America/New_York:20230624T200000
DTSTAMP:20260423T065101
CREATED:20210520T190004Z
LAST-MODIFIED:20230613T193129Z
UID:10052650-1687629600-1687636800@destinationbedfordva.com
SUMMARY:Live Music @ Portside
DESCRIPTION:Come enjoy live music and yummy food at this waterfront\, outdoor dock pub\, located in the Virginia Dare marina. Click here to see who is playing this week!
URL:https://destinationbedfordva.com/event/live-music-portside-2/2023-06-24/
LOCATION:Portside Grill and Bar\, 3619 Airport Rd.\, Moneta\, VA\, 24121\, United States
ATTACH;FMTTYPE=image/jpeg:https://destinationbedfordva.com/wp-content/uploads/2021/05/portside.jpg
END:VEVENT
BEGIN:VEVENT
DTSTART;TZID=America/New_York:20230623T180000
DTEND;TZID=America/New_York:20230623T200000
DTSTAMP:20260423T065101
CREATED:20210520T190004Z
LAST-MODIFIED:20230613T193129Z
UID:10052649-1687543200-1687550400@destinationbedfordva.com
SUMMARY:Live Music @ Portside
DESCRIPTION:Come enjoy live music and yummy food at this waterfront\, outdoor dock pub\, located in the Virginia Dare marina. Click here to see who is playing this week!
URL:https://destinationbedfordva.com/event/live-music-portside-2/2023-06-23/
LOCATION:Portside Grill and Bar\, 3619 Airport Rd.\, Moneta\, VA\, 24121\, United States
ATTACH;FMTTYPE=image/jpeg:https://destinationbedfordva.com/wp-content/uploads/2021/05/portside.jpg
END:VEVENT
BEGIN:VEVENT
DTSTART;TZID=America/New_York:20230617T180000
DTEND;TZID=America/New_York:20230617T200000
DTSTAMP:20260423T065101
CREATED:20210520T190004Z
LAST-MODIFIED:20230613T193129Z
UID:10052648-1687024800-1687032000@destinationbedfordva.com
SUMMARY:Live Music @ Portside
DESCRIPTION:Come enjoy live music and yummy food at this waterfront\, outdoor dock pub\, located in the Virginia Dare marina. Click here to see who is playing this week!
URL:https://destinationbedfordva.com/event/live-music-portside-2/2023-06-17/
LOCATION:Portside Grill and Bar\, 3619 Airport Rd.\, Moneta\, VA\, 24121\, United States
ATTACH;FMTTYPE=image/jpeg:https://destinationbedfordva.com/wp-content/uploads/2021/05/portside.jpg
END:VEVENT
BEGIN:VEVENT
DTSTART;TZID=America/New_York:20230616T180000
DTEND;TZID=America/New_York:20230616T200000
DTSTAMP:20260423T065101
CREATED:20210520T190004Z
LAST-MODIFIED:20230613T193129Z
UID:10052647-1686938400-1686945600@destinationbedfordva.com
SUMMARY:Live Music @ Portside
DESCRIPTION:Come enjoy live music and yummy food at this waterfront\, outdoor dock pub\, located in the Virginia Dare marina. Click here to see who is playing this week!
URL:https://destinationbedfordva.com/event/live-music-portside-2/2023-06-16/
LOCATION:Portside Grill and Bar\, 3619 Airport Rd.\, Moneta\, VA\, 24121\, United States
ATTACH;FMTTYPE=image/jpeg:https://destinationbedfordva.com/wp-content/uploads/2021/05/portside.jpg
END:VEVENT
BEGIN:VEVENT
DTSTART;TZID=America/New_York:20230603T160000
DTEND;TZID=America/New_York:20230603T180000
DTSTAMP:20260423T065101
CREATED:20230601T163442Z
LAST-MODIFIED:20230601T163442Z
UID:10052077-1685808000-1685815200@destinationbedfordva.com
SUMMARY:Hook\, Lines and Singers - SML Songwriters Festival
DESCRIPTION:Click here to see a full schedule of this songwriters festival at Smith Mountain Lake! 
URL:https://destinationbedfordva.com/event/hook-lines-and-singers-sml-songwriters-festival-2/
LOCATION:Portside Grill and Bar\, 3619 Airport Rd.\, Moneta\, VA\, 24121\, United States
ATTACH;FMTTYPE=image/jpeg:https://destinationbedfordva.com/wp-content/uploads/2023/06/Hook-Lines-and-singers-2023-1.jpg
END:VEVENT
BEGIN:VEVENT
DTSTART;TZID=America/New_York:20220430T120000
DTEND;TZID=America/New_York:20220430T200000
DTSTAMP:20260423T065101
CREATED:20220426T203707Z
LAST-MODIFIED:20220426T203707Z
UID:10049590-1651320000-1651348800@destinationbedfordva.com
SUMMARY:BBQ\, Car Show & Live Music
DESCRIPTION:Come to Portside Grill & Bar at the Virginia Dare Marina for a day full of tasty BBQ and fancy cars! \nMusical guests include Christian Q from 12-2:30pm\, Karlee Raye from 3-5:30pm\, and Jodie Davis from 6-8pm! 
URL:https://destinationbedfordva.com/event/bbq-car-show-live-music/
LOCATION:Portside Grill and Bar\, 3619 Airport Rd.\, Moneta\, VA\, 24121\, United States
ATTACH;FMTTYPE=image/jpeg:https://destinationbedfordva.com/wp-content/uploads/2022/04/BBQ-and-car-show-@-portside.jpg
END:VEVENT
BEGIN:VEVENT
DTSTART;TZID=America/New_York:20201031T180000
DTEND;TZID=America/New_York:20201031T220000
DTSTAMP:20260423T065101
CREATED:20201005T140411Z
LAST-MODIFIED:20201005T200612Z
UID:10048285-1604167200-1604181600@destinationbedfordva.com
SUMMARY:Portside Halloween Party
DESCRIPTION:Come to Portside Bar and Grill for food and drink specials and live music from SFT Trio. Entry free with costume\, without costume it will be $10.  \n$10 entry fee will be donated to St. Jude Children Hospital. 
URL:https://destinationbedfordva.com/event/portside-halloween-party/
LOCATION:Portside Grill and Bar\, 3619 Airport Rd.\, Moneta\, VA\, 24121\, United States
ATTACH;FMTTYPE=image/jpeg:https://destinationbedfordva.com/wp-content/uploads/2020/10/portside-halloween.jpg
END:VEVENT
BEGIN:VEVENT
DTSTART;TZID=America/New_York:20201018T140000
DTEND;TZID=America/New_York:20201018T160000
DTSTAMP:20260423T065101
CREATED:20201005T135145Z
LAST-MODIFIED:20201005T135522Z
UID:10048284-1603029600-1603036800@destinationbedfordva.com
SUMMARY:Live Music @ Portside
DESCRIPTION:Come see Jason Hostetter live at Portside Bar & Grill! Enjoy great food\, music and a great view provided by Smith Mountain Lake! 
URL:https://destinationbedfordva.com/event/live-music-portside/
LOCATION:Portside Grill and Bar\, 3619 Airport Rd.\, Moneta\, VA\, 24121\, United States
ATTACH;FMTTYPE=image/jpeg:https://destinationbedfordva.com/wp-content/uploads/2020/10/Live-music-at-portside.jpg
END:VEVENT
BEGIN:VEVENT
DTSTART;TZID=America/New_York:20200308T140000
DTEND;TZID=America/New_York:20200308T160000
DTSTAMP:20260423T065101
CREATED:20200306T164447Z
LAST-MODIFIED:20200306T164954Z
UID:10047786-1583676000-1583683200@destinationbedfordva.com
SUMMARY:Live Music at Portside
DESCRIPTION:Live music by Tate Tuck!
URL:https://destinationbedfordva.com/event/live-music-at-portside/
LOCATION:Portside Grill and Bar\, 3619 Airport Rd.\, Moneta\, VA\, 24121\, United States
ATTACH;FMTTYPE=image/jpeg:https://destinationbedfordva.com/wp-content/uploads/2020/03/tate-tuck.jpg
END:VEVENT
BEGIN:VEVENT
DTSTART;TZID=America/New_York:20191102T180000
DTEND;TZID=America/New_York:20191102T220000
DTSTAMP:20260423T065101
CREATED:20191002T203333Z
LAST-MODIFIED:20191002T203333Z
UID:10047448-1572717600-1572732000@destinationbedfordva.com
SUMMARY:Portside Costume Halloween Party
DESCRIPTION:IT’S BACK! Portside’s annual costume Halloween party will return on Saturday\, November 2\, 6-10 p.m.! We’ll have food and drink specials and live music from Scott Joshway with Frank Smusz Acoustic Jam all night! Show up in costume or pay a $10 entry fee (which will be donated to St. Jude’s).
URL:https://destinationbedfordva.com/event/portside-costume-halloween-party/
LOCATION:Portside Grill and Bar\, 3619 Airport Rd.\, Moneta\, VA\, 24121\, United States
END:VEVENT
END:VCALENDAR