BEGIN:VCALENDAR
VERSION:2.0
PRODID:-//Destination Bedford - ECPv6.8.3//NONSGML v1.0//EN
CALSCALE:GREGORIAN
METHOD:PUBLISH
X-WR-CALNAME:Destination Bedford
X-ORIGINAL-URL:https://destinationbedfordva.com
X-WR-CALDESC:Events for Destination Bedford
REFRESH-INTERVAL;VALUE=DURATION:PT1H
X-Robots-Tag:noindex
X-PUBLISHED-TTL:PT1H
BEGIN:VTIMEZONE
TZID:America/New_York
BEGIN:DAYLIGHT
TZOFFSETFROM:-0500
TZOFFSETTO:-0400
TZNAME:EDT
DTSTART:20180311T070000
END:DAYLIGHT
BEGIN:STANDARD
TZOFFSETFROM:-0400
TZOFFSETTO:-0500
TZNAME:EST
DTSTART:20181104T060000
END:STANDARD
BEGIN:DAYLIGHT
TZOFFSETFROM:-0500
TZOFFSETTO:-0400
TZNAME:EDT
DTSTART:20190310T070000
END:DAYLIGHT
BEGIN:STANDARD
TZOFFSETFROM:-0400
TZOFFSETTO:-0500
TZNAME:EST
DTSTART:20191103T060000
END:STANDARD
BEGIN:DAYLIGHT
TZOFFSETFROM:-0500
TZOFFSETTO:-0400
TZNAME:EDT
DTSTART:20200308T070000
END:DAYLIGHT
BEGIN:STANDARD
TZOFFSETFROM:-0400
TZOFFSETTO:-0500
TZNAME:EST
DTSTART:20201101T060000
END:STANDARD
BEGIN:DAYLIGHT
TZOFFSETFROM:-0500
TZOFFSETTO:-0400
TZNAME:EDT
DTSTART:20210314T070000
END:DAYLIGHT
BEGIN:STANDARD
TZOFFSETFROM:-0400
TZOFFSETTO:-0500
TZNAME:EST
DTSTART:20211107T060000
END:STANDARD
END:VTIMEZONE
BEGIN:VEVENT
DTSTART;TZID=America/New_York:20210109T110000
DTEND;TZID=America/New_York:20210109T123000
DTSTAMP:20260422T053019
CREATED:20201016T181430Z
LAST-MODIFIED:20201016T181430Z
UID:10048338-1610190000-1610195400@destinationbedfordva.com
SUMMARY:Cowboy Christmas
DESCRIPTION:Celebrate the holiday season in the true cowboy spirit. Go for a wonderful trail ride\, decorate an evergreen tree with edible ornaments for the wildlife\, and enjoy a true “Cowboy” dinner at the Inn. This full day of activities is sure to be enjoyed by all.  \nCost is $66/person.
URL:https://destinationbedfordva.com/event/cowboy-christmas-2/2021-01-09/
LOCATION:Reba Farm Inn and Saddle Soar Equitainment\, 1099 Reba Farm Lane\, Bedford\, VA\, 24523\, United States
ATTACH;FMTTYPE=image/jpeg:https://destinationbedfordva.com/wp-content/uploads/2020/10/Saddle-Soar.jpg
GEO:37.409982;-79.636243
X-APPLE-STRUCTURED-LOCATION;VALUE=URI;X-ADDRESS=Reba Farm Inn and Saddle Soar Equitainment 1099 Reba Farm Lane Bedford VA 24523 United States;X-APPLE-RADIUS=500;X-TITLE=1099 Reba Farm Lane:geo:-79.636243,37.409982
END:VEVENT
BEGIN:VEVENT
DTSTART;TZID=America/New_York:20210102T110000
DTEND;TZID=America/New_York:20210102T123000
DTSTAMP:20260422T053019
CREATED:20201016T181430Z
LAST-MODIFIED:20201016T181430Z
UID:10048337-1609585200-1609590600@destinationbedfordva.com
SUMMARY:Cowboy Christmas
DESCRIPTION:Celebrate the holiday season in the true cowboy spirit. Go for a wonderful trail ride\, decorate an evergreen tree with edible ornaments for the wildlife\, and enjoy a true “Cowboy” dinner at the Inn. This full day of activities is sure to be enjoyed by all.  \nCost is $66/person.
URL:https://destinationbedfordva.com/event/cowboy-christmas-2/2021-01-02/
LOCATION:Reba Farm Inn and Saddle Soar Equitainment\, 1099 Reba Farm Lane\, Bedford\, VA\, 24523\, United States
ATTACH;FMTTYPE=image/jpeg:https://destinationbedfordva.com/wp-content/uploads/2020/10/Saddle-Soar.jpg
GEO:37.409982;-79.636243
X-APPLE-STRUCTURED-LOCATION;VALUE=URI;X-ADDRESS=Reba Farm Inn and Saddle Soar Equitainment 1099 Reba Farm Lane Bedford VA 24523 United States;X-APPLE-RADIUS=500;X-TITLE=1099 Reba Farm Lane:geo:-79.636243,37.409982
END:VEVENT
BEGIN:VEVENT
DTSTART;TZID=America/New_York:20201226T110000
DTEND;TZID=America/New_York:20201226T123000
DTSTAMP:20260422T053019
CREATED:20201016T181430Z
LAST-MODIFIED:20201016T181430Z
UID:10048336-1608980400-1608985800@destinationbedfordva.com
SUMMARY:Cowboy Christmas
DESCRIPTION:Celebrate the holiday season in the true cowboy spirit. Go for a wonderful trail ride\, decorate an evergreen tree with edible ornaments for the wildlife\, and enjoy a true “Cowboy” dinner at the Inn. This full day of activities is sure to be enjoyed by all.  \nCost is $66/person.
URL:https://destinationbedfordva.com/event/cowboy-christmas-2/2020-12-26/
LOCATION:Reba Farm Inn and Saddle Soar Equitainment\, 1099 Reba Farm Lane\, Bedford\, VA\, 24523\, United States
ATTACH;FMTTYPE=image/jpeg:https://destinationbedfordva.com/wp-content/uploads/2020/10/Saddle-Soar.jpg
GEO:37.409982;-79.636243
X-APPLE-STRUCTURED-LOCATION;VALUE=URI;X-ADDRESS=Reba Farm Inn and Saddle Soar Equitainment 1099 Reba Farm Lane Bedford VA 24523 United States;X-APPLE-RADIUS=500;X-TITLE=1099 Reba Farm Lane:geo:-79.636243,37.409982
END:VEVENT
BEGIN:VEVENT
DTSTART;TZID=America/New_York:20201219T110000
DTEND;TZID=America/New_York:20201219T123000
DTSTAMP:20260422T053019
CREATED:20201016T181430Z
LAST-MODIFIED:20201016T181430Z
UID:10048335-1608375600-1608381000@destinationbedfordva.com
SUMMARY:Cowboy Christmas
DESCRIPTION:Celebrate the holiday season in the true cowboy spirit. Go for a wonderful trail ride\, decorate an evergreen tree with edible ornaments for the wildlife\, and enjoy a true “Cowboy” dinner at the Inn. This full day of activities is sure to be enjoyed by all.  \nCost is $66/person.
URL:https://destinationbedfordva.com/event/cowboy-christmas-2/2020-12-19/
LOCATION:Reba Farm Inn and Saddle Soar Equitainment\, 1099 Reba Farm Lane\, Bedford\, VA\, 24523\, United States
ATTACH;FMTTYPE=image/jpeg:https://destinationbedfordva.com/wp-content/uploads/2020/10/Saddle-Soar.jpg
GEO:37.409982;-79.636243
X-APPLE-STRUCTURED-LOCATION;VALUE=URI;X-ADDRESS=Reba Farm Inn and Saddle Soar Equitainment 1099 Reba Farm Lane Bedford VA 24523 United States;X-APPLE-RADIUS=500;X-TITLE=1099 Reba Farm Lane:geo:-79.636243,37.409982
END:VEVENT
BEGIN:VEVENT
DTSTART;TZID=America/New_York:20201212T110000
DTEND;TZID=America/New_York:20201212T123000
DTSTAMP:20260422T053019
CREATED:20201016T181430Z
LAST-MODIFIED:20201016T181430Z
UID:10048334-1607770800-1607776200@destinationbedfordva.com
SUMMARY:Cowboy Christmas
DESCRIPTION:Celebrate the holiday season in the true cowboy spirit. Go for a wonderful trail ride\, decorate an evergreen tree with edible ornaments for the wildlife\, and enjoy a true “Cowboy” dinner at the Inn. This full day of activities is sure to be enjoyed by all.  \nCost is $66/person.
URL:https://destinationbedfordva.com/event/cowboy-christmas-2/2020-12-12/
LOCATION:Reba Farm Inn and Saddle Soar Equitainment\, 1099 Reba Farm Lane\, Bedford\, VA\, 24523\, United States
ATTACH;FMTTYPE=image/jpeg:https://destinationbedfordva.com/wp-content/uploads/2020/10/Saddle-Soar.jpg
GEO:37.409982;-79.636243
X-APPLE-STRUCTURED-LOCATION;VALUE=URI;X-ADDRESS=Reba Farm Inn and Saddle Soar Equitainment 1099 Reba Farm Lane Bedford VA 24523 United States;X-APPLE-RADIUS=500;X-TITLE=1099 Reba Farm Lane:geo:-79.636243,37.409982
END:VEVENT
BEGIN:VEVENT
DTSTART;TZID=America/New_York:20201205T110000
DTEND;TZID=America/New_York:20201205T123000
DTSTAMP:20260422T053019
CREATED:20201016T181430Z
LAST-MODIFIED:20201016T181430Z
UID:10048333-1607166000-1607171400@destinationbedfordva.com
SUMMARY:Cowboy Christmas
DESCRIPTION:Celebrate the holiday season in the true cowboy spirit. Go for a wonderful trail ride\, decorate an evergreen tree with edible ornaments for the wildlife\, and enjoy a true “Cowboy” dinner at the Inn. This full day of activities is sure to be enjoyed by all.  \nCost is $66/person.
URL:https://destinationbedfordva.com/event/cowboy-christmas-2/2020-12-05/
LOCATION:Reba Farm Inn and Saddle Soar Equitainment\, 1099 Reba Farm Lane\, Bedford\, VA\, 24523\, United States
ATTACH;FMTTYPE=image/jpeg:https://destinationbedfordva.com/wp-content/uploads/2020/10/Saddle-Soar.jpg
GEO:37.409982;-79.636243
X-APPLE-STRUCTURED-LOCATION;VALUE=URI;X-ADDRESS=Reba Farm Inn and Saddle Soar Equitainment 1099 Reba Farm Lane Bedford VA 24523 United States;X-APPLE-RADIUS=500;X-TITLE=1099 Reba Farm Lane:geo:-79.636243,37.409982
END:VEVENT
BEGIN:VEVENT
DTSTART;TZID=America/New_York:20201002T200000
DTEND;TZID=America/New_York:20201002T224500
DTSTAMP:20260422T053019
CREATED:20200420T203032Z
LAST-MODIFIED:20200420T203032Z
UID:10047879-1601668800-1601678700@destinationbedfordva.com
SUMMARY:Moonlight Trail Ride
DESCRIPTION:Complimentary refreshments and bonfire following the ride! \nOnly $47/person!
URL:https://destinationbedfordva.com/event/moonlight-trail-ride-8/
LOCATION:Reba Farm Inn and Saddle Soar Equitainment\, 1099 Reba Farm Lane\, Bedford\, VA\, 24523\, United States
ATTACH;FMTTYPE=image/jpeg:https://destinationbedfordva.com/wp-content/uploads/2020/04/reba-farm-moonlight-trail-ride.jpg
ORGANIZER;CN="Reba Farm Inn & Saddle Soar":MAILTO:rebafarminn@rebafarminn.com
GEO:37.409982;-79.636243
X-APPLE-STRUCTURED-LOCATION;VALUE=URI;X-ADDRESS=Reba Farm Inn and Saddle Soar Equitainment 1099 Reba Farm Lane Bedford VA 24523 United States;X-APPLE-RADIUS=500;X-TITLE=1099 Reba Farm Lane:geo:-79.636243,37.409982
END:VEVENT
BEGIN:VEVENT
DTSTART;TZID=America/New_York:20200621T140000
DTEND;TZID=America/New_York:20200621T170000
DTSTAMP:20260422T053019
CREATED:20200420T202835Z
LAST-MODIFIED:20200420T202835Z
UID:10047878-1592748000-1592758800@destinationbedfordva.com
SUMMARY:Father's Day Trail Ride and Cookout
DESCRIPTION:Celebrate Father’s Day by taking your dad out on a spectacular trail ride along the Peaks of Otter. Following our trail ride\, we will gather for a “Cowboy-style lunch” at the barn! \nCost is $60/person
URL:https://destinationbedfordva.com/event/fathers-day-trail-ride-and-cookout/
LOCATION:Reba Farm Inn and Saddle Soar Equitainment\, 1099 Reba Farm Lane\, Bedford\, VA\, 24523\, United States
ATTACH;FMTTYPE=image/jpeg:https://destinationbedfordva.com/wp-content/uploads/2020/04/reba-farm-fathers-day.jpg
ORGANIZER;CN="Reba Farm Inn & Saddle Soar":MAILTO:rebafarminn@rebafarminn.com
GEO:37.409982;-79.636243
X-APPLE-STRUCTURED-LOCATION;VALUE=URI;X-ADDRESS=Reba Farm Inn and Saddle Soar Equitainment 1099 Reba Farm Lane Bedford VA 24523 United States;X-APPLE-RADIUS=500;X-TITLE=1099 Reba Farm Lane:geo:-79.636243,37.409982
END:VEVENT
BEGIN:VEVENT
DTSTART;TZID=America/New_York:20200606T203000
DTEND;TZID=America/New_York:20200606T231500
DTSTAMP:20260422T053019
CREATED:20200420T201126Z
LAST-MODIFIED:20200420T202442Z
UID:10047875-1591475400-1591485300@destinationbedfordva.com
SUMMARY:Moonlight Trail Ride
DESCRIPTION:Complimentary refreshments and bonfire following the ride! \nOnly $47/person!
URL:https://destinationbedfordva.com/event/moonlight-trail-ride-6/
LOCATION:Reba Farm Inn and Saddle Soar Equitainment\, 1099 Reba Farm Lane\, Bedford\, VA\, 24523\, United States
ATTACH;FMTTYPE=image/jpeg:https://destinationbedfordva.com/wp-content/uploads/2020/04/reba-farm-moonlight-trail-ride.jpg
ORGANIZER;CN="Reba Farm Inn & Saddle Soar":MAILTO:rebafarminn@rebafarminn.com
GEO:37.409982;-79.636243
X-APPLE-STRUCTURED-LOCATION;VALUE=URI;X-ADDRESS=Reba Farm Inn and Saddle Soar Equitainment 1099 Reba Farm Lane Bedford VA 24523 United States;X-APPLE-RADIUS=500;X-TITLE=1099 Reba Farm Lane:geo:-79.636243,37.409982
END:VEVENT
BEGIN:VEVENT
DTSTART;TZID=America/New_York:20200510T130000
DTEND;TZID=America/New_York:20200510T170000
DTSTAMP:20260422T053019
CREATED:20200420T202302Z
LAST-MODIFIED:20200420T202302Z
UID:10047877-1589115600-1589130000@destinationbedfordva.com
SUMMARY:Mother's Day Tea and Trail Ride
DESCRIPTION:Treat your loving mother to a beautiful trail ride along the Peaks of Otter. \nFollowing our trail ride\, we will gather for a “Cowgirl Tea Time” at the barn! \nCost | $60/person\nCall (540) 583-1906 to reserve your space today!
URL:https://destinationbedfordva.com/event/mothers-day-tea-and-trail-ride-2/
LOCATION:Reba Farm Inn and Saddle Soar Equitainment\, 1099 Reba Farm Lane\, Bedford\, VA\, 24523\, United States
ATTACH;FMTTYPE=image/jpeg:https://destinationbedfordva.com/wp-content/uploads/2020/04/reba-farm-photo.jpg
ORGANIZER;CN="Reba Farm Inn & Saddle Soar":MAILTO:rebafarminn@rebafarminn.com
GEO:37.409982;-79.636243
X-APPLE-STRUCTURED-LOCATION;VALUE=URI;X-ADDRESS=Reba Farm Inn and Saddle Soar Equitainment 1099 Reba Farm Lane Bedford VA 24523 United States;X-APPLE-RADIUS=500;X-TITLE=1099 Reba Farm Lane:geo:-79.636243,37.409982
END:VEVENT
BEGIN:VEVENT
DTSTART;TZID=America/New_York:20200508T193000
DTEND;TZID=America/New_York:20200508T221500
DTSTAMP:20260422T053019
CREATED:20200420T201315Z
LAST-MODIFIED:20200420T202353Z
UID:10047876-1588966200-1588976100@destinationbedfordva.com
SUMMARY:Moonlight Trail Ride
DESCRIPTION:Complimentary refreshments and bonfire following the ride! \nOnly $47/person!
URL:https://destinationbedfordva.com/event/moonlight-trail-ride-7/
LOCATION:Reba Farm Inn and Saddle Soar Equitainment\, 1099 Reba Farm Lane\, Bedford\, VA\, 24523\, United States
ATTACH;FMTTYPE=image/jpeg:https://destinationbedfordva.com/wp-content/uploads/2020/04/reba-farm-moonlight-trail-ride.jpg
ORGANIZER;CN="Reba Farm Inn & Saddle Soar":MAILTO:rebafarminn@rebafarminn.com
GEO:37.409982;-79.636243
X-APPLE-STRUCTURED-LOCATION;VALUE=URI;X-ADDRESS=Reba Farm Inn and Saddle Soar Equitainment 1099 Reba Farm Lane Bedford VA 24523 United States;X-APPLE-RADIUS=500;X-TITLE=1099 Reba Farm Lane:geo:-79.636243,37.409982
END:VEVENT
BEGIN:VEVENT
DTSTART;TZID=America/New_York:20191221T110000
DTEND;TZID=America/New_York:20191221T163000
DTSTAMP:20260422T053019
CREATED:20191219T184834Z
LAST-MODIFIED:20191219T184834Z
UID:10047691-1576926000-1576945800@destinationbedfordva.com
SUMMARY:Cowboy Christmas
DESCRIPTION:Celebrate the holiday season in the true cowboy spirit. Go for a wonderful trail ride\, decorate an evergreen tree with edible ornaments for the wildlife\, and enjoy a true “Cowboy” dinner at the Inn. This full day of activities is sure to be enjoyed by all. \nCost is $65/person.
URL:https://destinationbedfordva.com/event/cowboy-christmas/
LOCATION:Reba Farm Inn and Saddle Soar Equitainment\, 1099 Reba Farm Lane\, Bedford\, VA\, 24523\, United States
GEO:37.409982;-79.636243
X-APPLE-STRUCTURED-LOCATION;VALUE=URI;X-ADDRESS=Reba Farm Inn and Saddle Soar Equitainment 1099 Reba Farm Lane Bedford VA 24523 United States;X-APPLE-RADIUS=500;X-TITLE=1099 Reba Farm Lane:geo:-79.636243,37.409982
END:VEVENT
BEGIN:VEVENT
DTSTART;TZID=America/New_York:20190512T100000
DTEND;TZID=America/New_York:20190512T130000
DTSTAMP:20260422T053019
CREATED:20190507T185327Z
LAST-MODIFIED:20190507T185327Z
UID:10047156-1557655200-1557666000@destinationbedfordva.com
SUMMARY:Mother's Day Tea and Trail Ride
DESCRIPTION:Treat your loving mother to a beautiful trail ride along the Peaks of Otter. Following the trail ride\, you will gather for a “Cowgirl Tea Time” at the barn! \nCall (540) 583-1906 to reserve your space today!
URL:https://destinationbedfordva.com/event/mothers-day-tea-and-trail-ride/
LOCATION:Reba Farm Inn and Saddle Soar Equitainment\, 1099 Reba Farm Lane\, Bedford\, VA\, 24523\, United States
GEO:37.409982;-79.636243
X-APPLE-STRUCTURED-LOCATION;VALUE=URI;X-ADDRESS=Reba Farm Inn and Saddle Soar Equitainment 1099 Reba Farm Lane Bedford VA 24523 United States;X-APPLE-RADIUS=500;X-TITLE=1099 Reba Farm Lane:geo:-79.636243,37.409982
END:VEVENT
BEGIN:VEVENT
DTSTART;TZID=America/New_York:20180922T200000
DTEND;TZID=America/New_York:20180923T000000
DTSTAMP:20260422T053019
CREATED:20180321T183957Z
LAST-MODIFIED:20180321T183957Z
UID:10046573-1537646400-1537660800@destinationbedfordva.com
SUMMARY:Moonlight Trail Ride
DESCRIPTION:Reba Farm Inn is hosting a Moonlight Trail Ride! \nComplimentary refreshments and bonfire following the ride! \n$42/person \nCall (540) 586-1906 or (540) 583-1906 for more information.
URL:https://destinationbedfordva.com/event/moonlight-trail-ride-5/
LOCATION:Reba Farm Inn and Saddle Soar Equitainment\, 1099 Reba Farm Lane\, Bedford\, VA\, 24523\, United States
GEO:37.409982;-79.636243
X-APPLE-STRUCTURED-LOCATION;VALUE=URI;X-ADDRESS=Reba Farm Inn and Saddle Soar Equitainment 1099 Reba Farm Lane Bedford VA 24523 United States;X-APPLE-RADIUS=500;X-TITLE=1099 Reba Farm Lane:geo:-79.636243,37.409982
END:VEVENT
BEGIN:VEVENT
DTSTART;TZID=America/New_York:20180825T203000
DTEND;TZID=America/New_York:20180826T000000
DTSTAMP:20260422T053019
CREATED:20180321T183856Z
LAST-MODIFIED:20180321T183856Z
UID:10046571-1535229000-1535241600@destinationbedfordva.com
SUMMARY:Moonlight Trail Ride
DESCRIPTION:Reba Farm Inn is hosting a Moonlight Trail Ride! \nComplimentary refreshments and bonfire following the ride! \n$42/person \nCall (540) 586-1906 or (540) 583-1906 for more information.
URL:https://destinationbedfordva.com/event/moonlight-trail-ride-4/
LOCATION:Reba Farm Inn and Saddle Soar Equitainment\, 1099 Reba Farm Lane\, Bedford\, VA\, 24523\, United States
GEO:37.409982;-79.636243
X-APPLE-STRUCTURED-LOCATION;VALUE=URI;X-ADDRESS=Reba Farm Inn and Saddle Soar Equitainment 1099 Reba Farm Lane Bedford VA 24523 United States;X-APPLE-RADIUS=500;X-TITLE=1099 Reba Farm Lane:geo:-79.636243,37.409982
END:VEVENT
BEGIN:VEVENT
DTSTART;TZID=America/New_York:20180728T203000
DTEND;TZID=America/New_York:20180729T000000
DTSTAMP:20260422T053019
CREATED:20180321T183752Z
LAST-MODIFIED:20180321T183752Z
UID:10046569-1532809800-1532822400@destinationbedfordva.com
SUMMARY:Moonlight Trail Ride
DESCRIPTION:Reba Farm Inn is hosting a Moonlight Trail Ride! \nComplimentary refreshments and bonfire following the ride! \n$42/person \nCall (540) 586-1906 or (540) 583-1906 for more information.
URL:https://destinationbedfordva.com/event/moonlight-trail-ride-3/
LOCATION:Reba Farm Inn and Saddle Soar Equitainment\, 1099 Reba Farm Lane\, Bedford\, VA\, 24523\, United States
GEO:37.409982;-79.636243
X-APPLE-STRUCTURED-LOCATION;VALUE=URI;X-ADDRESS=Reba Farm Inn and Saddle Soar Equitainment 1099 Reba Farm Lane Bedford VA 24523 United States;X-APPLE-RADIUS=500;X-TITLE=1099 Reba Farm Lane:geo:-79.636243,37.409982
END:VEVENT
BEGIN:VEVENT
DTSTART;TZID=America/New_York:20180617T130000
DTEND;TZID=America/New_York:20180617T173000
DTSTAMP:20260422T053019
CREATED:20180321T184817Z
LAST-MODIFIED:20180321T184817Z
UID:10046579-1529240400-1529256600@destinationbedfordva.com
SUMMARY:Father's Day Trail Ride and Cowboy Style Cookout
DESCRIPTION:Celebrate Father’s Day with a trail ride followed with a Cowboy-style cookout/lunch at the barn.  $60/person. Family rates available. \n  \nCall (540) 586-1906 or (540) 583-1906 for more information.
URL:https://destinationbedfordva.com/event/fathers-day-trail-ride-and-cowboy-style-cookout/
LOCATION:Reba Farm Inn and Saddle Soar Equitainment\, 1099 Reba Farm Lane\, Bedford\, VA\, 24523\, United States
GEO:37.409982;-79.636243
X-APPLE-STRUCTURED-LOCATION;VALUE=URI;X-ADDRESS=Reba Farm Inn and Saddle Soar Equitainment 1099 Reba Farm Lane Bedford VA 24523 United States;X-APPLE-RADIUS=500;X-TITLE=1099 Reba Farm Lane:geo:-79.636243,37.409982
END:VEVENT
BEGIN:VEVENT
DTSTART;TZID=America/New_York:20180519T160000
DTEND;TZID=America/New_York:20180519T193000
DTSTAMP:20260422T053019
CREATED:20180321T184412Z
LAST-MODIFIED:20180321T184412Z
UID:10046577-1526745600-1526758200@destinationbedfordva.com
SUMMARY:Obstacle Trail Ride
DESCRIPTION:A fun and challenging experience for all.  It’s a trail ride with various obstacles that you and the horse will navigate together.  $55/person \nCall (540) 586-1906 or (540) 583-1906 for more information.
URL:https://destinationbedfordva.com/event/obstacle-trail-ride-2/
LOCATION:Reba Farm Inn and Saddle Soar Equitainment\, 1099 Reba Farm Lane\, Bedford\, VA\, 24523\, United States
GEO:37.409982;-79.636243
X-APPLE-STRUCTURED-LOCATION;VALUE=URI;X-ADDRESS=Reba Farm Inn and Saddle Soar Equitainment 1099 Reba Farm Lane Bedford VA 24523 United States;X-APPLE-RADIUS=500;X-TITLE=1099 Reba Farm Lane:geo:-79.636243,37.409982
END:VEVENT
BEGIN:VEVENT
DTSTART;TZID=America/New_York:20180513T130000
DTEND;TZID=America/New_York:20180513T173000
DTSTAMP:20260422T053019
CREATED:20180321T184625Z
LAST-MODIFIED:20180321T184625Z
UID:10046578-1526216400-1526232600@destinationbedfordva.com
SUMMARY:Mother's Day Trail Ride and Cowgirl Tea
DESCRIPTION:Treat your mom to a trail ride in the countryside followed with a “Cowgirl Tea Time” at the barn.  $60/person. Family rates available. \nCall (540) 586-1906 or (540) 583-1906 for more information.
URL:https://destinationbedfordva.com/event/mothers-day-trail-ride-and-cowgirl-tea/
LOCATION:Reba Farm Inn and Saddle Soar Equitainment\, 1099 Reba Farm Lane\, Bedford\, VA\, 24523\, United States
GEO:37.409982;-79.636243
X-APPLE-STRUCTURED-LOCATION;VALUE=URI;X-ADDRESS=Reba Farm Inn and Saddle Soar Equitainment 1099 Reba Farm Lane Bedford VA 24523 United States;X-APPLE-RADIUS=500;X-TITLE=1099 Reba Farm Lane:geo:-79.636243,37.409982
END:VEVENT
BEGIN:VEVENT
DTSTART;TZID=America/New_York:20180428T193000
DTEND;TZID=America/New_York:20180429T000000
DTSTAMP:20260422T053019
CREATED:20180321T183646Z
LAST-MODIFIED:20180321T183646Z
UID:10046567-1524943800-1524960000@destinationbedfordva.com
SUMMARY:Moonlight Trail Ride
DESCRIPTION:Reba Farm Inn is hosting a Moonlight Trail Ride! \nComplimentary refreshments and bonfire following the ride! \n$42/person \nCall (540) 586-1906 or (540) 583-1906 for more information.
URL:https://destinationbedfordva.com/event/moonlight-trail-ride-2/
LOCATION:Reba Farm Inn and Saddle Soar Equitainment\, 1099 Reba Farm Lane\, Bedford\, VA\, 24523\, United States
GEO:37.409982;-79.636243
X-APPLE-STRUCTURED-LOCATION;VALUE=URI;X-ADDRESS=Reba Farm Inn and Saddle Soar Equitainment 1099 Reba Farm Lane Bedford VA 24523 United States;X-APPLE-RADIUS=500;X-TITLE=1099 Reba Farm Lane:geo:-79.636243,37.409982
END:VEVENT
BEGIN:VEVENT
DTSTART;TZID=America/New_York:20180402T080000
DTEND;TZID=America/New_York:20180402T170000
DTSTAMP:20260422T053019
CREATED:20180321T183251Z
LAST-MODIFIED:20180321T183251Z
UID:10046565-1522656000-1522688400@destinationbedfordva.com
SUMMARY:Spring Break Horse Camp
DESCRIPTION:Reba Farm Inn is offering a Spring Break Horse Camp. See options below: \nSession #1: Monday\, April 2 – Wednesday\, April 4 (8 a.m. – 5 p.m.) – $165/Camper \nSession #2: Thursday\, April 5- Saturday\, April 7 (8 a.m. – 5 p.m.) – $165/Camper \nOption #1: Camper attends both daytime sessions above at $330/Camper \nOption #2: Camper attends both sessions above as overnight camp at $500/Camper \nPlease call Reba Farm Inn for more information and/or to register: (540) 586-1906 or (540) 583-1906.
URL:https://destinationbedfordva.com/event/spring-break-horse-camp/
LOCATION:Reba Farm Inn and Saddle Soar Equitainment\, 1099 Reba Farm Lane\, Bedford\, VA\, 24523\, United States
GEO:37.409982;-79.636243
X-APPLE-STRUCTURED-LOCATION;VALUE=URI;X-ADDRESS=Reba Farm Inn and Saddle Soar Equitainment 1099 Reba Farm Lane Bedford VA 24523 United States;X-APPLE-RADIUS=500;X-TITLE=1099 Reba Farm Lane:geo:-79.636243,37.409982
END:VEVENT
BEGIN:VEVENT
DTSTART;TZID=America/New_York:20180401T150000
DTEND;TZID=America/New_York:20180401T180000
DTSTAMP:20260422T053019
CREATED:20180223T210623Z
LAST-MODIFIED:20180223T210623Z
UID:10046551-1522594800-1522605600@destinationbedfordva.com
SUMMARY:Easter Egg Round Up
DESCRIPTION:Round up your family and friends for a fun-filled afternoon.  Egg hunt trail ride\, prizes\, and refreshments following the ride at the barn.  $50/person. \nAlso\, horseback trail rides are available on various dates through December.  Family 1.5 hours @ $42/person and Adult 2 hours @ $47/person. Call (540) 586-1906 or (540) 583-1906 for more information. \n 
URL:https://destinationbedfordva.com/event/easter-egg-round-up/
LOCATION:Reba Farm Inn and Saddle Soar Equitainment\, 1099 Reba Farm Lane\, Bedford\, VA\, 24523\, United States
GEO:37.409982;-79.636243
X-APPLE-STRUCTURED-LOCATION;VALUE=URI;X-ADDRESS=Reba Farm Inn and Saddle Soar Equitainment 1099 Reba Farm Lane Bedford VA 24523 United States;X-APPLE-RADIUS=500;X-TITLE=1099 Reba Farm Lane:geo:-79.636243,37.409982
END:VEVENT
BEGIN:VEVENT
DTSTART;TZID=America/New_York:20180331T193000
DTEND;TZID=America/New_York:20180401T000000
DTSTAMP:20260422T053019
CREATED:20180321T183546Z
LAST-MODIFIED:20180321T183546Z
UID:10046566-1522524600-1522540800@destinationbedfordva.com
SUMMARY:Moonlight Trail Ride
DESCRIPTION:Reba Farm Inn is hosting a Moonlight Trail Ride! \nComplimentary refreshments and bonfire following the ride! \n$42/person \nCall (540) 586-1906 or (540) 583-1906 for more information.
URL:https://destinationbedfordva.com/event/moonlight-trail-ride/
LOCATION:Reba Farm Inn and Saddle Soar Equitainment\, 1099 Reba Farm Lane\, Bedford\, VA\, 24523\, United States
GEO:37.409982;-79.636243
X-APPLE-STRUCTURED-LOCATION;VALUE=URI;X-ADDRESS=Reba Farm Inn and Saddle Soar Equitainment 1099 Reba Farm Lane Bedford VA 24523 United States;X-APPLE-RADIUS=500;X-TITLE=1099 Reba Farm Lane:geo:-79.636243,37.409982
END:VEVENT
BEGIN:VEVENT
DTSTART;TZID=America/New_York:20180324T160000
DTEND;TZID=America/New_York:20180324T193000
DTSTAMP:20260422T053019
CREATED:20180321T184212Z
LAST-MODIFIED:20180321T184212Z
UID:10046574-1521907200-1521919800@destinationbedfordva.com
SUMMARY:Obstacle Trail Ride
DESCRIPTION:A fun and challenging experience for all.  It’s a trail ride with various obstacles that you and the horse will navigate together.  $55/person \nCall (540) 586-1906 or (540) 583-1906 for more information.
URL:https://destinationbedfordva.com/event/obstacle-trail-ride/
LOCATION:Reba Farm Inn and Saddle Soar Equitainment\, 1099 Reba Farm Lane\, Bedford\, VA\, 24523\, United States
GEO:37.409982;-79.636243
X-APPLE-STRUCTURED-LOCATION;VALUE=URI;X-ADDRESS=Reba Farm Inn and Saddle Soar Equitainment 1099 Reba Farm Lane Bedford VA 24523 United States;X-APPLE-RADIUS=500;X-TITLE=1099 Reba Farm Lane:geo:-79.636243,37.409982
END:VEVENT
BEGIN:VEVENT
DTSTART;TZID=America/New_York:20180324T160000
DTEND;TZID=America/New_York:20180324T180000
DTSTAMP:20260422T053019
CREATED:20180223T210911Z
LAST-MODIFIED:20180223T210911Z
UID:10046552-1521907200-1521914400@destinationbedfordva.com
SUMMARY:Clinic/Clinic Trail Ride
DESCRIPTION:Real horsemanship and real riding requires knowledge – at RFI/ISS find the complete equine experience.  Complimentary refreshments. $45/person \n 
URL:https://destinationbedfordva.com/event/clinic-clinic-trail-ride/
LOCATION:Reba Farm Inn and Saddle Soar Equitainment\, 1099 Reba Farm Lane\, Bedford\, VA\, 24523\, United States
GEO:37.409982;-79.636243
X-APPLE-STRUCTURED-LOCATION;VALUE=URI;X-ADDRESS=Reba Farm Inn and Saddle Soar Equitainment 1099 Reba Farm Lane Bedford VA 24523 United States;X-APPLE-RADIUS=500;X-TITLE=1099 Reba Farm Lane:geo:-79.636243,37.409982
END:VEVENT
END:VCALENDAR