BEGIN:VCALENDAR
VERSION:2.0
PRODID:-//Destination Bedford - ECPv6.8.3//NONSGML v1.0//EN
CALSCALE:GREGORIAN
METHOD:PUBLISH
X-ORIGINAL-URL:https://destinationbedfordva.com
X-WR-CALDESC:Events for Destination Bedford
REFRESH-INTERVAL;VALUE=DURATION:PT1H
X-Robots-Tag:noindex
X-PUBLISHED-TTL:PT1H
BEGIN:VTIMEZONE
TZID:America/New_York
BEGIN:DAYLIGHT
TZOFFSETFROM:-0500
TZOFFSETTO:-0400
TZNAME:EDT
DTSTART:20190310T070000
END:DAYLIGHT
BEGIN:STANDARD
TZOFFSETFROM:-0400
TZOFFSETTO:-0500
TZNAME:EST
DTSTART:20191103T060000
END:STANDARD
BEGIN:DAYLIGHT
TZOFFSETFROM:-0500
TZOFFSETTO:-0400
TZNAME:EDT
DTSTART:20200308T070000
END:DAYLIGHT
BEGIN:STANDARD
TZOFFSETFROM:-0400
TZOFFSETTO:-0500
TZNAME:EST
DTSTART:20201101T060000
END:STANDARD
BEGIN:DAYLIGHT
TZOFFSETFROM:-0500
TZOFFSETTO:-0400
TZNAME:EDT
DTSTART:20210314T070000
END:DAYLIGHT
BEGIN:STANDARD
TZOFFSETFROM:-0400
TZOFFSETTO:-0500
TZNAME:EST
DTSTART:20211107T060000
END:STANDARD
END:VTIMEZONE
BEGIN:VEVENT
DTSTART;TZID=America/New_York:20211029T190000
DTEND;TZID=America/New_York:20211029T220000
DTSTAMP:20260419T092529
CREATED:20211028T163519Z
LAST-MODIFIED:20211029T182224Z
UID:10049230-1635534000-1635544800@destinationbedfordva.com
SUMMARY:Friday Night Spooky Halloween Jam
DESCRIPTION:Come to Ricky’s for great music and a good time! Bring your favorite dish for this special Halloween potluck event.  Also\, wear your costume for the costume contest!
URL:https://destinationbedfordva.com/event/friday-night-spooky-halloween-jam/
LOCATION:Ricky’s Bluegrass Connection
ATTACH;FMTTYPE=image/jpeg:https://destinationbedfordva.com/wp-content/uploads/2021/10/249576749_974521516739659_353160399948469713_n.jpg
END:VEVENT
BEGIN:VEVENT
DTSTART;TZID=America/New_York:20211015T190000
DTEND;TZID=America/New_York:20211015T220000
DTSTAMP:20260419T092529
CREATED:20210610T190758Z
LAST-MODIFIED:20210930T155018Z
UID:10048790-1634324400-1634335200@destinationbedfordva.com
SUMMARY:Friday Night Jam
DESCRIPTION:Come to the parking lot at Ricky’s for some great social distancing fun! Music is played\, laughter is heard ringing through the space\, and everyone treats you like family. Bluegrass and mountain music\, old time\, and even a dash of tunes you’d never expect\, are on display to anyone wanting to join in or just enjoy.  Jam beings at 7pm! FREE event\, but donations are welcome.
URL:https://destinationbedfordva.com/event/friday-night-jam-2021-07-09/2021-10-15/
LOCATION:Ricky’s Bluegrass Connection
ATTACH;FMTTYPE=image/jpeg:https://destinationbedfordva.com/wp-content/uploads/2019/10/rickys-bluegrass.jpg
END:VEVENT
BEGIN:VEVENT
DTSTART;TZID=America/New_York:20211001T190000
DTEND;TZID=America/New_York:20211001T220000
DTSTAMP:20260419T092529
CREATED:20210610T190758Z
LAST-MODIFIED:20210930T155018Z
UID:10048789-1633114800-1633125600@destinationbedfordva.com
SUMMARY:Friday Night Jam
DESCRIPTION:Come to the parking lot at Ricky’s for some great social distancing fun! Music is played\, laughter is heard ringing through the space\, and everyone treats you like family. Bluegrass and mountain music\, old time\, and even a dash of tunes you’d never expect\, are on display to anyone wanting to join in or just enjoy.  Jam beings at 7pm! FREE event\, but donations are welcome.
URL:https://destinationbedfordva.com/event/friday-night-jam-2021-07-09/2021-10-01/
LOCATION:Ricky’s Bluegrass Connection
ATTACH;FMTTYPE=image/jpeg:https://destinationbedfordva.com/wp-content/uploads/2019/10/rickys-bluegrass.jpg
END:VEVENT
BEGIN:VEVENT
DTSTART;TZID=America/New_York:20210903T190000
DTEND;TZID=America/New_York:20210903T220000
DTSTAMP:20260419T092529
CREATED:20210610T190758Z
LAST-MODIFIED:20210930T155018Z
UID:10048788-1630695600-1630706400@destinationbedfordva.com
SUMMARY:Friday Night Jam
DESCRIPTION:Come to the parking lot at Ricky’s for some great social distancing fun! Music is played\, laughter is heard ringing through the space\, and everyone treats you like family. Bluegrass and mountain music\, old time\, and even a dash of tunes you’d never expect\, are on display to anyone wanting to join in or just enjoy.  Jam beings at 7pm! FREE event\, but donations are welcome.
URL:https://destinationbedfordva.com/event/friday-night-jam-2021-07-09/2021-09-03/
LOCATION:Ricky’s Bluegrass Connection
ATTACH;FMTTYPE=image/jpeg:https://destinationbedfordva.com/wp-content/uploads/2019/10/rickys-bluegrass.jpg
END:VEVENT
BEGIN:VEVENT
DTSTART;TZID=America/New_York:20210625T190000
DTEND;TZID=America/New_York:20210625T220000
DTSTAMP:20260419T092529
CREATED:20210610T190758Z
LAST-MODIFIED:20220909T203914Z
UID:10048787-1624647600-1624658400@destinationbedfordva.com
SUMMARY:Friday Night Jam
DESCRIPTION:Every Friday night come to the parking lot at Ricky’s for some great social distancing fun! Music is played\, laughter is heard ringing through the space\, and everyone treats you like family. Bluegrass and mountain music\, old time\, and even a dash of tunes you’d never expect\, are on display every Friday night to anyone wanting to join in or just enjoy.  Jam beings at 7pm! FREE event\, but donations are welcome.
URL:https://destinationbedfordva.com/event/friday-night-jam/2021-06-25/
LOCATION:Ricky’s Bluegrass Connection
ATTACH;FMTTYPE=image/jpeg:https://destinationbedfordva.com/wp-content/uploads/2019/10/rickys-bluegrass.jpg
END:VEVENT
BEGIN:VEVENT
DTSTART;TZID=America/New_York:20210613T180000
DTEND;TZID=America/New_York:20210613T210000
DTSTAMP:20260419T092529
CREATED:20210607T135439Z
LAST-MODIFIED:20210609T162712Z
UID:10048732-1623607200-1623618000@destinationbedfordva.com
SUMMARY:Sunday Session @ Ricky's Bluegrass
DESCRIPTION: Come enjoy great music featuring Common Ground Bluegrass Band and Christian Q. Music!! \nThe plan is to be outside\, but if the weather is bad they will move indoors! $5 donation appreciated! Food will be available. 
URL:https://destinationbedfordva.com/event/sunday-session-rickys-bluegrass/
LOCATION:Ricky’s Bluegrass Connection
ATTACH;FMTTYPE=image/jpeg:https://destinationbedfordva.com/wp-content/uploads/2021/06/sunday-serssion.jpg
END:VEVENT
BEGIN:VEVENT
DTSTART;TZID=America/New_York:20210611T190000
DTEND;TZID=America/New_York:20210611T220000
DTSTAMP:20260419T092529
CREATED:20210610T190758Z
LAST-MODIFIED:20220909T203914Z
UID:10048786-1623438000-1623448800@destinationbedfordva.com
SUMMARY:Friday Night Jam
DESCRIPTION:Every Friday night come to the parking lot at Ricky’s for some great social distancing fun! Music is played\, laughter is heard ringing through the space\, and everyone treats you like family. Bluegrass and mountain music\, old time\, and even a dash of tunes you’d never expect\, are on display every Friday night to anyone wanting to join in or just enjoy.  Jam beings at 7pm! FREE event\, but donations are welcome.
URL:https://destinationbedfordva.com/event/friday-night-jam/2021-06-11/
LOCATION:Ricky’s Bluegrass Connection
ATTACH;FMTTYPE=image/jpeg:https://destinationbedfordva.com/wp-content/uploads/2019/10/rickys-bluegrass.jpg
END:VEVENT
BEGIN:VEVENT
DTSTART;TZID=America/New_York:20210314T160000
DTEND;TZID=America/New_York:20210314T190000
DTSTAMP:20260419T092529
CREATED:20210312T190629Z
LAST-MODIFIED:20210312T191127Z
UID:10048576-1615737600-1615748400@destinationbedfordva.com
SUMMARY:Sunday Session at Ricky's Bluegrass Connection
DESCRIPTION:Come to Ricky’s for a musical good time! 4-5pm will be a performance by Common Ground Bluegrass Band and 5-7pm is the open jam! All are welcome! This event will be outdoors with plenty of room for Social Distancing! 
URL:https://destinationbedfordva.com/event/sunday-session-at-rickys-bluegrass-connection/
LOCATION:Ricky’s Bluegrass Connection
ATTACH;FMTTYPE=image/jpeg:https://destinationbedfordva.com/wp-content/uploads/2021/03/Rickeys-this-sunday.jpg
END:VEVENT
BEGIN:VEVENT
DTSTART;TZID=America/New_York:20200105T170000
DTEND;TZID=America/New_York:20200105T200000
DTSTAMP:20260419T092529
CREATED:20200102T174506Z
LAST-MODIFIED:20200102T174506Z
UID:10047693-1578243600-1578254400@destinationbedfordva.com
SUMMARY:January Sunday Session! 1 Year Anniversary!
DESCRIPTION:Come celebrate the 1 year Anniversary of Ricky’s Bluegrass Connection! This concert will feature the Lesson Students\, an Awards Ceremony\, and an Open Jam at the end!
URL:https://destinationbedfordva.com/event/january-sunday-session-1-year-anniversary/
LOCATION:Ricky’s Bluegrass Connection
END:VEVENT
BEGIN:VEVENT
DTSTART;TZID=America/New_York:20191201T170000
DTEND;TZID=America/New_York:20191201T200000
DTSTAMP:20260419T092529
CREATED:20191113T191808Z
LAST-MODIFIED:20191113T191808Z
UID:10047559-1575219600-1575230400@destinationbedfordva.com
SUMMARY:Sunday Session Concert
DESCRIPTION:Let’s kick off the Holiday season right! Featuring a new artists for the Dec Sunday Concert like Deliberate Kin from Courtland\, Kansas and Catherine The Great! As always\, this event is open to the public\, and free refreshments are supplied! Show is Dec 1st 5-8pm\, and a $5 donation is appreciated!
URL:https://destinationbedfordva.com/event/sunday-session-concert/
LOCATION:Ricky’s Bluegrass Connection
END:VEVENT
BEGIN:VEVENT
DTSTART;TZID=America/New_York:20191110T170000
DTEND;TZID=America/New_York:20191110T200000
DTSTAMP:20260419T092529
CREATED:20191021T183005Z
LAST-MODIFIED:20191021T183005Z
UID:10047517-1573405200-1573416000@destinationbedfordva.com
SUMMARY:Sunday Session at Ricky's
DESCRIPTION:Show starts at 5pm until 8pm! Music Includes Special Guests Goff Mountain Band and Common Ground Bluegrass Band! Open to the public. $5 donation appreciated.
URL:https://destinationbedfordva.com/event/sunday-session-at-rickys/
LOCATION:Ricky’s Bluegrass Connection
END:VEVENT
BEGIN:VEVENT
DTSTART;TZID=America/New_York:20191020T160000
DTEND;TZID=America/New_York:20191020T200000
DTSTAMP:20260419T092529
CREATED:20190829T143714Z
LAST-MODIFIED:20190829T143714Z
UID:10047432-1571587200-1571601600@destinationbedfordva.com
SUMMARY:Fall Festival at Ricky’s Bluegrass Connection
DESCRIPTION:Come join us October 20th 4-8pm for an amazing fall festival! We will be showcasing music acts from our area and NYC! Vendors from all over the area will be present\, along with activities for the kiddos!
URL:https://destinationbedfordva.com/event/7734/
LOCATION:Ricky’s Bluegrass Connection
END:VEVENT
BEGIN:VEVENT
DTSTART;TZID=America/New_York:20190922T170000
DTEND;TZID=America/New_York:20190922T200000
DTSTAMP:20260419T092530
CREATED:20190906T145725Z
LAST-MODIFIED:20190906T145725Z
UID:10047438-1569171600-1569182400@destinationbedfordva.com
SUMMARY:Ricky’s Bluegrass Connection Sunday Concert
DESCRIPTION:September Sunday Session Concert! Featuring Cecil2\, Ricky and the Banjo Mites\, and Tate Tuck with Dave Owens! Free food and refreshments along with raffle and 50/50! All they ask is if you can donate $5 at the door to keep the lights on and the grass blue around RBC!
URL:https://destinationbedfordva.com/event/rickys-bluegrass-connection-sunday-concert/
LOCATION:Ricky’s Bluegrass Connection
END:VEVENT
BEGIN:VEVENT
DTSTART;TZID=America/New_York:20190324T170000
DTEND;TZID=America/New_York:20190324T190000
DTSTAMP:20260419T092530
CREATED:20190322T132758Z
LAST-MODIFIED:20190322T132758Z
UID:10047034-1553446800-1553454000@destinationbedfordva.com
SUMMARY:Ricky + the Banjo Mites
DESCRIPTION:This will be a small\, intimate concert series he…ld once a month – and we’re hoping to bring in a bunch of great music for y’all! 🎼  \n\nOur first Sunday Session will be on Sunday\, March 24th at 5pm!\nThis month we’re kicking off this cool series with Ricky + The Banjo Mites (haha!) if you’ve been around the jams to see this group come together\, you’ll be excited to hear what we’ve worked up for you all! 😀 A little of this\, a little of that\, and some stuff you’d never expect 😉 \nAdmission is free\, and as always\, a donation is welcome to keep our doors open + the music flowing in Moneta. 🎻 Come out and listen!
URL:https://destinationbedfordva.com/event/ricky-the-banjo-mites/
LOCATION:Ricky’s Bluegrass Connection
END:VEVENT
END:VCALENDAR