BEGIN:VCALENDAR
VERSION:2.0
PRODID:-//Destination Bedford - ECPv6.8.3//NONSGML v1.0//EN
CALSCALE:GREGORIAN
METHOD:PUBLISH
X-WR-CALNAME:Destination Bedford
X-ORIGINAL-URL:https://destinationbedfordva.com
X-WR-CALDESC:Events for Destination Bedford
REFRESH-INTERVAL;VALUE=DURATION:PT1H
X-Robots-Tag:noindex
X-PUBLISHED-TTL:PT1H
BEGIN:VTIMEZONE
TZID:America/New_York
BEGIN:DAYLIGHT
TZOFFSETFROM:-0500
TZOFFSETTO:-0400
TZNAME:EDT
DTSTART:20190310T070000
END:DAYLIGHT
BEGIN:STANDARD
TZOFFSETFROM:-0400
TZOFFSETTO:-0500
TZNAME:EST
DTSTART:20191103T060000
END:STANDARD
END:VTIMEZONE
BEGIN:VEVENT
DTSTART;TZID=America/New_York:20191201T170000
DTEND;TZID=America/New_York:20191201T200000
DTSTAMP:20260419T090755
CREATED:20191113T191808Z
LAST-MODIFIED:20191113T191808Z
UID:10047559-1575219600-1575230400@destinationbedfordva.com
SUMMARY:Sunday Session Concert
DESCRIPTION:Let’s kick off the Holiday season right! Featuring a new artists for the Dec Sunday Concert like Deliberate Kin from Courtland\, Kansas and Catherine The Great! As always\, this event is open to the public\, and free refreshments are supplied! Show is Dec 1st 5-8pm\, and a $5 donation is appreciated!
URL:https://destinationbedfordva.com/event/sunday-session-concert/
LOCATION:Ricky’s Bluegrass Connection
END:VEVENT
BEGIN:VEVENT
DTSTART;TZID=America/New_York:20191110T170000
DTEND;TZID=America/New_York:20191110T200000
DTSTAMP:20260419T090755
CREATED:20191021T183005Z
LAST-MODIFIED:20191021T183005Z
UID:10047517-1573405200-1573416000@destinationbedfordva.com
SUMMARY:Sunday Session at Ricky's
DESCRIPTION:Show starts at 5pm until 8pm! Music Includes Special Guests Goff Mountain Band and Common Ground Bluegrass Band! Open to the public. $5 donation appreciated.
URL:https://destinationbedfordva.com/event/sunday-session-at-rickys/
LOCATION:Ricky’s Bluegrass Connection
END:VEVENT
BEGIN:VEVENT
DTSTART;TZID=America/New_York:20191020T160000
DTEND;TZID=America/New_York:20191020T200000
DTSTAMP:20260419T090755
CREATED:20190829T143714Z
LAST-MODIFIED:20190829T143714Z
UID:10047432-1571587200-1571601600@destinationbedfordva.com
SUMMARY:Fall Festival at Ricky’s Bluegrass Connection
DESCRIPTION:Come join us October 20th 4-8pm for an amazing fall festival! We will be showcasing music acts from our area and NYC! Vendors from all over the area will be present\, along with activities for the kiddos!
URL:https://destinationbedfordva.com/event/7734/
LOCATION:Ricky’s Bluegrass Connection
END:VEVENT
BEGIN:VEVENT
DTSTART;TZID=America/New_York:20190922T170000
DTEND;TZID=America/New_York:20190922T200000
DTSTAMP:20260419T090755
CREATED:20190906T145725Z
LAST-MODIFIED:20190906T145725Z
UID:10047438-1569171600-1569182400@destinationbedfordva.com
SUMMARY:Ricky’s Bluegrass Connection Sunday Concert
DESCRIPTION:September Sunday Session Concert! Featuring Cecil2\, Ricky and the Banjo Mites\, and Tate Tuck with Dave Owens! Free food and refreshments along with raffle and 50/50! All they ask is if you can donate $5 at the door to keep the lights on and the grass blue around RBC!
URL:https://destinationbedfordva.com/event/rickys-bluegrass-connection-sunday-concert/
LOCATION:Ricky’s Bluegrass Connection
END:VEVENT
BEGIN:VEVENT
DTSTART;TZID=America/New_York:20190324T170000
DTEND;TZID=America/New_York:20190324T190000
DTSTAMP:20260419T090755
CREATED:20190322T132758Z
LAST-MODIFIED:20190322T132758Z
UID:10047034-1553446800-1553454000@destinationbedfordva.com
SUMMARY:Ricky + the Banjo Mites
DESCRIPTION:This will be a small\, intimate concert series he…ld once a month – and we’re hoping to bring in a bunch of great music for y’all! 🎼  \n\nOur first Sunday Session will be on Sunday\, March 24th at 5pm!\nThis month we’re kicking off this cool series with Ricky + The Banjo Mites (haha!) if you’ve been around the jams to see this group come together\, you’ll be excited to hear what we’ve worked up for you all! 😀 A little of this\, a little of that\, and some stuff you’d never expect 😉 \nAdmission is free\, and as always\, a donation is welcome to keep our doors open + the music flowing in Moneta. 🎻 Come out and listen!
URL:https://destinationbedfordva.com/event/ricky-the-banjo-mites/
LOCATION:Ricky’s Bluegrass Connection
END:VEVENT
END:VCALENDAR