BEGIN:VCALENDAR
VERSION:2.0
PRODID:-//Destination Bedford - ECPv6.8.3//NONSGML v1.0//EN
CALSCALE:GREGORIAN
METHOD:PUBLISH
X-ORIGINAL-URL:https://destinationbedfordva.com
X-WR-CALDESC:Events for Destination Bedford
REFRESH-INTERVAL;VALUE=DURATION:PT1H
X-Robots-Tag:noindex
X-PUBLISHED-TTL:PT1H
BEGIN:VTIMEZONE
TZID:America/New_York
BEGIN:DAYLIGHT
TZOFFSETFROM:-0500
TZOFFSETTO:-0400
TZNAME:EDT
DTSTART:20170312T070000
END:DAYLIGHT
BEGIN:STANDARD
TZOFFSETFROM:-0400
TZOFFSETTO:-0500
TZNAME:EST
DTSTART:20171105T060000
END:STANDARD
BEGIN:DAYLIGHT
TZOFFSETFROM:-0500
TZOFFSETTO:-0400
TZNAME:EDT
DTSTART:20180311T070000
END:DAYLIGHT
BEGIN:STANDARD
TZOFFSETFROM:-0400
TZOFFSETTO:-0500
TZNAME:EST
DTSTART:20181104T060000
END:STANDARD
BEGIN:DAYLIGHT
TZOFFSETFROM:-0500
TZOFFSETTO:-0400
TZNAME:EDT
DTSTART:20190310T070000
END:DAYLIGHT
BEGIN:STANDARD
TZOFFSETFROM:-0400
TZOFFSETTO:-0500
TZNAME:EST
DTSTART:20191103T060000
END:STANDARD
END:VTIMEZONE
BEGIN:VEVENT
DTSTART;TZID=America/New_York:20190518T180000
DTEND;TZID=America/New_York:20190518T220000
DTSTAMP:20260419T123808
CREATED:20180518T143513Z
LAST-MODIFIED:20180518T143513Z
UID:10046607-1558202400-1558216800@destinationbedfordva.com
SUMMARY:Sedalia Center Summer Concert Series
DESCRIPTION:Come out and enjoy Sam Austin & Silverline\, real “Country Music” that connects with a broad audience. \n$10 at the gate; children 12 and under are free. \nCamping available! \nProceeds will support Domestic Violence Services.
URL:https://destinationbedfordva.com/event/sedalia-center-summer-concert-series-5/
LOCATION:Sedalia Center\, 1108 Sedalia School Road\, Big Island\, VA\, 24526\, United States
GEO:37.4905574;-79.4430828
X-APPLE-STRUCTURED-LOCATION;VALUE=URI;X-ADDRESS=Sedalia Center 1108 Sedalia School Road Big Island VA 24526 United States;X-APPLE-RADIUS=500;X-TITLE=1108 Sedalia School Road:geo:-79.4430828,37.4905574
END:VEVENT
BEGIN:VEVENT
DTSTART;TZID=America/New_York:20190511T090000
DTEND;TZID=America/New_York:20190511T140000
DTSTAMP:20260419T123808
CREATED:20190507T193427Z
LAST-MODIFIED:20190507T193427Z
UID:10047159-1557565200-1557583200@destinationbedfordva.com
SUMMARY:Flea Market Day
DESCRIPTION:It’s Flea Market Day at Sedalia! Enjoy a great community day! \nAll vendors welcome (must pre-register). Rental space for vendors and individuals – food vendors too! Rental space is $15 per space (must pre-register) \nNo gate fee (free event to public) \nSet up starts at 7am \n\nPlease Call (434) 299-5080 for more information.
URL:https://destinationbedfordva.com/event/flea-market-day/
LOCATION:Sedalia Center\, 1108 Sedalia School Road\, Big Island\, VA\, 24526\, United States
GEO:37.4905574;-79.4430828
X-APPLE-STRUCTURED-LOCATION;VALUE=URI;X-ADDRESS=Sedalia Center 1108 Sedalia School Road Big Island VA 24526 United States;X-APPLE-RADIUS=500;X-TITLE=1108 Sedalia School Road:geo:-79.4430828,37.4905574
END:VEVENT
BEGIN:VEVENT
DTSTART;TZID=America/New_York:20190427T120000
DTEND;TZID=America/New_York:20190427T170000
DTSTAMP:20260419T123808
CREATED:20190211T190222Z
LAST-MODIFIED:20190211T190222Z
UID:10046976-1556366400-1556384400@destinationbedfordva.com
SUMMARY:Sedalia BBQ & Blues
DESCRIPTION:Come to Sedalia and enjoy food\, brews\, and live music! \nTickets available in person at the Bedford Area Welcome Center for only $10 in advance (save $5 off gate price!) Kids 12 and under are free.
URL:https://destinationbedfordva.com/event/sedalia-bbq-blues/
LOCATION:Sedalia Center\, 1108 Sedalia School Road\, Big Island\, VA\, 24526\, United States
GEO:37.4905574;-79.4430828
X-APPLE-STRUCTURED-LOCATION;VALUE=URI;X-ADDRESS=Sedalia Center 1108 Sedalia School Road Big Island VA 24526 United States;X-APPLE-RADIUS=500;X-TITLE=1108 Sedalia School Road:geo:-79.4430828,37.4905574
END:VEVENT
BEGIN:VEVENT
DTSTART;TZID=America/New_York:20190330T100000
DTEND;TZID=America/New_York:20190330T170000
DTSTAMP:20260419T123808
CREATED:20190211T185940Z
LAST-MODIFIED:20190211T185940Z
UID:10046975-1553940000-1553965200@destinationbedfordva.com
SUMMARY:Sedalia Center Celtic Festival
DESCRIPTION:Year 2 of the revived Celtic Festival. There will be music\, athletics\, food\, whiskey\, and kilts!
URL:https://destinationbedfordva.com/event/sedalia-center-celtic-festival/
LOCATION:Sedalia Center\, 1108 Sedalia School Road\, Big Island\, VA\, 24526\, United States
GEO:37.4905574;-79.4430828
X-APPLE-STRUCTURED-LOCATION;VALUE=URI;X-ADDRESS=Sedalia Center 1108 Sedalia School Road Big Island VA 24526 United States;X-APPLE-RADIUS=500;X-TITLE=1108 Sedalia School Road:geo:-79.4430828,37.4905574
END:VEVENT
BEGIN:VEVENT
DTSTART;TZID=America/New_York:20180824T180000
DTEND;TZID=America/New_York:20180824T220000
DTSTAMP:20260419T123808
CREATED:20180518T143111Z
LAST-MODIFIED:20180518T143111Z
UID:10046604-1535133600-1535148000@destinationbedfordva.com
SUMMARY:Sedalia Center Summer Concert Series
DESCRIPTION:Each month through September\, Sedalia will host artists on their stage for an incredible evening of music under the stars. The Sedalia Center provides a family-friendly atmosphere to enjoy some fantastic performances. Concessions on site along with Homestead Creamery ice cream.  Blue Ridge Beverage will be there too with a selection of domestic and craft beers! \nRock & roll with country roots The Floorboards are an American roots rock ensemble hailing from the Blue Ridge Mountains of Virginia. \n$10 at the gate; children 12 and under are free. \nCamping available!
URL:https://destinationbedfordva.com/event/sedalia-center-summer-concert-series-4/
LOCATION:Sedalia Center\, 1108 Sedalia School Road\, Big Island\, VA\, 24526\, United States
GEO:37.4905574;-79.4430828
X-APPLE-STRUCTURED-LOCATION;VALUE=URI;X-ADDRESS=Sedalia Center 1108 Sedalia School Road Big Island VA 24526 United States;X-APPLE-RADIUS=500;X-TITLE=1108 Sedalia School Road:geo:-79.4430828,37.4905574
END:VEVENT
BEGIN:VEVENT
DTSTART;TZID=America/New_York:20180720T180000
DTEND;TZID=America/New_York:20180720T220000
DTSTAMP:20260419T123808
CREATED:20180518T141522Z
LAST-MODIFIED:20180518T141522Z
UID:10046603-1532109600-1532124000@destinationbedfordva.com
SUMMARY:Sedalia Center Summer Concert Series
DESCRIPTION:Each month through September\, Sedalia will host artists on their stage for an incredible evening of music under the stars. The Sedalia Center provides a family-friendly atmosphere to enjoy some fantastic performances. Concessions on site along with Homestead Creamery ice cream.  Blue Ridge Beverage will be there too with a selection of domestic and craft beers! \nReady for something new? Something energetic? Something original? Come check out The Ruckus – How Virginia Got Her Groove Back! \n$10 at the gate; children 12 and under are free. \nCamping available! \nProceeds will support the Friends of The Bedford County Animal Shelter in memory of Mark Agee.
URL:https://destinationbedfordva.com/event/sedalia-center-summer-concert-series-3/
LOCATION:Sedalia Center\, 1108 Sedalia School Road\, Big Island\, VA\, 24526\, United States
GEO:37.4905574;-79.4430828
X-APPLE-STRUCTURED-LOCATION;VALUE=URI;X-ADDRESS=Sedalia Center 1108 Sedalia School Road Big Island VA 24526 United States;X-APPLE-RADIUS=500;X-TITLE=1108 Sedalia School Road:geo:-79.4430828,37.4905574
END:VEVENT
BEGIN:VEVENT
DTSTART;TZID=America/New_York:20180629T180000
DTEND;TZID=America/New_York:20180629T220000
DTSTAMP:20260419T123808
CREATED:20180518T135514Z
LAST-MODIFIED:20180518T135514Z
UID:10046600-1530295200-1530309600@destinationbedfordva.com
SUMMARY:Sedalia Center Summer Concert Series
DESCRIPTION:Each month through September\, Sedalia will host artists on their stage for an incredible evening of music under the stars. The Sedalia Center provides a family-friendly atmosphere to enjoy some fantastic performances. Concessions on site along with Homestead Creamery ice cream.  Blue Ridge Beverage will be there too with a selection of domestic and craft beers!\n \nCome out and enjoy Sam Austin & Silverline\, real “Country Music” that connects with a broad audience. \n$10 at the gate; children 12 and under are free. \nCamping available! \nProceeds will support the Big Island Volunteer Fire Company. \n 
URL:https://destinationbedfordva.com/event/sedalia-center-summer-concert-series-2/
LOCATION:Sedalia Center\, 1108 Sedalia School Road\, Big Island\, VA\, 24526\, United States
GEO:37.4905574;-79.4430828
X-APPLE-STRUCTURED-LOCATION;VALUE=URI;X-ADDRESS=Sedalia Center 1108 Sedalia School Road Big Island VA 24526 United States;X-APPLE-RADIUS=500;X-TITLE=1108 Sedalia School Road:geo:-79.4430828,37.4905574
END:VEVENT
BEGIN:VEVENT
DTSTART;TZID=America/New_York:20180525T180000
DTEND;TZID=America/New_York:20180525T220000
DTSTAMP:20260419T123808
CREATED:20180517T201347Z
LAST-MODIFIED:20180517T201347Z
UID:10046599-1527271200-1527285600@destinationbedfordva.com
SUMMARY:Sedalia Center Summer Concert Series
DESCRIPTION:The Sedalia Center’s new concert series kicks off this month!  Each month through September\, Sedalia will host artists on their stage for an incredible evening of music under the stars. The Sedalia Center provides a family-friendly atmosphere to enjoy some fantastic performances. Concessions on site along with Homestead Creamery ice cream.  Blue Ridge Beverage will be there too with a selection of domestic and craft beers! \nKicking off the concert series is UBU The Band (Shag Band from NC\, also plays a wide variety of music for all age groups!)\n \n$10 at the gate; children 12 and under are free. \nCamping available! \nProceeds will support the National D-Day Memorial. \n 
URL:https://destinationbedfordva.com/event/sedalia-center-summer-concert-series/
LOCATION:Sedalia Center\, 1108 Sedalia School Road\, Big Island\, VA\, 24526\, United States
GEO:37.4905574;-79.4430828
X-APPLE-STRUCTURED-LOCATION;VALUE=URI;X-ADDRESS=Sedalia Center 1108 Sedalia School Road Big Island VA 24526 United States;X-APPLE-RADIUS=500;X-TITLE=1108 Sedalia School Road:geo:-79.4430828,37.4905574
END:VEVENT
BEGIN:VEVENT
DTSTART;TZID=America/New_York:20170729T190000
DTEND;TZID=America/New_York:20170729T220000
DTSTAMP:20260419T123808
CREATED:20170705T190518Z
LAST-MODIFIED:20170705T190518Z
UID:10046415-1501354800-1501365600@destinationbedfordva.com
SUMMARY:A Midsummer Night's Shindig at Sedalia
DESCRIPTION:Come join the fun with friends and family as we celebrate midsummer with Sam Austin and Silverline. \nWe will have concessions open featuring our famous Sedalia Burger and other tasty treats! \nBring your own chair and relax under our covered pavilion or under the stars on our spacious lawn! \nWe have a playground for children\, nature trails to explore\, and fresh country air…all included in your ticket price – $10 person / $15/couple!  Gates open at 6pm. \nCampers are welcome! $10\n($30 with electrical hook-up) \nNo pets.  No coolers.
URL:https://destinationbedfordva.com/event/a-midsummer-nights-shindig-at-sedalia/
LOCATION:Sedalia Center\, 1108 Sedalia School Road\, Big Island\, VA\, 24526\, United States
CATEGORIES:Featured
GEO:37.4905574;-79.4430828
X-APPLE-STRUCTURED-LOCATION;VALUE=URI;X-ADDRESS=Sedalia Center 1108 Sedalia School Road Big Island VA 24526 United States;X-APPLE-RADIUS=500;X-TITLE=1108 Sedalia School Road:geo:-79.4430828,37.4905574
END:VEVENT
END:VCALENDAR