BEGIN:VCALENDAR
VERSION:2.0
PRODID:-//Destination Bedford - ECPv6.8.3//NONSGML v1.0//EN
CALSCALE:GREGORIAN
METHOD:PUBLISH
X-WR-CALNAME:Destination Bedford
X-ORIGINAL-URL:https://destinationbedfordva.com
X-WR-CALDESC:Events for Destination Bedford
REFRESH-INTERVAL;VALUE=DURATION:PT1H
X-Robots-Tag:noindex
X-PUBLISHED-TTL:PT1H
BEGIN:VTIMEZONE
TZID:America/New_York
BEGIN:DAYLIGHT
TZOFFSETFROM:-0500
TZOFFSETTO:-0400
TZNAME:EDT
DTSTART:20190310T070000
END:DAYLIGHT
BEGIN:STANDARD
TZOFFSETFROM:-0400
TZOFFSETTO:-0500
TZNAME:EST
DTSTART:20191103T060000
END:STANDARD
BEGIN:DAYLIGHT
TZOFFSETFROM:-0500
TZOFFSETTO:-0400
TZNAME:EDT
DTSTART:20200308T070000
END:DAYLIGHT
BEGIN:STANDARD
TZOFFSETFROM:-0400
TZOFFSETTO:-0500
TZNAME:EST
DTSTART:20201101T060000
END:STANDARD
BEGIN:DAYLIGHT
TZOFFSETFROM:-0500
TZOFFSETTO:-0400
TZNAME:EDT
DTSTART:20210314T070000
END:DAYLIGHT
BEGIN:STANDARD
TZOFFSETFROM:-0400
TZOFFSETTO:-0500
TZNAME:EST
DTSTART:20211107T060000
END:STANDARD
BEGIN:DAYLIGHT
TZOFFSETFROM:-0500
TZOFFSETTO:-0400
TZNAME:EDT
DTSTART:20220313T070000
END:DAYLIGHT
BEGIN:STANDARD
TZOFFSETFROM:-0400
TZOFFSETTO:-0500
TZNAME:EST
DTSTART:20221106T060000
END:STANDARD
BEGIN:DAYLIGHT
TZOFFSETFROM:-0500
TZOFFSETTO:-0400
TZNAME:EDT
DTSTART:20230312T070000
END:DAYLIGHT
BEGIN:STANDARD
TZOFFSETFROM:-0400
TZOFFSETTO:-0500
TZNAME:EST
DTSTART:20231105T060000
END:STANDARD
BEGIN:DAYLIGHT
TZOFFSETFROM:-0500
TZOFFSETTO:-0400
TZNAME:EDT
DTSTART:20240310T070000
END:DAYLIGHT
BEGIN:STANDARD
TZOFFSETFROM:-0400
TZOFFSETTO:-0500
TZNAME:EST
DTSTART:20241103T060000
END:STANDARD
BEGIN:DAYLIGHT
TZOFFSETFROM:-0500
TZOFFSETTO:-0400
TZNAME:EDT
DTSTART:20250309T070000
END:DAYLIGHT
BEGIN:STANDARD
TZOFFSETFROM:-0400
TZOFFSETTO:-0500
TZNAME:EST
DTSTART:20251102T060000
END:STANDARD
END:VTIMEZONE
BEGIN:VEVENT
DTSTART;TZID=America/New_York:20250419T090000
DTEND;TZID=America/New_York:20250419T160000
DTSTAMP:20260421T203025
CREATED:20250411T183945Z
LAST-MODIFIED:20250411T183945Z
UID:10059541-1745053200-1745078400@destinationbedfordva.com
SUMMARY:Fiber Festival
DESCRIPTION:Join Stitch Witch of Bedford in the foothills of the beautiful Blue Ridge Mountains at Sedilia Center for a gathering of fiber friends! Enjoy yarn vendors\, ceramics\, fiber animals\, yarn trucks\, knit designers and more!
URL:https://destinationbedfordva.com/event/fiber-festival/
LOCATION:Sedalia Center\, 1108 Sedalia School Road\, Big Island\, VA\, 24526\, United States
ATTACH;FMTTYPE=image/jpeg:https://destinationbedfordva.com/wp-content/uploads/2025/04/sharp-top-fiber-festival.jpg
END:VEVENT
BEGIN:VEVENT
DTSTART;TZID=America/New_York:20240830T180000
DTEND;TZID=America/New_York:20240830T223000
DTSTAMP:20260421T203025
CREATED:20240709T203429Z
LAST-MODIFIED:20250319T185925Z
UID:10055663-1725040800-1725057000@destinationbedfordva.com
SUMMARY:SedaliaFest
DESCRIPTION:Come to the Sedalia Center an awesome weekend of live music\, vendors\, and more! \n\n\nKids 12 and under free\, no coolers\, no pets in festival area\, lawn chairs welcome.\n\n\n\n\nClick here for tickets and more information. \n 
URL:https://destinationbedfordva.com/event/sedaliafest-jimmy-buffett-tribute/
LOCATION:Sedalia Center\, 1108 Sedalia School Road\, Big Island\, VA\, 24526\, United States
ATTACH;FMTTYPE=image/jpeg:https://destinationbedfordva.com/wp-content/uploads/2019/11/Sedalia-Center-Logo.jpg
END:VEVENT
BEGIN:VEVENT
DTSTART;TZID=America/New_York:20240615T120000
DTEND;TZID=America/New_York:20240615T190000
DTSTAMP:20260421T203025
CREATED:20230213T154224Z
LAST-MODIFIED:20240510T190520Z
UID:10051162-1718452800-1718478000@destinationbedfordva.com
SUMMARY:Juneteenth
DESCRIPTION:Come to the Sedalia Center to celebrate Juneteenth and to put a little love in your heart! \nGates open at 11:00\n$5 donation entry. Kids 12 & under free.\nFeaturing:\nTanner Sharpe & High Praise\nMikal and Jessica Townsend\nMajestic Strength Dance Company\nMeredith’s Catering \n \nNO PETS and NO COOLERS are allowed in the festival area.\nFor more information click here. 
URL:https://destinationbedfordva.com/event/juneteenth/
LOCATION:Sedalia Center\, 1108 Sedalia School Road\, Big Island\, VA\, 24526\, United States
ATTACH;FMTTYPE=image/jpeg:https://destinationbedfordva.com/wp-content/uploads/2023/02/juneteenth-2024.jpg
END:VEVENT
BEGIN:VEVENT
DTSTART;TZID=America/New_York:20231021T120000
DTEND;TZID=America/New_York:20231021T160000
DTSTAMP:20260421T203025
CREATED:20231019T181506Z
LAST-MODIFIED:20231019T181506Z
UID:10053889-1697889600-1697904000@destinationbedfordva.com
SUMMARY:Skoolie Swarm Open House
DESCRIPTION:Come to the Sedalia Center for this Skoolie Swarm Open House! Have you ever wondered what one of those busses looks like on the inside that people have renovated into homes? Now is your chance! $5 per person. 
URL:https://destinationbedfordva.com/event/skoolie-swarm-open-house/
LOCATION:Sedalia Center\, 1108 Sedalia School Road\, Big Island\, VA\, 24526\, United States
ATTACH;FMTTYPE=image/jpeg:https://destinationbedfordva.com/wp-content/uploads/2023/10/skoolie-swarm.jpg
END:VEVENT
BEGIN:VEVENT
DTSTART;TZID=America/New_York:20221210T120000
DTEND;TZID=America/New_York:20221210T160000
DTSTAMP:20260421T203026
CREATED:20221114T155408Z
LAST-MODIFIED:20221205T164950Z
UID:10050268-1670673600-1670688000@destinationbedfordva.com
SUMMARY:Christmas in Sedalia
DESCRIPTION:Christmas in Sedalia is an annual event that offers holiday shoppers an opportunity to purchase unique hand-crafted gifts for everyone on their list. The Sedalia Center and neighboring Mountain Run Farm partner to showcase the best of the region’s creative community.  \nThis is an indoor and outdoor event and is free to the public. Santa always makes a surprise visit to take selfies with kids of all sizes! Light lunch items will be available for purchase along with hot cocoa\, and fresh-baked Christmas cookies to enhance your festive shopping experience.  \n 
URL:https://destinationbedfordva.com/event/christmas-in-sedalia-6/
LOCATION:Sedalia Center\, 1108 Sedalia School Road\, Big Island\, VA\, 24526\, United States
ATTACH;FMTTYPE=image/jpeg:https://destinationbedfordva.com/wp-content/uploads/2022/11/Christmas-in-sedalia-2022.jpg
END:VEVENT
BEGIN:VEVENT
DTSTART;TZID=America/New_York:20221029T113000
DTEND;TZID=America/New_York:20221029T170000
DTSTAMP:20260421T203026
CREATED:20210301T161549Z
LAST-MODIFIED:20220916T162710Z
UID:10048550-1667043000-1667062800@destinationbedfordva.com
SUMMARY:Sedalia Chili Cook-Off
DESCRIPTION:Spend your crisp October Saturday in the foothills of the beautiful Blue Ridge Mountains. Meander through the grounds of The Sedalia Center as you sample chili and enjoy a beverage. Teams will compete for your voting ticket. You can enter a team yourself. Get a few friends and your favorite recipe and you might be the winner! There will be live music throughout the day as well as food for purchase in addition to the chili tasting. This is a family friendly event. Children 12 and under are free.\n\nTickets- $10 online or $15 at the gate.
URL:https://destinationbedfordva.com/event/buzzy-coleman-chili-cook-off-at-sedalia/
LOCATION:Sedalia Center\, 1108 Sedalia School Road\, Big Island\, VA\, 24526\, United States
ATTACH;FMTTYPE=image/jpeg:https://destinationbedfordva.com/wp-content/uploads/2021/03/chili-2.jpg
END:VEVENT
BEGIN:VEVENT
DTSTART;TZID=America/New_York:20220924T140000
DTEND;TZID=America/New_York:20220924T233000
DTSTAMP:20260421T203026
CREATED:20220819T194255Z
LAST-MODIFIED:20220819T194255Z
UID:10049926-1664028000-1664062200@destinationbedfordva.com
SUMMARY:Be Kind Music Festival
DESCRIPTION:Come celebrate the 5th Annual Be Kind Music Festival at a new location\, the Sedalia Center. Featuring two days of favorite local and regional talent. This year’s lineup will feature Bigfoot County\, Tony Camm & the Funk All Stars\, John McBroom & the Jam (featuring members of “Red Weather”) \, The Isaac Hadden Project\, Sisters & Brothers\, Firecracker Jam\, Sierra Starr\, Sara Edwards\, Susan Paulette & more. \nFor tickets and more information\, click here. 
URL:https://destinationbedfordva.com/event/be-kind-music-festival/2022-09-24/
LOCATION:Sedalia Center\, 1108 Sedalia School Road\, Big Island\, VA\, 24526\, United States
ATTACH;FMTTYPE=image/jpeg:https://destinationbedfordva.com/wp-content/uploads/2022/08/Be-kind-music-festival.jpg
END:VEVENT
BEGIN:VEVENT
DTSTART;TZID=America/New_York:20220923T140000
DTEND;TZID=America/New_York:20220923T233000
DTSTAMP:20260421T203026
CREATED:20220819T194255Z
LAST-MODIFIED:20220819T194255Z
UID:10049925-1663941600-1663975800@destinationbedfordva.com
SUMMARY:Be Kind Music Festival
DESCRIPTION:Come celebrate the 5th Annual Be Kind Music Festival at a new location\, the Sedalia Center. Featuring two days of favorite local and regional talent. This year’s lineup will feature Bigfoot County\, Tony Camm & the Funk All Stars\, John McBroom & the Jam (featuring members of “Red Weather”) \, The Isaac Hadden Project\, Sisters & Brothers\, Firecracker Jam\, Sierra Starr\, Sara Edwards\, Susan Paulette & more. \nFor tickets and more information\, click here. 
URL:https://destinationbedfordva.com/event/be-kind-music-festival/2022-09-23/
LOCATION:Sedalia Center\, 1108 Sedalia School Road\, Big Island\, VA\, 24526\, United States
ATTACH;FMTTYPE=image/jpeg:https://destinationbedfordva.com/wp-content/uploads/2022/08/Be-kind-music-festival.jpg
END:VEVENT
BEGIN:VEVENT
DTSTART;TZID=America/New_York:20220917T170000
DTEND;TZID=America/New_York:20220917T210000
DTSTAMP:20260421T203026
CREATED:20220913T194734Z
LAST-MODIFIED:20220915T162026Z
UID:10050020-1663434000-1663448400@destinationbedfordva.com
SUMMARY:Halfway to St. Patrick's Day
DESCRIPTION:It’s officially halfway to St. Patrick’s Day! Come listen to great live music at the Sedalia Center’s fundraiser benefiting the 2023 Sedalia Center Celtic Festival & Highland Games!\nOnly 100 tickets are available! $25 per person gets you access to the fundraiser\, including a delicious meal of Irish stew and soda bread\, a Luck o’ the Irish raffle\, and hours of music. Cash bar available as well!\nMusicians include Kinnfolk\, Cat & Banjo\, and Brandon Davis on the pipes. Located on the Counter Ridge Stage nestled in a beautiful wooded grove.\nCall 434-299-5080 to get your tickets\, or visit this website: http://www.sedaliacenter.org/1-2-way-to-st-patricks-day/ 
URL:https://destinationbedfordva.com/event/halfway-to-st-patricks-day/
LOCATION:Sedalia Center\, 1108 Sedalia School Road\, Big Island\, VA\, 24526\, United States
ATTACH;FMTTYPE=image/jpeg:https://destinationbedfordva.com/wp-content/uploads/2022/09/kenfolk-at-sedalia.jpg
END:VEVENT
BEGIN:VEVENT
DTSTART;TZID=America/New_York:20220903T100000
DTEND;TZID=America/New_York:20220903T160000
DTSTAMP:20260421T203026
CREATED:20220825T203118Z
LAST-MODIFIED:20220825T203321Z
UID:10049937-1662199200-1662220800@destinationbedfordva.com
SUMMARY:Sedalia Country Fair & Gathering
DESCRIPTION:The Sedalia Country Gathering features the Virginia Draft Horse\, Mule and Donkey Show. The event focuses on the benefits of being and working outdoors in the country. Exhibits include bee keeping\, pollinator gardens\, gardening\, fiber\, metal works\, sewing\, husbandry\, sustainable living and so much more. They will also have local artists performing skits\, reading poetry\, dancing and sharing their musical talents. \nClick here for tickets. \n\n\n\n\n\n 
URL:https://destinationbedfordva.com/event/sedalia-country-fair-gathering-2/
LOCATION:Sedalia Center\, 1108 Sedalia School Road\, Big Island\, VA\, 24526\, United States
ATTACH;FMTTYPE=image/jpeg:https://destinationbedfordva.com/wp-content/uploads/2022/08/county-fair-2022.jpg
END:VEVENT
BEGIN:VEVENT
DTSTART;TZID=America/New_York:20220813T170000
DTEND;TZID=America/New_York:20220813T220000
DTSTAMP:20260421T203026
CREATED:20220718T140332Z
LAST-MODIFIED:20220726T191845Z
UID:10049865-1660410000-1660428000@destinationbedfordva.com
SUMMARY:Sedaliafest
DESCRIPTION:Come to the Sedalia Center for this annual fundraiser! There will be a car show\, dance contest\, live music show\, 50/50 raffle and more! Get your groove on at Motown in the Mountains! Click here for advance tickets!
URL:https://destinationbedfordva.com/event/sedaliafest-3/
LOCATION:Sedalia Center\, 1108 Sedalia School Road\, Big Island\, VA\, 24526\, United States
ATTACH;FMTTYPE=image/jpeg:https://destinationbedfordva.com/wp-content/uploads/2022/07/sedaliafest-2022-use-this-one-scaled.jpg
END:VEVENT
BEGIN:VEVENT
DTSTART;TZID=America/New_York:20220625T130000
DTEND;TZID=America/New_York:20220625T220000
DTSTAMP:20260421T203026
CREATED:20220612T203639Z
LAST-MODIFIED:20220612T203639Z
UID:10049790-1656162000-1656194400@destinationbedfordva.com
SUMMARY:Doc McCabe Bluegrass Festival
DESCRIPTION:Come to the Sedalia Center for three days of fun\, live bluegrass music\, great food\, vendors\, and much more! Click here for more information and for tickets. Camping is available with advance reservation.
URL:https://destinationbedfordva.com/event/doc-mccabe-bluegrass-festival/2022-06-25/
LOCATION:Sedalia Center\, 1108 Sedalia School Road\, Big Island\, VA\, 24526\, United States
ATTACH;FMTTYPE=image/jpeg:https://destinationbedfordva.com/wp-content/uploads/2022/06/Bluegrass-Logo-Sedalia-1.jpg
END:VEVENT
BEGIN:VEVENT
DTSTART;TZID=America/New_York:20220624T130000
DTEND;TZID=America/New_York:20220624T220000
DTSTAMP:20260421T203026
CREATED:20220612T203639Z
LAST-MODIFIED:20220612T203639Z
UID:10049789-1656075600-1656108000@destinationbedfordva.com
SUMMARY:Doc McCabe Bluegrass Festival
DESCRIPTION:Come to the Sedalia Center for three days of fun\, live bluegrass music\, great food\, vendors\, and much more! Click here for more information and for tickets. Camping is available with advance reservation.
URL:https://destinationbedfordva.com/event/doc-mccabe-bluegrass-festival/2022-06-24/
LOCATION:Sedalia Center\, 1108 Sedalia School Road\, Big Island\, VA\, 24526\, United States
ATTACH;FMTTYPE=image/jpeg:https://destinationbedfordva.com/wp-content/uploads/2022/06/Bluegrass-Logo-Sedalia-1.jpg
END:VEVENT
BEGIN:VEVENT
DTSTART;TZID=America/New_York:20220623T150000
DTEND;TZID=America/New_York:20220623T220000
DTSTAMP:20260421T203026
CREATED:20220612T203639Z
LAST-MODIFIED:20220612T203639Z
UID:10049788-1655996400-1656021600@destinationbedfordva.com
SUMMARY:Doc McCabe Bluegrass Festival
DESCRIPTION:Come to the Sedalia Center for three days of fun\, live bluegrass music\, great food\, vendors\, and much more! Click here for more information and for tickets. Camping is available with advance reservation.
URL:https://destinationbedfordva.com/event/doc-mccabe-bluegrass-festival/2022-06-23/
LOCATION:Sedalia Center\, 1108 Sedalia School Road\, Big Island\, VA\, 24526\, United States
ATTACH;FMTTYPE=image/jpeg:https://destinationbedfordva.com/wp-content/uploads/2022/06/Bluegrass-Logo-Sedalia-1.jpg
END:VEVENT
BEGIN:VEVENT
DTSTART;TZID=America/New_York:20220618T120000
DTEND;TZID=America/New_York:20220618T190000
DTSTAMP:20260421T203026
CREATED:20220601T191349Z
LAST-MODIFIED:20220603T193829Z
UID:10049714-1655553600-1655578800@destinationbedfordva.com
SUMMARY:Juneteenth at Sedalia
DESCRIPTION:The Sedalia Center’s Juneteenth Celebration takes place on June 18th from 12-7 pm.  The event features local gospel groups\, poetry readings\, theatrical performances\, inspirational speakers\, drum circle\, Kuumba Dance Ensemble\, and concludes with a concert by Apple Butter Soul.  Food and beverages will be available for purchase.  The event is located at The Sedalia Center\, which was the site of the Counter Ridge School originally built in 1959 as a segregated school.  Visitors may tour the Counter Ridge History Room\, dedicated to those who educated and were educated here during segregation.  \nFree and open to the public. \n 
URL:https://destinationbedfordva.com/event/juneteenth-at-sedalia-2/
LOCATION:Sedalia Center\, 1108 Sedalia School Road\, Big Island\, VA\, 24526\, United States
ATTACH;FMTTYPE=image/jpeg:https://destinationbedfordva.com/wp-content/uploads/2022/06/Sedalia-Center_Juneteenth-2022_Concept-768x1187-1.jpg
END:VEVENT
BEGIN:VEVENT
DTSTART;TZID=America/New_York:20220521T113000
DTEND;TZID=America/New_York:20220521T170000
DTSTAMP:20260421T203026
CREATED:20220211T202130Z
LAST-MODIFIED:20220211T202130Z
UID:10049501-1653132600-1653152400@destinationbedfordva.com
SUMMARY:BBQ & Blues Festival
DESCRIPTION:Learn More- http://www.sedaliacenter.org/2021/09/28/2022-bbq-blues/\nGet Tickets- http://www.lynchburgtickets.com/sedaliacenter\nSponsor- http://www.sedaliacenter.org/donate/sponsorship/\nVolunteer- http://www.sedaliacenter.org/volunteer/ 
URL:https://destinationbedfordva.com/event/bbq-blues-festival/
LOCATION:Sedalia Center\, 1108 Sedalia School Road\, Big Island\, VA\, 24526\, United States
ATTACH;FMTTYPE=image/jpeg:https://destinationbedfordva.com/wp-content/uploads/2022/02/272777613_7835203849830423_2767898969967387124_n.jpg
END:VEVENT
BEGIN:VEVENT
DTSTART;TZID=America/New_York:20220326T110000
DTEND;TZID=America/New_York:20220326T170000
DTSTAMP:20260421T203026
CREATED:20220204T214200Z
LAST-MODIFIED:20220303T214146Z
UID:10049489-1648292400-1648314000@destinationbedfordva.com
SUMMARY:Celtic Festival & Highland Games
DESCRIPTION:Learn More – http://www.sedaliacenter.org/…/2022-celtic-festival…/\nRegister Your Clan- http://www.sedaliacenter.org/…/2022-celtic-festival…/\nGet Tickets- http://www.lynchburgtickets.com/sedaliacenter\nVolunteer- http://www.sedaliacenter.org/volunteer/\nSponsor- http://www.sedaliacenter.org/donate/sponsorship/
URL:https://destinationbedfordva.com/event/celtic-festival-highland-games/
LOCATION:Sedalia Center\, 1108 Sedalia School Road\, Big Island\, VA\, 24526\, United States
ATTACH;FMTTYPE=image/jpeg:https://destinationbedfordva.com/wp-content/uploads/2022/02/272777873_7835098549840953_3899984898709595521_n.jpg
END:VEVENT
BEGIN:VEVENT
DTSTART;TZID=America/New_York:20211211T120000
DTEND;TZID=America/New_York:20211211T160000
DTSTAMP:20260421T203026
CREATED:20210301T161748Z
LAST-MODIFIED:20211129T190157Z
UID:10048551-1639224000-1639238400@destinationbedfordva.com
SUMMARY:Christmas in Sedalia
DESCRIPTION:Christmas in Sedalia is an annual event that offers holiday shoppers an opportunity to purchase unique hand-crafted gifts for everyone on their list. The Sedalia Center and neighboring Mountain Run Farm partner to showcase the best of the region’s creative community.  This is an indoor event and is free to the public. Santa always makes a surprise visit to take selfies with kids of all sizes! Light lunch items will be available for purchase along with hot cocoa\, and fresh-baked Christmas cookies to enhance your festive shopping experience. 
URL:https://destinationbedfordva.com/event/christmas-in-sedalia-5/
LOCATION:Sedalia Center\, 1108 Sedalia School Road\, Big Island\, VA\, 24526\, United States
ATTACH;FMTTYPE=image/jpeg:https://destinationbedfordva.com/wp-content/uploads/2021/03/christmas-in-sedalia-2.jpg
END:VEVENT
BEGIN:VEVENT
DTSTART;TZID=America/New_York:20210814T170000
DTEND;TZID=America/New_York:20210814T220000
DTSTAMP:20260421T203026
CREATED:20210301T160534Z
LAST-MODIFIED:20210804T135147Z
UID:10048548-1628960400-1628978400@destinationbedfordva.com
SUMMARY:Sedaliafest
DESCRIPTION:Come enjoy this annual Sedalia Center Fundraiser! The theme this year is Pirates\, Parrot-Heads\, & Prawns! \nLive music by Bluffett & the Son of a Sailor Band. Plus\, the Coleman Brothers Band\nFrozen Margaritas\, Beer\, Wine\, Kona Ice\,\nFood by Watts Poppin & Chillin and Ferguson’s Family Provisions and Concessions\n\n\n \nTickets- $10 in advance\, $15 at the gate. \nTickets also available in person at the Bedford Area Welcome Center (cash/check). Open daily 9 a.m. – 5 p.m. \n\nwww.lynchburgtickets.com/sedaliafest\n 
URL:https://destinationbedfordva.com/event/sedaliafest-2/
LOCATION:Sedalia Center\, 1108 Sedalia School Road\, Big Island\, VA\, 24526\, United States
ATTACH;FMTTYPE=image/jpeg:https://destinationbedfordva.com/wp-content/uploads/2021/03/sedaliafest-2021.jpg
END:VEVENT
BEGIN:VEVENT
DTSTART;TZID=America/New_York:20210626T120000
DTEND;TZID=America/New_York:20210626T170000
DTSTAMP:20260421T203026
CREATED:20210301T160251Z
LAST-MODIFIED:20210625T153825Z
UID:10048547-1624708800-1624726800@destinationbedfordva.com
SUMMARY:Bluegrass at Sedalia
DESCRIPTION:Bluegrass is back at Sedalia! Come celebrate bluegrass music.\nMore information Coming Soon!!\nTickets- $10 in advance (Lynchburgtickets.com) \, $15 at the gate
URL:https://destinationbedfordva.com/event/bluegrass-at-sedalia/
LOCATION:Sedalia Center\, 1108 Sedalia School Road\, Big Island\, VA\, 24526\, United States
ATTACH;FMTTYPE=image/jpeg:https://destinationbedfordva.com/wp-content/uploads/2021/03/Bluegrass-2.jpg
END:VEVENT
BEGIN:VEVENT
DTSTART;TZID=America/New_York:20210619T113000
DTEND;TZID=America/New_York:20210619T200000
DTSTAMP:20260421T203026
CREATED:20210301T155906Z
LAST-MODIFIED:20210611T184721Z
UID:10048546-1624102200-1624132800@destinationbedfordva.com
SUMMARY:Reconnecting Sedalia
DESCRIPTION:A day filled with music and remembrance\, and the opening of the African American Art Exhibition at Sedalia. This event is free and open to the public! \n 
URL:https://destinationbedfordva.com/event/juneteenth-at-sedalia/
LOCATION:Sedalia Center\, 1108 Sedalia School Road\, Big Island\, VA\, 24526\, United States
ATTACH;FMTTYPE=image/jpeg:https://destinationbedfordva.com/wp-content/uploads/2021/03/193968688_6473255296025292_4469700866652962421_n.jpg
END:VEVENT
BEGIN:VEVENT
DTSTART;TZID=America/New_York:20191103T080000
DTEND;TZID=America/New_York:20191103T170000
DTSTAMP:20260421T203026
CREATED:20190603T191237Z
LAST-MODIFIED:20190619T020947Z
UID:10047306-1572768000-1572800400@destinationbedfordva.com
SUMMARY:Russ Voelker & Randy Marling: A Brush with Color
DESCRIPTION:Come out and enjoy Sam Austin & Silverline\, real “Country Music” that connects with a broad audience. \n$10 at the gate; children 12 and under are free. \nCamping available! \nProceeds will support Domestic Violence Services.
URL:https://destinationbedfordva.com/event/russ-voelker-randy-marling-a-brush-with-color/
LOCATION:Sedalia Center\, 1108 Sedalia School Road\, Big Island\, VA\, 24526\, United States
ATTACH;FMTTYPE=image/jpeg:https://destinationbedfordva.com/wp-content/uploads/2019/06/relaxing-in-adirondack-chair.jpg
END:VEVENT
END:VCALENDAR