BEGIN:VCALENDAR
VERSION:2.0
PRODID:-//Destination Bedford - ECPv6.8.3//NONSGML v1.0//EN
CALSCALE:GREGORIAN
METHOD:PUBLISH
X-ORIGINAL-URL:https://destinationbedfordva.com
X-WR-CALDESC:Events for Destination Bedford
REFRESH-INTERVAL;VALUE=DURATION:PT1H
X-Robots-Tag:noindex
X-PUBLISHED-TTL:PT1H
BEGIN:VTIMEZONE
TZID:America/New_York
BEGIN:DAYLIGHT
TZOFFSETFROM:-0500
TZOFFSETTO:-0400
TZNAME:EDT
DTSTART:20190310T070000
END:DAYLIGHT
BEGIN:STANDARD
TZOFFSETFROM:-0400
TZOFFSETTO:-0500
TZNAME:EST
DTSTART:20191103T060000
END:STANDARD
BEGIN:DAYLIGHT
TZOFFSETFROM:-0500
TZOFFSETTO:-0400
TZNAME:EDT
DTSTART:20200308T070000
END:DAYLIGHT
BEGIN:STANDARD
TZOFFSETFROM:-0400
TZOFFSETTO:-0500
TZNAME:EST
DTSTART:20201101T060000
END:STANDARD
BEGIN:DAYLIGHT
TZOFFSETFROM:-0500
TZOFFSETTO:-0400
TZNAME:EDT
DTSTART:20210314T070000
END:DAYLIGHT
BEGIN:STANDARD
TZOFFSETFROM:-0400
TZOFFSETTO:-0500
TZNAME:EST
DTSTART:20211107T060000
END:STANDARD
END:VTIMEZONE
BEGIN:VEVENT
DTSTART;TZID=America/New_York:20210814T170000
DTEND;TZID=America/New_York:20210814T220000
DTSTAMP:20260422T033249
CREATED:20210301T160534Z
LAST-MODIFIED:20210804T135147Z
UID:10048548-1628960400-1628978400@destinationbedfordva.com
SUMMARY:Sedaliafest
DESCRIPTION:Come enjoy this annual Sedalia Center Fundraiser! The theme this year is Pirates\, Parrot-Heads\, & Prawns! \nLive music by Bluffett & the Son of a Sailor Band. Plus\, the Coleman Brothers Band\nFrozen Margaritas\, Beer\, Wine\, Kona Ice\,\nFood by Watts Poppin & Chillin and Ferguson’s Family Provisions and Concessions\n\n\n \nTickets- $10 in advance\, $15 at the gate. \nTickets also available in person at the Bedford Area Welcome Center (cash/check). Open daily 9 a.m. – 5 p.m. \n\nwww.lynchburgtickets.com/sedaliafest\n 
URL:https://destinationbedfordva.com/event/sedaliafest-2/
LOCATION:Sedalia Center\, 1108 Sedalia School Road\, Big Island\, VA\, 24526\, United States
ATTACH;FMTTYPE=image/jpeg:https://destinationbedfordva.com/wp-content/uploads/2021/03/sedaliafest-2021.jpg
END:VEVENT
BEGIN:VEVENT
DTSTART;TZID=America/New_York:20210626T120000
DTEND;TZID=America/New_York:20210626T170000
DTSTAMP:20260422T033249
CREATED:20210301T160251Z
LAST-MODIFIED:20210625T153825Z
UID:10048547-1624708800-1624726800@destinationbedfordva.com
SUMMARY:Bluegrass at Sedalia
DESCRIPTION:Bluegrass is back at Sedalia! Come celebrate bluegrass music.\nMore information Coming Soon!!\nTickets- $10 in advance (Lynchburgtickets.com) \, $15 at the gate
URL:https://destinationbedfordva.com/event/bluegrass-at-sedalia/
LOCATION:Sedalia Center\, 1108 Sedalia School Road\, Big Island\, VA\, 24526\, United States
ATTACH;FMTTYPE=image/jpeg:https://destinationbedfordva.com/wp-content/uploads/2021/03/Bluegrass-2.jpg
END:VEVENT
BEGIN:VEVENT
DTSTART;TZID=America/New_York:20210619T113000
DTEND;TZID=America/New_York:20210619T200000
DTSTAMP:20260422T033249
CREATED:20210301T155906Z
LAST-MODIFIED:20210611T184721Z
UID:10048546-1624102200-1624132800@destinationbedfordva.com
SUMMARY:Reconnecting Sedalia
DESCRIPTION:A day filled with music and remembrance\, and the opening of the African American Art Exhibition at Sedalia. This event is free and open to the public! \n 
URL:https://destinationbedfordva.com/event/juneteenth-at-sedalia/
LOCATION:Sedalia Center\, 1108 Sedalia School Road\, Big Island\, VA\, 24526\, United States
ATTACH;FMTTYPE=image/jpeg:https://destinationbedfordva.com/wp-content/uploads/2021/03/193968688_6473255296025292_4469700866652962421_n.jpg
END:VEVENT
BEGIN:VEVENT
DTSTART;TZID=America/New_York:20191103T080000
DTEND;TZID=America/New_York:20191103T170000
DTSTAMP:20260422T033249
CREATED:20190603T191237Z
LAST-MODIFIED:20190619T020947Z
UID:10047306-1572768000-1572800400@destinationbedfordva.com
SUMMARY:Russ Voelker & Randy Marling: A Brush with Color
DESCRIPTION:Come out and enjoy Sam Austin & Silverline\, real “Country Music” that connects with a broad audience. \n$10 at the gate; children 12 and under are free. \nCamping available! \nProceeds will support Domestic Violence Services.
URL:https://destinationbedfordva.com/event/russ-voelker-randy-marling-a-brush-with-color/
LOCATION:Sedalia Center\, 1108 Sedalia School Road\, Big Island\, VA\, 24526\, United States
ATTACH;FMTTYPE=image/jpeg:https://destinationbedfordva.com/wp-content/uploads/2019/06/relaxing-in-adirondack-chair.jpg
END:VEVENT
END:VCALENDAR