BEGIN:VCALENDAR
VERSION:2.0
PRODID:-//Destination Bedford - ECPv6.8.3//NONSGML v1.0//EN
CALSCALE:GREGORIAN
METHOD:PUBLISH
X-ORIGINAL-URL:https://destinationbedfordva.com
X-WR-CALDESC:Events for Destination Bedford
REFRESH-INTERVAL;VALUE=DURATION:PT1H
X-Robots-Tag:noindex
X-PUBLISHED-TTL:PT1H
BEGIN:VTIMEZONE
TZID:America/New_York
BEGIN:DAYLIGHT
TZOFFSETFROM:-0500
TZOFFSETTO:-0400
TZNAME:EDT
DTSTART:20160313T070000
END:DAYLIGHT
BEGIN:STANDARD
TZOFFSETFROM:-0400
TZOFFSETTO:-0500
TZNAME:EST
DTSTART:20161106T060000
END:STANDARD
BEGIN:DAYLIGHT
TZOFFSETFROM:-0500
TZOFFSETTO:-0400
TZNAME:EDT
DTSTART:20170312T070000
END:DAYLIGHT
BEGIN:STANDARD
TZOFFSETFROM:-0400
TZOFFSETTO:-0500
TZNAME:EST
DTSTART:20171105T060000
END:STANDARD
BEGIN:DAYLIGHT
TZOFFSETFROM:-0500
TZOFFSETTO:-0400
TZNAME:EDT
DTSTART:20180311T070000
END:DAYLIGHT
BEGIN:STANDARD
TZOFFSETFROM:-0400
TZOFFSETTO:-0500
TZNAME:EST
DTSTART:20181104T060000
END:STANDARD
BEGIN:DAYLIGHT
TZOFFSETFROM:-0500
TZOFFSETTO:-0400
TZNAME:EDT
DTSTART:20190310T070000
END:DAYLIGHT
BEGIN:STANDARD
TZOFFSETFROM:-0400
TZOFFSETTO:-0500
TZNAME:EST
DTSTART:20191103T060000
END:STANDARD
END:VTIMEZONE
BEGIN:VEVENT
DTSTART;TZID=America/New_York:20190824T180000
DTEND;TZID=America/New_York:20190824T210000
DTSTAMP:20260420T225058
CREATED:20190723T175556Z
LAST-MODIFIED:20190723T175556Z
UID:10047365-1566669600-1566680400@destinationbedfordva.com
SUMMARY:Magical Murder Mystery Saturday
DESCRIPTION:Experience Seven Doors Winery in a whole new way!\n••••••••••••••••••••••••••••••••••••••••••••••••••••••\nEnjoy this interactive murder mystery event (with a magical twist) where you will ask questions\, solve clues\, and buy or sell information using fake money. You will laugh\, talk\, eat\, and drink. In the end\, you will decide who committed the crime using your detective skills.\n••••••••••••••••••••••••••••••••••••••••••••••••••••••\nTickets are $40 per person and include light appetizers. Wine will be available to purchase on-site. \n(This event is 14 and up if accompanied by an adult!)
URL:https://destinationbedfordva.com/event/magical-murder-mystery-saturday/
LOCATION:Seven Doors Winery\, 5800 Johnson Mountain Road\, Huddleston\, 24104
GEO:37.184074;-79.38792
X-APPLE-STRUCTURED-LOCATION;VALUE=URI;X-ADDRESS=Seven Doors Winery 5800 Johnson Mountain Road Huddleston 24104;X-APPLE-RADIUS=500;X-TITLE=5800 Johnson Mountain Road:geo:-79.38792,37.184074
END:VEVENT
BEGIN:VEVENT
DTSTART;TZID=America/New_York:20190302T120000
DTEND;TZID=America/New_York:20190302T140000
DTSTAMP:20260420T225058
CREATED:20190226T155604Z
LAST-MODIFIED:20190226T155604Z
UID:10047025-1551528000-1551535200@destinationbedfordva.com
SUMMARY:Goats and Wine Encore
DESCRIPTION:Goat Snuggle and Wine Tasting is back! We had so much fun the last time and so many people interested and on our wait list\, we’re having an encore event March 2 while these babies are still small enough to be cute and cuddly.\nYes\, it’s basically where you come visit us\, drink wine and pet baby goats. 🤗🐐❤🍷🍾\nLimited to first 30 people\, must purchase tickets by March 1. $25 per person\, includes goat cuddling\, tasting of 7 wines\, glass of wine and light snacks. Must be 21 or older to consume alcohol.
URL:https://destinationbedfordva.com/event/goats-and-wine-encore/
LOCATION:Seven Doors Winery\, 5800 Johnson Mountain Road\, Huddleston\, 24104
GEO:37.184074;-79.38792
X-APPLE-STRUCTURED-LOCATION;VALUE=URI;X-ADDRESS=Seven Doors Winery 5800 Johnson Mountain Road Huddleston 24104;X-APPLE-RADIUS=500;X-TITLE=5800 Johnson Mountain Road:geo:-79.38792,37.184074
END:VEVENT
BEGIN:VEVENT
DTSTART;TZID=America/New_York:20190216T110000
DTEND;TZID=America/New_York:20190216T130000
DTSTAMP:20260420T225058
CREATED:20190215T183027Z
LAST-MODIFIED:20190215T183027Z
UID:10046991-1550314800-1550322000@destinationbedfordva.com
SUMMARY:Valentine Goat Snuggle Wine Tasting
DESCRIPTION:Come snuggle goats and taste wine\, whether you love or hate Valentine’s! Either grab your honey or come solo\, you’re sure to feel the love after cuddling sweet baby goats. We are opening special for this event. $25 per person\,\nIncludes wine tasting of 7 organic or sustainable wines\, a glass of wine of your choice (or love potion sangria)\, light refreshments and unlimited goat snuggles and laughs. Dress comfortably. Must be 21 to consume alcohol\, must pre-order tickets by Feb 15. https://squareup.com/store/seven-doors-winery\nPlease email sevendoorswinery@gmail.com with questions.
URL:https://destinationbedfordva.com/event/valentine-goat-snuggle-wine-tasting/
LOCATION:Seven Doors Winery\, 5800 Johnson Mountain Road\, Huddleston\, 24104
GEO:37.184074;-79.38792
X-APPLE-STRUCTURED-LOCATION;VALUE=URI;X-ADDRESS=Seven Doors Winery 5800 Johnson Mountain Road Huddleston 24104;X-APPLE-RADIUS=500;X-TITLE=5800 Johnson Mountain Road:geo:-79.38792,37.184074
END:VEVENT
BEGIN:VEVENT
DTSTART;TZID=America/New_York:20181123T110000
DTEND;TZID=America/New_York:20181123T180000
DTSTAMP:20260420T225058
CREATED:20181114T171432Z
LAST-MODIFIED:20181114T171432Z
UID:10046819-1542970800-1542996000@destinationbedfordva.com
SUMMARY:Wine Tasting Open House
DESCRIPTION:We are hosting an open house weekend after Thanksgiving\,\nwith extended hours and special wine drinks featuring Caramel Apple Mimosas and Hot Mulled Wine. We will lead Mimosa Meditations and we’ll also introduce our signature Mindful Tasting\, which is a spin on the normal wine tasting experience\, designed to get you more personally connected with your wine and engage all your senses. We guarantee you’ve never thought of wine in this way. This is our way of saying “we are thankful and grateful to you\, for just being you”. Please pack a lunch or snacks\, bring friends\, dogs or just yourself and find a few moments to carve out time to experience something new with us. Hours open for tastings: noon to 6pm Nov 23\, 24\, 25. Mimosa Meditations will be held 11am to noon Nov 23\, 24\, 25. Please register using link below. Mindful Tastings will be during regular hours\, no registration needed. If you have questions\, please email sevendoorswinery@gmail.com Must be 21 or older to consume alcohol.
URL:https://destinationbedfordva.com/event/wine-tasting-open-house/
LOCATION:Seven Doors Winery\, 5800 Johnson Mountain Road\, Huddleston\, 24104
GEO:37.184074;-79.38792
X-APPLE-STRUCTURED-LOCATION;VALUE=URI;X-ADDRESS=Seven Doors Winery 5800 Johnson Mountain Road Huddleston 24104;X-APPLE-RADIUS=500;X-TITLE=5800 Johnson Mountain Road:geo:-79.38792,37.184074
END:VEVENT
BEGIN:VEVENT
DTSTART;TZID=America/New_York:20180630T100000
DTEND;TZID=America/New_York:20180630T120000
DTSTAMP:20260420T225058
CREATED:20180530T160242Z
LAST-MODIFIED:20180530T160242Z
UID:10046613-1530352800-1530360000@destinationbedfordva.com
SUMMARY:Goat Yoga and Wine Tasting for Independence!
DESCRIPTION:Join us at Seven Doors Winery for goat yoga and wine tasting to celebrate Independence Day and benefit Saint Francis of Assisi Service Dog Foundation\, a Roanoke non profit that promotes independence for children and adults with disabilities.\nTickets include goat yoga\, wine tasting and snacks. \nNo alcohol tickets available.\nA portion of ticket sales will be donated to Saint Francis Service Dogs.\nMust be 21 or older to consume alcohol\, ID’s will be checked prior to serving any alcohol.\nRain or shine event – if rainy\, goat yoga will be held under cover.\nTicket holders will receive confirmation email with details the week of the event.\nFor more information or questions contact Sevendoorswinery@gmail.com.
URL:https://destinationbedfordva.com/event/goat-yoga-and-wine-tasting-for-independence/
LOCATION:Seven Doors Winery\, 5800 Johnson Mountain Road\, Huddleston\, 24104
GEO:37.184074;-79.38792
X-APPLE-STRUCTURED-LOCATION;VALUE=URI;X-ADDRESS=Seven Doors Winery 5800 Johnson Mountain Road Huddleston 24104;X-APPLE-RADIUS=500;X-TITLE=5800 Johnson Mountain Road:geo:-79.38792,37.184074
END:VEVENT
BEGIN:VEVENT
DTSTART;TZID=America/New_York:20161126T180000
DTEND;TZID=America/New_York:20161126T220000
DTSTAMP:20260420T225058
CREATED:20161004T143604Z
LAST-MODIFIED:20161004T143604Z
UID:10046305-1480183200-1480197600@destinationbedfordva.com
SUMMARY:"The Grape Gatsby"
DESCRIPTION:Enter Seven Doors Winery on Saturday\, November 26\, 2016 at 6:00pm and the winery will be as you have never known it.  In this themed reality\, a murder has been committed and you must find out who did it\, how\, and why from among the characters.  You must find clues\, question others\, and solve the crime.  Along the way you can bribe or blackmail others to get valuable information. \nOur theme is the Roaring Twenties.  Come dressed as Mobsters or Flappers or just as yourself! \nPurchase tickets through Squareup link on Seven Doors Facebook or Email SevenDoorsWinery@gmail.com for assistance. \n***Must be 21 or older to attend***
URL:https://destinationbedfordva.com/event/the-grape-gatsby/
LOCATION:Seven Doors Winery\, 5800 Johnson Mountain Road\, Huddleston\, 24104
ORGANIZER;CN="Step Into Mystery":MAILTO:SevenDoorsWinery@gmail.com
GEO:37.184074;-79.38792
X-APPLE-STRUCTURED-LOCATION;VALUE=URI;X-ADDRESS=Seven Doors Winery 5800 Johnson Mountain Road Huddleston 24104;X-APPLE-RADIUS=500;X-TITLE=5800 Johnson Mountain Road:geo:-79.38792,37.184074
END:VEVENT
END:VCALENDAR