BEGIN:VCALENDAR
VERSION:2.0
PRODID:-//Destination Bedford - ECPv6.8.3//NONSGML v1.0//EN
CALSCALE:GREGORIAN
METHOD:PUBLISH
X-ORIGINAL-URL:https://destinationbedfordva.com
X-WR-CALDESC:Events for Destination Bedford
REFRESH-INTERVAL;VALUE=DURATION:PT1H
X-Robots-Tag:noindex
X-PUBLISHED-TTL:PT1H
BEGIN:VTIMEZONE
TZID:America/New_York
BEGIN:DAYLIGHT
TZOFFSETFROM:-0500
TZOFFSETTO:-0400
TZNAME:EDT
DTSTART:20190310T070000
END:DAYLIGHT
BEGIN:STANDARD
TZOFFSETFROM:-0400
TZOFFSETTO:-0500
TZNAME:EST
DTSTART:20191103T060000
END:STANDARD
BEGIN:DAYLIGHT
TZOFFSETFROM:-0500
TZOFFSETTO:-0400
TZNAME:EDT
DTSTART:20200308T070000
END:DAYLIGHT
BEGIN:STANDARD
TZOFFSETFROM:-0400
TZOFFSETTO:-0500
TZNAME:EST
DTSTART:20201101T060000
END:STANDARD
END:VTIMEZONE
BEGIN:VEVENT
DTSTART;TZID=America/New_York:20200927T160000
DTEND;TZID=America/New_York:20200927T190000
DTSTAMP:20260419T142400
CREATED:20200923T132558Z
LAST-MODIFIED:20200923T132558Z
UID:10048192-1601222400-1601233200@destinationbedfordva.com
SUMMARY:Fall sip and shop
DESCRIPTION:Welcome to the fall sip and shop !  \nThis year they will be offering $5 rack $10 rack and $10 shoes ! \nTons of markdowns and new items will be added for this event !  \nGiveaways at the door and scratch off cards to the first 25 people in The door \nEach card contains 10-50% off your purchase \nOne lucky person will win a gift basket with gift cards from other businesses and $100 gift card to something else boutique !  \nSpirits and snacks will be available! 
URL:https://destinationbedfordva.com/event/fall-sip-and-shop/
LOCATION:Something Else Boutique
ATTACH;FMTTYPE=image/jpeg:https://destinationbedfordva.com/wp-content/uploads/2020/09/Fall-Sip-and-Shop.jpg
END:VEVENT
BEGIN:VEVENT
DTSTART;TZID=America/New_York:20190831T150000
DTEND;TZID=America/New_York:20190831T180000
DTSTAMP:20260419T142400
CREATED:20190829T173151Z
LAST-MODIFIED:20190829T173151Z
UID:10047437-1567263600-1567274400@destinationbedfordva.com
SUMMARY:Summer and Fall Bin Sale
DESCRIPTION:Enjoy looking through hundreds of items from the online store and from the mobile truck! \nThey will have $5\,$7\,$10 bins !\n$10-$15 jeans\nTons of winter and fall apparel from last year in the bins as well !
URL:https://destinationbedfordva.com/event/summer-and-fall-bin-sale/
LOCATION:Something Else Boutique
END:VEVENT
BEGIN:VEVENT
DTSTART;TZID=America/New_York:20190325T170000
DTEND;TZID=America/New_York:20190325T200000
DTSTAMP:20260419T142400
CREATED:20190322T174840Z
LAST-MODIFIED:20190322T174840Z
UID:10047057-1553533200-1553544000@destinationbedfordva.com
SUMMARY:Sip and Shop
DESCRIPTION:Hold on to your britches !!\nWe have over 300 items From Nordstrom in NYC!\nThese items are not normal stock items and range in variety of sizes\nShoes \, Swim wear \, womens \, children and MUCH MORE !\nOur inventory we have from Nordstrom is one of a kind pieces ! So you will not want to miss this ..\nALMOST EVERYTHING IS UNDER $30!!! \nPlease Join us for this SPECIAL EVENT ! \nwe will have a fully catered spread and A complimentary glass of wine :] \nwe look forward to hosting these events every 2-3 months !\nLets make this event one to remember !\nPlease RSVP so we can prepare enough drinks and food !
URL:https://destinationbedfordva.com/event/sip-and-shop/
LOCATION:Something Else Boutique
END:VEVENT
END:VCALENDAR