BEGIN:VCALENDAR
VERSION:2.0
PRODID:-//Destination Bedford - ECPv6.8.3//NONSGML v1.0//EN
CALSCALE:GREGORIAN
METHOD:PUBLISH
X-ORIGINAL-URL:https://destinationbedfordva.com
X-WR-CALDESC:Events for Destination Bedford
REFRESH-INTERVAL;VALUE=DURATION:PT1H
X-Robots-Tag:noindex
X-PUBLISHED-TTL:PT1H
BEGIN:VTIMEZONE
TZID:America/New_York
BEGIN:DAYLIGHT
TZOFFSETFROM:-0500
TZOFFSETTO:-0400
TZNAME:EDT
DTSTART:20160313T070000
END:DAYLIGHT
BEGIN:STANDARD
TZOFFSETFROM:-0400
TZOFFSETTO:-0500
TZNAME:EST
DTSTART:20161106T060000
END:STANDARD
BEGIN:DAYLIGHT
TZOFFSETFROM:-0500
TZOFFSETTO:-0400
TZNAME:EDT
DTSTART:20170312T070000
END:DAYLIGHT
BEGIN:STANDARD
TZOFFSETFROM:-0400
TZOFFSETTO:-0500
TZNAME:EST
DTSTART:20171105T060000
END:STANDARD
BEGIN:DAYLIGHT
TZOFFSETFROM:-0500
TZOFFSETTO:-0400
TZNAME:EDT
DTSTART:20180311T070000
END:DAYLIGHT
BEGIN:STANDARD
TZOFFSETFROM:-0400
TZOFFSETTO:-0500
TZNAME:EST
DTSTART:20181104T060000
END:STANDARD
END:VTIMEZONE
BEGIN:VEVENT
DTSTART;TZID=America/New_York:20181208T100000
DTEND;TZID=America/New_York:20181208T160000
DTSTAMP:20260424T203521
CREATED:20180116T174858Z
LAST-MODIFIED:20180116T174858Z
UID:10046546-1544263200-1544284800@destinationbedfordva.com
SUMMARY:Christmas in Sedalia
DESCRIPTION:The Sedalia Center and Mountain Run Farm’s CHRISTMAS IN SEDALIA to be held\, snow or shine\, \nSaturday\, December 8\, 2018 from 10am to 4pm.  \nChristmas in Sedalia showcases the best of the region’s creative community and offers holiday shoppers an opportunity to purchase unique\, hand-crafted gifts for everyone on their list.   \nShop Local. Shop Sedalia.\nA treasure trove of unique\, hand-crafted gifts for everyone on your list.
URL:https://destinationbedfordva.com/event/christmas-in-sedalia-3/
LOCATION:The Sedalia Center\, 1108 Sedalia School Road\, Big Island\, VA\, United States
GEO:37.4905574;-79.4430828
X-APPLE-STRUCTURED-LOCATION;VALUE=URI;X-ADDRESS=The Sedalia Center 1108 Sedalia School Road Big Island VA United States;X-APPLE-RADIUS=500;X-TITLE=1108 Sedalia School Road:geo:-79.4430828,37.4905574
END:VEVENT
BEGIN:VEVENT
DTSTART;TZID=America/New_York:20181020T113000
DTEND;TZID=America/New_York:20181020T190000
DTSTAMP:20260424T203521
CREATED:20180116T174752Z
LAST-MODIFIED:20180116T174752Z
UID:10046545-1540035000-1540062000@destinationbedfordva.com
SUMMARY:Sedalia Center Chili Cook-Off
DESCRIPTION:22nd Annual Chili Cook Off\nSaturday\, October 20\, 2018\n11:30 AM to 7:00 PM \nTickets are $10 in advance from lynchburgtickets.com (and select ticket locations) and $15 at the gate.\nAs always\, children 12 and under are free. \nTasting starts at HIGH NOON.\nBring a chair\, your dancing shoes\, and be prepared to SAMPLE THE AREA’S BEST CHILI.    \nNO Pets. NO Coolers.  \nLocal food and cold brew always available for purchase.\nLIVE ENTERTAINMENT! \nCAMPERS WELCOME!
URL:https://destinationbedfordva.com/event/chili-cook-off-2/
LOCATION:The Sedalia Center\, 1108 Sedalia School Road\, Big Island\, VA\, United States
GEO:37.4905574;-79.4430828
X-APPLE-STRUCTURED-LOCATION;VALUE=URI;X-ADDRESS=The Sedalia Center 1108 Sedalia School Road Big Island VA United States;X-APPLE-RADIUS=500;X-TITLE=1108 Sedalia School Road:geo:-79.4430828,37.4905574
END:VEVENT
BEGIN:VEVENT
DTSTART;TZID=America/New_York:20180901T100000
DTEND;TZID=America/New_York:20180901T160000
DTSTAMP:20260424T203521
CREATED:20180116T174552Z
LAST-MODIFIED:20180116T174552Z
UID:10046544-1535796000-1535817600@destinationbedfordva.com
SUMMARY:Sedalia Center Country Fair & Gathering
DESCRIPTION:The Sedalia Center Country Fair & Gathering will mark its 26th year on Saturday\, September 1\, 2018\, Labor Day weekend\, with its unique gathering together of the skills and pastimes that comprise rural life.  \nThe Fair runs from 10am – 4pm. Admission is $5\, and especially relevant to this child-centered event\, children 12 years and under are admitted free.\n \nFeatures include the Southern Virginia Draft Horse Show\, presented by the Bedford Equine Association\, and sheep herding exhibitions by Gladys\, VA master herding dog trainer Roy Johnson. The outdoor pavilion will again stable gentle cows\, horses\, ponies\, sheep\, and goats. The Future Farmers of America of Liberty High School will showcase their animals\, hosting halter classes and the always popular Poultry Show — lots of beautiful animals and big\, fluffy chickens. \nLocal canners and bakers are invited to bring their home made and preserved products for the food contests\, which also include eggs\, fresh produce\, and flower arrangement categories. \n \nFor more information email office@sedaliacenter.org or call 434-299-5080.
URL:https://destinationbedfordva.com/event/country-fair-gathering/
LOCATION:The Sedalia Center\, 1108 Sedalia School Road\, Big Island\, VA\, United States
GEO:37.4905574;-79.4430828
X-APPLE-STRUCTURED-LOCATION;VALUE=URI;X-ADDRESS=The Sedalia Center 1108 Sedalia School Road Big Island VA United States;X-APPLE-RADIUS=500;X-TITLE=1108 Sedalia School Road:geo:-79.4430828,37.4905574
END:VEVENT
BEGIN:VEVENT
DTSTART;TZID=America/New_York:20180811T180000
DTEND;TZID=America/New_York:20180811T220000
DTSTAMP:20260424T203521
CREATED:20180116T174430Z
LAST-MODIFIED:20180116T174430Z
UID:10046543-1534010400-1534024800@destinationbedfordva.com
SUMMARY:Sedalia Fest
DESCRIPTION:Enjoy a summer evening under the pavilion or under the stars. Rain or shine\, we’ll be fine! Let’s hope for a good clear night for our wide open sky view of the annual Perseid Meteor Shower. \nAvailable for purchase (separate from admission price) DELICIOUS SMOKY BBQ plus all the sides\, including a CORN ROAST! Cold beer and wine will be available as well as a variety other non-alcohol beverages.  Food for sale at event $10 for adults $5 dollars for ages 12 and under. \nThe Art of Living will be explored through our RE-ENERGIZED SOLAR ARRAY. \n$15 dollar admission 13 and up (12 and under free admission)
URL:https://destinationbedfordva.com/event/sedalia-fest/
LOCATION:The Sedalia Center\, 1108 Sedalia School Road\, Big Island\, VA\, United States
GEO:37.4905574;-79.4430828
X-APPLE-STRUCTURED-LOCATION;VALUE=URI;X-ADDRESS=The Sedalia Center 1108 Sedalia School Road Big Island VA United States;X-APPLE-RADIUS=500;X-TITLE=1108 Sedalia School Road:geo:-79.4430828,37.4905574
END:VEVENT
BEGIN:VEVENT
DTSTART;TZID=America/New_York:20180602T100000
DTEND;TZID=America/New_York:20180602T160000
DTSTAMP:20260424T203521
CREATED:20180116T174118Z
LAST-MODIFIED:20180116T174118Z
UID:10046542-1527933600-1527955200@destinationbedfordva.com
SUMMARY:Sedalia Center Artisan Fair
DESCRIPTION:The Artisan Fair hosts a wide variety of Artists and Artisans with an array of one-of-kind hand crafted works of art. From soft fibers to forged metal\, beautiful glass and gorgeous pottery\, you’re sure to find something lovely at this year’s event! We’ll have live music\, cool & refreshing sangria\, and delightful treats from our own concessions. Plus we’ll have some exciting kid’s painting activities (children 12 & under) with Glo Winters! \nAdmission is $5 at the gate\, children 12 & under are free. No pets\, no coolers please.
URL:https://destinationbedfordva.com/event/artisan-fair/
LOCATION:The Sedalia Center\, 1108 Sedalia School Road\, Big Island\, VA\, United States
GEO:37.4905574;-79.4430828
X-APPLE-STRUCTURED-LOCATION;VALUE=URI;X-ADDRESS=The Sedalia Center 1108 Sedalia School Road Big Island VA United States;X-APPLE-RADIUS=500;X-TITLE=1108 Sedalia School Road:geo:-79.4430828,37.4905574
END:VEVENT
BEGIN:VEVENT
DTSTART;TZID=America/New_York:20180428T113000
DTEND;TZID=America/New_York:20180428T170000
DTSTAMP:20260424T203521
CREATED:20180116T173953Z
LAST-MODIFIED:20180116T173953Z
UID:10046541-1524915000-1524934800@destinationbedfordva.com
SUMMARY:Sedalia Blues & BBQ
DESCRIPTION:The Sedalia Center presents the annual BBQ & Blues Festival on April 28th!!  Tastin’ starts at high noon! Gates open at 11:30am rain or shine.  Live Music by: John Emil\, Jump Street\, & IV Shades of Blue!!\n \nAdvance tickets are $10 and available at the Bedford Area Welcome Center.  At the gate: $15.  Children under 12 are free.\n \nBBQ TEAMS WANTED – ​Team Application \nCampers welcome!
URL:https://destinationbedfordva.com/event/bbq-blues/
LOCATION:The Sedalia Center\, 1108 Sedalia School Road\, Big Island\, VA\, United States
GEO:37.4905574;-79.4430828
X-APPLE-STRUCTURED-LOCATION;VALUE=URI;X-ADDRESS=The Sedalia Center 1108 Sedalia School Road Big Island VA United States;X-APPLE-RADIUS=500;X-TITLE=1108 Sedalia School Road:geo:-79.4430828,37.4905574
END:VEVENT
BEGIN:VEVENT
DTSTART;TZID=America/New_York:20180324T100000
DTEND;TZID=America/New_York:20180324T170000
DTSTAMP:20260424T203521
CREATED:20180116T173829Z
LAST-MODIFIED:20180116T173829Z
UID:10046540-1521885600-1521910800@destinationbedfordva.com
SUMMARY:Celtic Festival
DESCRIPTION:The Celtic Festival returns to The Sedalia Center! Come enjoy the day with us as we explore the rich Celtic heritage of our region. Pipes and drums\, dancers\, authentic Celtic fare\, Highland Games demonstrations\, Beale’s Brewery on site with special Celtic Brew. Second Wynde will headline our musical acts and we will also have Riddle on the Harp\, and Mr. Brian Coughlan from Limerick\, Ireland. Advance tickets will be available soon. $10 in advance\, $15 at the gate. As always\, children 12 and under get in free.  \n  \n 
URL:https://destinationbedfordva.com/event/celtic-festival/
LOCATION:The Sedalia Center\, 1108 Sedalia School Road\, Big Island\, VA\, United States
GEO:37.4905574;-79.4430828
X-APPLE-STRUCTURED-LOCATION;VALUE=URI;X-ADDRESS=The Sedalia Center 1108 Sedalia School Road Big Island VA United States;X-APPLE-RADIUS=500;X-TITLE=1108 Sedalia School Road:geo:-79.4430828,37.4905574
END:VEVENT
BEGIN:VEVENT
DTSTART;TZID=America/New_York:20171209T100000
DTEND;TZID=America/New_York:20171209T160000
DTSTAMP:20260424T203521
CREATED:20170208T145946Z
LAST-MODIFIED:20170208T145946Z
UID:10046363-1512813600-1512835200@destinationbedfordva.com
SUMMARY:Christmas in Sedalia
DESCRIPTION:The Sedalia Center and ​Mountain Run Farm’s CHRISTMAS IN SEDALIA to be held\, snow or shine\, Saturday\, December 9\, 2017 from 10am to 4pm. \n \nShop Local. Shop Sedalia.\nA treasure trove of unique\, hand-crafted gifts for everyone on your list. \nChristmas in Sedalia showcases the best of the region’s creative community and offers holiday shoppers an opportunity to purchase unique\, hand-crafted gifts for everyone on their list. \nSelfies with Santa\n1pm to 4pmKids Craft Activity\n1pm to 4pm \n\nGift Wrap Station\, Holiday Baked Goods\, Lunch Menu\, Hot Cocoa\, and lots more! \nCLICK HERE to download the VENDOR APPLICATION.  Please mail payment and the application to The Sedalia Center. 
URL:https://destinationbedfordva.com/event/christmas-in-sedalia-2/
LOCATION:The Sedalia Center\, 1108 Sedalia School Road\, Big Island\, VA\, United States
CATEGORIES:Featured
GEO:37.4905574;-79.4430828
X-APPLE-STRUCTURED-LOCATION;VALUE=URI;X-ADDRESS=The Sedalia Center 1108 Sedalia School Road Big Island VA United States;X-APPLE-RADIUS=500;X-TITLE=1108 Sedalia School Road:geo:-79.4430828,37.4905574
END:VEVENT
BEGIN:VEVENT
DTSTART;TZID=America/New_York:20171007T090000
DTEND;TZID=America/New_York:20171007T170000
DTSTAMP:20260424T203521
CREATED:20170919T214603Z
LAST-MODIFIED:20170919T214603Z
UID:10046447-1507366800-1507395600@destinationbedfordva.com
SUMMARY:Ride 4 Freedom 2017
DESCRIPTION:Join us on October 7th as Freedom 4/24 hosts its Third Annual Ride 4 Freedom. \nRide 4 Freedom Virginia is a Freedom 4/24 bike ride event (with LIVE MUSIC and GREAT FOOD) that seeks to raise awareness and funds to provide a pathway to freedom for sexually exploited and trafficked women and children. \nRIDE FOR FREEDOM…use your bike as a means to raise awareness of the sexual exploitation and human trafficking of women and children around the world! Get your friends\, family\, or employers involved… ask them to SPONSOR YOUR RIDE OR DONATE to help our partner in Uganda\, Christine’s House\, and similar organizations dedicated to justice! \nThe Ride 4 Freedom will be held at the Sedalia Center\, featuring a 62 mile paved ride\, a 62 gravel ride\, and a 24 mile paved ride for the recreational cyclist. People will be coming from all over the state\, and there will be plenty of food\, music\, camping\, and outdoor fun! \nLive Music:  Joel R. Kaiser\, Strong Water\, Annie Stokes\, L.A. Dies and MORE from 11:00am to 5:00pm\, tickets $5 ($7 at the door) \nCamping:  Make reservations at director@sedaliacenter.org to camp Friday night and/or Saturday night\, $10 for tents\, $20 for campers. \nFood/Beverage:  Apocalypse Ale Works and Blue Mountain Brewery will be available along with delicious brats and more! \nFore more event information and to register click here. \n 
URL:https://destinationbedfordva.com/event/ride-4-freedom-2017/
LOCATION:The Sedalia Center\, 1108 Sedalia School Road\, Big Island\, VA\, United States
GEO:37.4905574;-79.4430828
X-APPLE-STRUCTURED-LOCATION;VALUE=URI;X-ADDRESS=The Sedalia Center 1108 Sedalia School Road Big Island VA United States;X-APPLE-RADIUS=500;X-TITLE=1108 Sedalia School Road:geo:-79.4430828,37.4905574
END:VEVENT
BEGIN:VEVENT
DTSTART;TZID=America/New_York:20170902T100000
DTEND;TZID=America/New_York:20170902T160000
DTSTAMP:20260424T203521
CREATED:20170208T145747Z
LAST-MODIFIED:20170208T145747Z
UID:10046362-1504346400-1504368000@destinationbedfordva.com
SUMMARY:Sedalia Center ~ Country Fair & Gathering
DESCRIPTION:The Country Fair & Gathering is a celebration of many aspects of rural life–the work and the challenges as well as the rewards.  The Fair and Gathering is always a work in progress\, and The Sedalia Center encourages people who enjoy the outdoors to contribute their ideas and energy to shape the event.\n \n\n \n  \nView Event Details
URL:https://destinationbedfordva.com/event/sedalia-center-country-fair-gathering/
LOCATION:The Sedalia Center\, 1108 Sedalia School Road\, Big Island\, VA\, United States
CATEGORIES:Featured
GEO:37.4905574;-79.4430828
X-APPLE-STRUCTURED-LOCATION;VALUE=URI;X-ADDRESS=The Sedalia Center 1108 Sedalia School Road Big Island VA United States;X-APPLE-RADIUS=500;X-TITLE=1108 Sedalia School Road:geo:-79.4430828,37.4905574
END:VEVENT
BEGIN:VEVENT
DTSTART;TZID=America/New_York:20170812T170000
DTEND;TZID=America/New_York:20170812T230000
DTSTAMP:20260424T203521
CREATED:20170208T145228Z
LAST-MODIFIED:20170208T145228Z
UID:10046361-1502557200-1502578800@destinationbedfordva.com
SUMMARY:Sedalia Fest
DESCRIPTION:Ashley McBryde Headlines SedaliaFest\n  \nAshley McBryde has opened for big names in country music like: Chris Stapleton\, Willie Nelson and Hank Williams Jr and she often joins Eric Church on stage. \nBut her time as a support act is coming to an end; Ashley is currently working with super producer Jay Joyce (Church\, Brothers Osborne) on her upcoming album; Joyce is the go-to Nashville guy when artists want a more guitar-driven edge. \nSedaliaFest offers a great opportunity for country music fans in our area to see Ashley McBryde in a small\, intimate venue before she explodes into superstardom next year as a headline artist. \n\n\nGET TICKETS  \nGates open to the general admission ticket holders at 5pm.  VIP Ticket and Reserved Ticket holders\, gates open at 4pm.\n\n\nAugust Charity: Back To School: All guests are encouraged to bring a back to school item to be donated to the local elementary school\n\nAugust Theme: Farmers Appreciation Day \n\nFarmers get in for $8 plus receive a free vendor table in Farmer’s Market\nHarvest Days Farmer’s Market: Get to know the local farmers\nAntique Tractor Display\nNew Farm Equipment/Tractors/Gators/Mowers… Display\nAntique Hit and Miss Engine Display\nStickers and Tee Shirts with Farm Slogan for sale like: “When You Gripe About A Farmer… Don’t Do It With Your Mouth Full”  — Picture of Tractor on two lane road\nInformation in programs about safety etiquette when following\, passing or approaching farm vehicles on the road\nFarmer Recognition Award: Recognize a local farmer for lifetime achievement and the farming community in general for raising $30K in disaster relief for the Midwest farmers devastated by spring fires that burned over 1 million acres.\n\n\nFarmer Appreciation Day – Farmer Discounted Ticket\nFarmers are welcome to arrive early and set  up in the complimentary Summer Harvest Farmers Market.  To reserve your place email: director@sedaliacenter.org or call (434) 299-5080.  ​\n\n\nGET TICKETS  \n\n\nTicket Pricing:\n​Tickets available at www.lynchburgtickets.com\, by calling The Sedalia Center: (434) 299-5080 or at the gate.\n\n\n VIP: $75 Meet and Greet with Headline Artist (Includes Pic Opportunity) \n\n30 available (Not including Sponsors meet and greets)\nReserved Parking\nEarly Admission\nReserved Seating in Front Rows of Pavilion with Headline Artist Stage\nDinner: Low Country Boil\n\n  Gold Reserved Ticket: $45 \n\n100 available\nReserved Parking\nEarly Admission\nReserved Seating in Pavilion with Headline Artist Stage\nDinner: Low Country Seafood Boil​\n\nGeneral Admission: $15 \n\nBring chairs\, blankets to sit on the lawn\nFood Truck or Concession Dinner – guest pays\n\n Local 24526/24523 General Admission Ticket Price: $12 \n\nBring chairs\, blankets to sit on the lawn\nFood Truck or Concession Dinner – guest pays\n\n Farmer General Admission Price: $8 \n\nEarly Admission to set up Farmer’s Market Table and dinner
URL:https://destinationbedfordva.com/event/sedalia-center-annual-fundraiser/
LOCATION:The Sedalia Center\, 1108 Sedalia School Road\, Big Island\, VA\, United States
CATEGORIES:Featured
GEO:37.4905574;-79.4430828
X-APPLE-STRUCTURED-LOCATION;VALUE=URI;X-ADDRESS=The Sedalia Center 1108 Sedalia School Road Big Island VA United States;X-APPLE-RADIUS=500;X-TITLE=1108 Sedalia School Road:geo:-79.4430828,37.4905574
END:VEVENT
BEGIN:VEVENT
DTSTART;VALUE=DATE:20170622
DTEND;VALUE=DATE:20170625
DTSTAMP:20260424T203521
CREATED:20170208T143740Z
LAST-MODIFIED:20170208T143740Z
UID:10046360-1498089600-1498348799@destinationbedfordva.com
SUMMARY:Sedalia Center ~ Doc McCabe 21st Annual Memorial Bluegrass Festival
DESCRIPTION: Come out to the Sedalia Center for the Doc McCabe 21st Annual Memorial Bluegrass Festival! \nMusic starts Thursday afternoon\, June 22\, and goes through Saturday night June 24. \nApplications are currently being accepted for craft and specialty vendors. \nCamping is available or click here for a list of places to stay in Bedford. \n \n 
URL:https://destinationbedfordva.com/event/sedalia-center-doc-mccabe-21st-annual-memorial-bluegrass-festival/
LOCATION:The Sedalia Center\, 1108 Sedalia School Road\, Big Island\, VA\, United States
CATEGORIES:Featured
GEO:37.4905574;-79.4430828
X-APPLE-STRUCTURED-LOCATION;VALUE=URI;X-ADDRESS=The Sedalia Center 1108 Sedalia School Road Big Island VA United States;X-APPLE-RADIUS=500;X-TITLE=1108 Sedalia School Road:geo:-79.4430828,37.4905574
END:VEVENT
BEGIN:VEVENT
DTSTART;VALUE=DATE:20170603
DTEND;VALUE=DATE:20170604
DTSTAMP:20260424T203521
CREATED:20170208T142659Z
LAST-MODIFIED:20170208T142659Z
UID:10046359-1496448000-1496534399@destinationbedfordva.com
SUMMARY:Sedalia Center ~ Artisan Fair
DESCRIPTION:Mark your calendars for a beautiful day at Sedalia featuring over 50 local and regional Artisans. Painters\, potters\, blacksmiths\, wood workers\, agri-artisans\, and more will be displaying\, demonstrating\, and offering their wares for sale.  \nA lively array of musicians will be on board to provide entertainment.  \n\nDelicious lunch and munchies provided for sale by specialty vendors and our concession stand will also be open.\n\nThis event is in partnership with Bedford Artisan Trail\, The Artisan Center of Virginia\, and The Sedalia Center and is sponsored in part by Georgia Pacific\, Blue Ridge Beverage\, Bank of the James\, and generous local art patrons.  \nWe invite you to come out to the Artisan Fair at Sedalia and support your local artisans.  From potters to painters\, blacksmiths to wood workers\, photographers to metal artists\, agri-artisans to local farmers\, we are blessed to have so many talented people in our community.
URL:https://destinationbedfordva.com/event/sedalia-center-artisan-fair/
LOCATION:The Sedalia Center\, 1108 Sedalia School Road\, Big Island\, VA\, United States
CATEGORIES:Featured
GEO:37.4905574;-79.4430828
X-APPLE-STRUCTURED-LOCATION;VALUE=URI;X-ADDRESS=The Sedalia Center 1108 Sedalia School Road Big Island VA United States;X-APPLE-RADIUS=500;X-TITLE=1108 Sedalia School Road:geo:-79.4430828,37.4905574
END:VEVENT
BEGIN:VEVENT
DTSTART;VALUE=DATE:20170422
DTEND;VALUE=DATE:20170423
DTSTAMP:20260424T203521
CREATED:20170208T141748Z
LAST-MODIFIED:20170208T141748Z
UID:10046358-1492819200-1492905599@destinationbedfordva.com
SUMMARY:The Sedalia Center ~ BBQ & Blues
DESCRIPTION:Come join us Saturday\, April 22\, 2017 for BBQ & Blues! \nLive music\, BBQ and more…Tastin’ starts at High Noon!  \nCampers are always welcome!\n \n \n 
URL:https://destinationbedfordva.com/event/sedalia-center-bbq-blues/
LOCATION:The Sedalia Center\, 1108 Sedalia School Road\, Big Island\, VA\, United States
CATEGORIES:Featured
GEO:37.4905574;-79.4430828
X-APPLE-STRUCTURED-LOCATION;VALUE=URI;X-ADDRESS=The Sedalia Center 1108 Sedalia School Road Big Island VA United States;X-APPLE-RADIUS=500;X-TITLE=1108 Sedalia School Road:geo:-79.4430828,37.4905574
END:VEVENT
BEGIN:VEVENT
DTSTART;VALUE=DATE:20161210
DTEND;VALUE=DATE:20161211
DTSTAMP:20260424T203521
CREATED:20160202T213529Z
LAST-MODIFIED:20160202T213529Z
UID:10045914-1481328000-1481414399@destinationbedfordva.com
SUMMARY:Christmas in Sedalia
DESCRIPTION:Santa’s workshop is coming to Sedalia and so is Santa!  There will be hand crafted\, local gifts for everyone on your list! Also featured will be a gift wrap station\, craft activities for children of all ages\, Christmas carols\, live music\, food and fun!
URL:https://destinationbedfordva.com/event/christmas-in-sedalia/
LOCATION:The Sedalia Center\, 1108 Sedalia School Road\, Big Island\, VA\, United States
CATEGORIES:Featured
GEO:37.4905574;-79.4430828
X-APPLE-STRUCTURED-LOCATION;VALUE=URI;X-ADDRESS=The Sedalia Center 1108 Sedalia School Road Big Island VA United States;X-APPLE-RADIUS=500;X-TITLE=1108 Sedalia School Road:geo:-79.4430828,37.4905574
END:VEVENT
BEGIN:VEVENT
DTSTART;VALUE=DATE:20161022
DTEND;VALUE=DATE:20161023
DTSTAMP:20260424T203521
CREATED:20160202T213452Z
LAST-MODIFIED:20160202T213452Z
UID:10045913-1477094400-1477180799@destinationbedfordva.com
SUMMARY:The Sedalia Center's 20th Annual Chili Cook-Off
DESCRIPTION:Chili Teams from the region will compete for your vote. \nTasting starts at HIGH NOON.\n Bring a chair\, your dancing shoes\, and be prepared to  sample the areas best Chili.   NO Pets. NO Coolers.  \n \nLocal food and cold brew always available for purchase. \nTickets are $10 in advance from lynchburgtickets.com and $15 at the gate.\nAs always\, children 12 and under are free.   \nLIVE ENTERTAINMENT BY:  The Chilly Brothers\, Fire Cracker Jam\, and Relacksachian\n\n \n 
URL:https://destinationbedfordva.com/event/chili-cook-off/
LOCATION:The Sedalia Center\, 1108 Sedalia School Road\, Big Island\, VA\, United States
GEO:37.4905574;-79.4430828
X-APPLE-STRUCTURED-LOCATION;VALUE=URI;X-ADDRESS=The Sedalia Center 1108 Sedalia School Road Big Island VA United States;X-APPLE-RADIUS=500;X-TITLE=1108 Sedalia School Road:geo:-79.4430828,37.4905574
END:VEVENT
END:VCALENDAR