BEGIN:VCALENDAR
VERSION:2.0
PRODID:-//Destination Bedford - ECPv6.8.3//NONSGML v1.0//EN
CALSCALE:GREGORIAN
METHOD:PUBLISH
X-ORIGINAL-URL:https://destinationbedfordva.com
X-WR-CALDESC:Events for Destination Bedford
REFRESH-INTERVAL;VALUE=DURATION:PT1H
X-Robots-Tag:noindex
X-PUBLISHED-TTL:PT1H
BEGIN:VTIMEZONE
TZID:America/New_York
BEGIN:DAYLIGHT
TZOFFSETFROM:-0500
TZOFFSETTO:-0400
TZNAME:EDT
DTSTART:20240310T070000
END:DAYLIGHT
BEGIN:STANDARD
TZOFFSETFROM:-0400
TZOFFSETTO:-0500
TZNAME:EST
DTSTART:20241103T060000
END:STANDARD
BEGIN:DAYLIGHT
TZOFFSETFROM:-0500
TZOFFSETTO:-0400
TZNAME:EDT
DTSTART:20250309T070000
END:DAYLIGHT
BEGIN:STANDARD
TZOFFSETFROM:-0400
TZOFFSETTO:-0500
TZNAME:EST
DTSTART:20251102T060000
END:STANDARD
END:VTIMEZONE
BEGIN:VEVENT
DTSTART;TZID=America/New_York:20250524T100000
DTEND;TZID=America/New_York:20250524T150000
DTSTAMP:20260421T171606
CREATED:20250521T160712Z
LAST-MODIFIED:20250521T160712Z
UID:10059693-1748080800-1748098800@destinationbedfordva.com
SUMMARY:Family Day at the Ranch
DESCRIPTION:Come to Twin J Ranch join for Memorial Day Weekend!\n$5 Admission 3 & Under FREE\n Pony Rides\n Crafts\n Petting Zoo\n Bounce House\n& More!
URL:https://destinationbedfordva.com/event/family-day-at-the-ranch/
LOCATION:Twin J Ranch\, 2478 Moneta Road\, Bedford\, VA\, 24523
ATTACH;FMTTYPE=image/jpeg:https://destinationbedfordva.com/wp-content/uploads/2025/05/family-day-at-the-ranch.jpg
END:VEVENT
BEGIN:VEVENT
DTSTART;TZID=America/New_York:20250419T100000
DTEND;TZID=America/New_York:20250419T150000
DTSTAMP:20260421T171606
CREATED:20250128T213956Z
LAST-MODIFIED:20250128T213956Z
UID:10059208-1745056800-1745074800@destinationbedfordva.com
SUMMARY:Easter Egg Hunt & Ranch Day
DESCRIPTION:The Easter bunny will be hopping on over to the Ranch for pictures and fun! Come get your picture with the Easter Bunny!\nIn addition to the Easter Bunny there is more fun planned!!\nCome enjoy an Egg Hunt\, Unicorn meet & greet\, petting zoo\, bounce house\, kids play corral\, Easter crafts\, and more!\nAdmission: $5 Entry Fee – 3 & Under FREE\n****If you plan to participate in the Easter Egg Hunt please BRING YOUR OWN BASKET****\nThis year there will be 10\,000++ Eggs to ensure eggs for everyone!\n \nSaturday April 19th\, 2024\n10am – Gates Open\nPetting Zoo Open\nKids Corral Open\n11am – Easter Bunny Arrives\n12pm- Unicorn Arrives\n1pm- Easter Egg Hunt\n3pm- Gates Close
URL:https://destinationbedfordva.com/event/easter-egg-hunt-ranch-day-2/
LOCATION:Twin J Ranch\, 2478 Moneta Road\, Bedford\, VA\, 24523
ATTACH;FMTTYPE=image/jpeg:https://destinationbedfordva.com/wp-content/uploads/2025/01/Easter-egg-hunt-2025.jpg
END:VEVENT
BEGIN:VEVENT
DTSTART;TZID=America/New_York:20241109T100000
DTEND;TZID=America/New_York:20241109T170000
DTSTAMP:20260421T171606
CREATED:20240918T202615Z
LAST-MODIFIED:20240918T202615Z
UID:10055720-1731146400-1731171600@destinationbedfordva.com
SUMMARY:Fall Festival & Car Show
DESCRIPTION:Come enjoy some fantastic fall fun! \n\n\n-LIVE MUSIC\n-CAR SHOW\n-FOOD\n-VENDORS\n-Kids Corral with lots of activities\n-Petting Zoo\n-Pony Rides\n-Hay Rides\n-Face Painting\n& MORE!\n$5 Admission\n3 & Under FREE
URL:https://destinationbedfordva.com/event/fall-festival-car-show/
LOCATION:Twin J Ranch\, 2478 Moneta Road\, Bedford\, VA\, 24523
ATTACH;FMTTYPE=image/jpeg:https://destinationbedfordva.com/wp-content/uploads/2024/09/fall-festival-and-car-show.jpg
END:VEVENT
BEGIN:VEVENT
DTSTART;TZID=America/New_York:20240330T100000
DTEND;TZID=America/New_York:20240330T150000
DTSTAMP:20260421T171606
CREATED:20240318T192500Z
LAST-MODIFIED:20240318T192500Z
UID:10054358-1711792800-1711810800@destinationbedfordva.com
SUMMARY:Easter Egg Hunt & Ranch Day
DESCRIPTION:Come enjoy an egg hunt\, pictures with the Easter bunny\, unicorn meet & greet\, petting zoo\, bounce house\, kids play corral\, Easter crafts\, and more! \nAdmission: $5 Entry Fee\n3 & Under FREE \n\n****If you plan to participate in the Easter Egg Hunt please BRING YOUR OWN BASKET****\n \n10am – Gates Open\nPetting Zoo Open\nKids Corral Open\n11am – Easter Bunny Arrives\n12pm- Unicorn Arrives\n1pm- Easter Egg Hunt\n3pm- Gates Close
URL:https://destinationbedfordva.com/event/easter-egg-hunt-ranch-day/
LOCATION:Twin J Ranch\, 2478 Moneta Road\, Bedford\, VA\, 24523
ATTACH;FMTTYPE=image/jpeg:https://destinationbedfordva.com/wp-content/uploads/2024/03/Twin-J-Ranch-Easter.jpg
END:VEVENT
END:VCALENDAR