BEGIN:VCALENDAR
VERSION:2.0
PRODID:-//Destination Bedford - ECPv6.8.3//NONSGML v1.0//EN
CALSCALE:GREGORIAN
METHOD:PUBLISH
X-WR-CALNAME:Destination Bedford
X-ORIGINAL-URL:https://destinationbedfordva.com
X-WR-CALDESC:Events for Destination Bedford
REFRESH-INTERVAL;VALUE=DURATION:PT1H
X-Robots-Tag:noindex
X-PUBLISHED-TTL:PT1H
BEGIN:VTIMEZONE
TZID:America/New_York
BEGIN:DAYLIGHT
TZOFFSETFROM:-0500
TZOFFSETTO:-0400
TZNAME:EDT
DTSTART:20230312T070000
END:DAYLIGHT
BEGIN:STANDARD
TZOFFSETFROM:-0400
TZOFFSETTO:-0500
TZNAME:EST
DTSTART:20231105T060000
END:STANDARD
BEGIN:DAYLIGHT
TZOFFSETFROM:-0500
TZOFFSETTO:-0400
TZNAME:EDT
DTSTART:20240310T070000
END:DAYLIGHT
BEGIN:STANDARD
TZOFFSETFROM:-0400
TZOFFSETTO:-0500
TZNAME:EST
DTSTART:20241103T060000
END:STANDARD
BEGIN:DAYLIGHT
TZOFFSETFROM:-0500
TZOFFSETTO:-0400
TZNAME:EDT
DTSTART:20250309T070000
END:DAYLIGHT
BEGIN:STANDARD
TZOFFSETFROM:-0400
TZOFFSETTO:-0500
TZNAME:EST
DTSTART:20251102T060000
END:STANDARD
BEGIN:DAYLIGHT
TZOFFSETFROM:-0500
TZOFFSETTO:-0400
TZNAME:EDT
DTSTART:20260308T070000
END:DAYLIGHT
BEGIN:STANDARD
TZOFFSETFROM:-0400
TZOFFSETTO:-0500
TZNAME:EST
DTSTART:20261101T060000
END:STANDARD
END:VTIMEZONE
BEGIN:VEVENT
DTSTART;TZID=America/New_York:20260404T100000
DTEND;TZID=America/New_York:20260404T160000
DTSTAMP:20260422T092949
CREATED:20260325T201707Z
LAST-MODIFIED:20260325T203306Z
UID:10062609-1775296800-1775318400@destinationbedfordva.com
SUMMARY:Spring Market at Woods Goods
DESCRIPTION:April 2–4 is blooming with charm\, treasures\, and just a little bit of Easter magic!\nStep into Woods Goods & Mercantile and wander through freshly stocked vendor booths bursting with vintage finds\, garden-inspired décor\, and one-of-a-kind pieces you didn’t know you needed!\nLast-minute Easter ideas?  Shop sweet decor\, thoughtful gifts\, and table-ready treasures that will make your gathering feel extra special.\n Saturday\, April 4 — The amazing Brew Initiative Coffee Truck will be here serving up all the cozy\, caffeinated goodness while you shop. (Because treasure hunting is better with a latte in hand.)\nThis month’s vibe? Think fresh blooms\, soft sunshine\, and that perfect blend of vintage charm + garden party whimsy.
URL:https://destinationbedfordva.com/event/spring-market-at-woods-goods/2026-04-04/
LOCATION:Woods Goods & Mercantile\, 2770 W Lynchburg Salem Tpke\, Bedford\, VA\, 24523\, United States
ATTACH;FMTTYPE=image/jpeg:https://destinationbedfordva.com/wp-content/uploads/2026/03/Spring-market-at-Woods-Goods.jpg
END:VEVENT
BEGIN:VEVENT
DTSTART;TZID=America/New_York:20260403T100000
DTEND;TZID=America/New_York:20260403T160000
DTSTAMP:20260422T092949
CREATED:20260325T201707Z
LAST-MODIFIED:20260325T203306Z
UID:10062608-1775210400-1775232000@destinationbedfordva.com
SUMMARY:Spring Market at Woods Goods
DESCRIPTION:April 2–4 is blooming with charm\, treasures\, and just a little bit of Easter magic!\nStep into Woods Goods & Mercantile and wander through freshly stocked vendor booths bursting with vintage finds\, garden-inspired décor\, and one-of-a-kind pieces you didn’t know you needed!\nLast-minute Easter ideas?  Shop sweet decor\, thoughtful gifts\, and table-ready treasures that will make your gathering feel extra special.\n Saturday\, April 4 — The amazing Brew Initiative Coffee Truck will be here serving up all the cozy\, caffeinated goodness while you shop. (Because treasure hunting is better with a latte in hand.)\nThis month’s vibe? Think fresh blooms\, soft sunshine\, and that perfect blend of vintage charm + garden party whimsy.
URL:https://destinationbedfordva.com/event/spring-market-at-woods-goods/2026-04-03/
LOCATION:Woods Goods & Mercantile\, 2770 W Lynchburg Salem Tpke\, Bedford\, VA\, 24523\, United States
ATTACH;FMTTYPE=image/jpeg:https://destinationbedfordva.com/wp-content/uploads/2026/03/Spring-market-at-Woods-Goods.jpg
END:VEVENT
BEGIN:VEVENT
DTSTART;TZID=America/New_York:20260402T100000
DTEND;TZID=America/New_York:20260402T160000
DTSTAMP:20260422T092949
CREATED:20260325T201707Z
LAST-MODIFIED:20260325T203306Z
UID:10062607-1775124000-1775145600@destinationbedfordva.com
SUMMARY:Spring Market at Woods Goods
DESCRIPTION:April 2–4 is blooming with charm\, treasures\, and just a little bit of Easter magic!\nStep into Woods Goods & Mercantile and wander through freshly stocked vendor booths bursting with vintage finds\, garden-inspired décor\, and one-of-a-kind pieces you didn’t know you needed!\nLast-minute Easter ideas?  Shop sweet decor\, thoughtful gifts\, and table-ready treasures that will make your gathering feel extra special.\n Saturday\, April 4 — The amazing Brew Initiative Coffee Truck will be here serving up all the cozy\, caffeinated goodness while you shop. (Because treasure hunting is better with a latte in hand.)\nThis month’s vibe? Think fresh blooms\, soft sunshine\, and that perfect blend of vintage charm + garden party whimsy.
URL:https://destinationbedfordva.com/event/spring-market-at-woods-goods/2026-04-02/
LOCATION:Woods Goods & Mercantile\, 2770 W Lynchburg Salem Tpke\, Bedford\, VA\, 24523\, United States
ATTACH;FMTTYPE=image/jpeg:https://destinationbedfordva.com/wp-content/uploads/2026/03/Spring-market-at-Woods-Goods.jpg
END:VEVENT
BEGIN:VEVENT
DTSTART;TZID=America/New_York:20260308T100000
DTEND;TZID=America/New_York:20260308T160000
DTSTAMP:20260422T092949
CREATED:20260303T192611Z
LAST-MODIFIED:20260303T192611Z
UID:10062493-1772964000-1772985600@destinationbedfordva.com
SUMMARY:First Weekends at Woods Goods & Mercantile
DESCRIPTION:Woods Goods & Mercantile is opening their doors monthly\, and this one is all about welcoming spring with intention\, beauty\, and a little treasure hunting.\nCome shop a carefully curated mix of:\n•  Fresh plants + planters\n•  Antiques & vintage finds\n•  Home decor you won’t find anywhere else\n•  Thoughtful gifts & small artisan goods\nEach monthly opening will happen the first weekend of the month and they will all be different. New inventory\, new finds\, and pieces that won’t be restocked once they’re gone.
URL:https://destinationbedfordva.com/event/first-weekends-at-woods-goods-mercantile/2026-03-08/
LOCATION:Woods Goods & Mercantile\, 2770 W Lynchburg Salem Tpke\, Bedford\, VA\, 24523\, United States
ATTACH;FMTTYPE=image/jpeg:https://destinationbedfordva.com/wp-content/uploads/2026/03/Woods-good-and-mercantile-event.jpg
END:VEVENT
BEGIN:VEVENT
DTSTART;TZID=America/New_York:20260307T100000
DTEND;TZID=America/New_York:20260307T160000
DTSTAMP:20260422T092949
CREATED:20260303T192611Z
LAST-MODIFIED:20260303T192611Z
UID:10062492-1772877600-1772899200@destinationbedfordva.com
SUMMARY:First Weekends at Woods Goods & Mercantile
DESCRIPTION:Woods Goods & Mercantile is opening their doors monthly\, and this one is all about welcoming spring with intention\, beauty\, and a little treasure hunting.\nCome shop a carefully curated mix of:\n•  Fresh plants + planters\n•  Antiques & vintage finds\n•  Home decor you won’t find anywhere else\n•  Thoughtful gifts & small artisan goods\nEach monthly opening will happen the first weekend of the month and they will all be different. New inventory\, new finds\, and pieces that won’t be restocked once they’re gone.
URL:https://destinationbedfordva.com/event/first-weekends-at-woods-goods-mercantile/2026-03-07/
LOCATION:Woods Goods & Mercantile\, 2770 W Lynchburg Salem Tpke\, Bedford\, VA\, 24523\, United States
ATTACH;FMTTYPE=image/jpeg:https://destinationbedfordva.com/wp-content/uploads/2026/03/Woods-good-and-mercantile-event.jpg
END:VEVENT
BEGIN:VEVENT
DTSTART;TZID=America/New_York:20260306T100000
DTEND;TZID=America/New_York:20260306T160000
DTSTAMP:20260422T092949
CREATED:20260303T192611Z
LAST-MODIFIED:20260303T192611Z
UID:10062491-1772791200-1772812800@destinationbedfordva.com
SUMMARY:First Weekends at Woods Goods & Mercantile
DESCRIPTION:Woods Goods & Mercantile is opening their doors monthly\, and this one is all about welcoming spring with intention\, beauty\, and a little treasure hunting.\nCome shop a carefully curated mix of:\n•  Fresh plants + planters\n•  Antiques & vintage finds\n•  Home decor you won’t find anywhere else\n•  Thoughtful gifts & small artisan goods\nEach monthly opening will happen the first weekend of the month and they will all be different. New inventory\, new finds\, and pieces that won’t be restocked once they’re gone.
URL:https://destinationbedfordva.com/event/first-weekends-at-woods-goods-mercantile/2026-03-06/
LOCATION:Woods Goods & Mercantile\, 2770 W Lynchburg Salem Tpke\, Bedford\, VA\, 24523\, United States
ATTACH;FMTTYPE=image/jpeg:https://destinationbedfordva.com/wp-content/uploads/2026/03/Woods-good-and-mercantile-event.jpg
END:VEVENT
BEGIN:VEVENT
DTSTART;TZID=America/New_York:20250607T100000
DTEND;TZID=America/New_York:20250607T203000
DTSTAMP:20260422T092949
CREATED:20250605T145424Z
LAST-MODIFIED:20250605T145424Z
UID:10060690-1749290400-1749328200@destinationbedfordva.com
SUMMARY:Woods Goods & Mercantile Curated Clean Out
DESCRIPTION:Enjoy an unforgettable day at Woods Goods & Mercantile! We’re clearing out inventory and bringing in something totally new—with never-before-seen products\, unique furniture pieces\, and a curated selection of local vendors you won’t want to miss.\n What’s Happening:\n Massive SALE on furniture & home goods\n First look at brand new\, gently used & exclusive items\n Handpicked local vendors with one-of-a-kind finds\n Delicious drinks from Brew Initiative coffee truck to fuel your shopping\n Make n Take benefiting CPC (Community Pet Coalition) presented by Paula Darbie\nWhether you’re looking to score deals\, refresh your space\, or just love supporting local—this is the event for you. Bring your friends\, sip some coffee\, and shop the best of what Woods Goods & Mercantile has to offer.\n Tell your friends\, share the event\, and mark your calendar—this is THE sale you’ll regret missing!
URL:https://destinationbedfordva.com/event/woods-goods-mercantile-curated-clean-out/
LOCATION:Woods Goods & Mercantile\, 2770 W Lynchburg Salem Tpke\, Bedford\, VA\, 24523\, United States
ATTACH;FMTTYPE=image/jpeg:https://destinationbedfordva.com/wp-content/uploads/2025/06/woods-goods.jpg
END:VEVENT
BEGIN:VEVENT
DTSTART;TZID=America/New_York:20250209T100000
DTEND;TZID=America/New_York:20250209T160000
DTSTAMP:20260422T092949
CREATED:20250205T165003Z
LAST-MODIFIED:20250205T165003Z
UID:10059271-1739095200-1739116800@destinationbedfordva.com
SUMMARY:Woods Goods & Mercantile Grand Reopening
DESCRIPTION:Enjoy this special Grand Reopening with extended hours!
URL:https://destinationbedfordva.com/event/woods-goods-mercantile-grand-reopening/2025-02-09/
LOCATION:Woods Goods & Mercantile\, 2770 W Lynchburg Salem Tpke\, Bedford\, VA\, 24523\, United States
ATTACH;FMTTYPE=image/jpeg:https://destinationbedfordva.com/wp-content/uploads/2025/02/woods-goods-grand-re-opening.jpg
END:VEVENT
BEGIN:VEVENT
DTSTART;TZID=America/New_York:20250208T100000
DTEND;TZID=America/New_York:20250208T160000
DTSTAMP:20260422T092949
CREATED:20250205T165003Z
LAST-MODIFIED:20250205T165003Z
UID:10059270-1739008800-1739030400@destinationbedfordva.com
SUMMARY:Woods Goods & Mercantile Grand Reopening
DESCRIPTION:Enjoy this special Grand Reopening with extended hours!
URL:https://destinationbedfordva.com/event/woods-goods-mercantile-grand-reopening/2025-02-08/
LOCATION:Woods Goods & Mercantile\, 2770 W Lynchburg Salem Tpke\, Bedford\, VA\, 24523\, United States
ATTACH;FMTTYPE=image/jpeg:https://destinationbedfordva.com/wp-content/uploads/2025/02/woods-goods-grand-re-opening.jpg
END:VEVENT
BEGIN:VEVENT
DTSTART;TZID=America/New_York:20250207T100000
DTEND;TZID=America/New_York:20250207T160000
DTSTAMP:20260422T092949
CREATED:20250205T165003Z
LAST-MODIFIED:20250205T165003Z
UID:10059269-1738922400-1738944000@destinationbedfordva.com
SUMMARY:Woods Goods & Mercantile Grand Reopening
DESCRIPTION:Enjoy this special Grand Reopening with extended hours!
URL:https://destinationbedfordva.com/event/woods-goods-mercantile-grand-reopening/2025-02-07/
LOCATION:Woods Goods & Mercantile\, 2770 W Lynchburg Salem Tpke\, Bedford\, VA\, 24523\, United States
ATTACH;FMTTYPE=image/jpeg:https://destinationbedfordva.com/wp-content/uploads/2025/02/woods-goods-grand-re-opening.jpg
END:VEVENT
BEGIN:VEVENT
DTSTART;TZID=America/New_York:20240713T110000
DTEND;TZID=America/New_York:20240713T160000
DTSTAMP:20260422T092949
CREATED:20240709T164635Z
LAST-MODIFIED:20240709T164635Z
UID:10055599-1720868400-1720886400@destinationbedfordva.com
SUMMARY:Woods Goods & Mercantile Summer Event
DESCRIPTION:Come enjoy a day of shopping\, music\, food trucks\, artisans and vendors for this Christmas in July event and yard sale!!
URL:https://destinationbedfordva.com/event/woods-goods-mercantile-summer-event/
LOCATION:Woods Goods & Mercantile\, 2770 W Lynchburg Salem Tpke\, Bedford\, VA\, 24523\, United States
ATTACH;FMTTYPE=image/jpeg:https://destinationbedfordva.com/wp-content/uploads/2024/07/Woods-good-and-mercantile.jpg
END:VEVENT
BEGIN:VEVENT
DTSTART;TZID=America/New_York:20240302T100000
DTEND;TZID=America/New_York:20240302T130000
DTSTAMP:20260422T092949
CREATED:20240216T213532Z
LAST-MODIFIED:20240216T214423Z
UID:10054332-1709373600-1709384400@destinationbedfordva.com
SUMMARY:Pet Photos with the Easter Bunny
DESCRIPTION:Pet photos with the Easter Bunny $15 each. Children are also welcome 🙂 \nYou will leave with a 5×7 photo in a framed Easter Card and our photographer will email you an enhanced photo that you can print more copies of and share with your friends and family on social media.  \nThe Emmadale Takeout food truck and Goel Coffee food truck will be set up for this event.  Bring your family and friends\, get your photo taken\, enjoy hanging out shopping from local crafters and have lunch and coffee/smoothie together. 
URL:https://destinationbedfordva.com/event/pet-photos-with-the-easter-bunny-2/
LOCATION:Woods Goods & Mercantile\, 2770 W Lynchburg Salem Tpke\, Bedford\, VA\, 24523\, United States
ATTACH;FMTTYPE=image/jpeg:https://destinationbedfordva.com/wp-content/uploads/2024/02/easter-bunny.jpg
END:VEVENT
BEGIN:VEVENT
DTSTART;TZID=America/New_York:20231119T120000
DTEND;TZID=America/New_York:20231119T160000
DTSTAMP:20260422T092949
CREATED:20231116T201307Z
LAST-MODIFIED:20231116T201307Z
UID:10053990-1700395200-1700409600@destinationbedfordva.com
SUMMARY:Christmas at the Mercantile
DESCRIPTION:Celebrate the magic of the season at this “Christmas at the Mercantile” festival! Santa Claus will be making a special appearance\, (thanks to Bedford Humane Society) ready to take pictures with your pets and kiddos! Immerse yourself in the sounds of the season with live music that will set the perfect Yuletide mood. Explore the talents of local artisans and vendors\, offering unique gifts and crafts that make for perfect holiday presents.
URL:https://destinationbedfordva.com/event/christmas-at-the-mercantile/
LOCATION:Woods Goods & Mercantile\, 2770 W Lynchburg Salem Tpke\, Bedford\, VA\, 24523\, United States
ATTACH;FMTTYPE=image/jpeg:https://destinationbedfordva.com/wp-content/uploads/2023/11/Woods-Goods-christmas-market.jpg
END:VEVENT
END:VCALENDAR